BEGIN:VCALENDAR
VERSION:2.0
PRODID:-//ILoveOV.com - ECPv6.11.1//NONSGML v1.0//EN
CALSCALE:GREGORIAN
METHOD:PUBLISH
X-WR-CALNAME:ILoveOV.com
X-ORIGINAL-URL:https://iloveov.com
X-WR-CALDESC:Events for ILoveOV.com
REFRESH-INTERVAL;VALUE=DURATION:PT1H
X-Robots-Tag:noindex
X-PUBLISHED-TTL:PT1H
BEGIN:VTIMEZONE
TZID:America/Phoenix
BEGIN:STANDARD
TZOFFSETFROM:-0700
TZOFFSETTO:-0700
TZNAME:MST
DTSTART:20240101T000000
END:STANDARD
END:VTIMEZONE
BEGIN:VEVENT
DTSTART;TZID=America/Phoenix:20251220T100000
DTEND;TZID=America/Phoenix:20251220T120000
DTSTAMP:20260421T122411
CREATED:20251214T195847Z
LAST-MODIFIED:20251214T195847Z
UID:10003093-1766224800-1766232000@iloveov.com
SUMMARY:Santa Claus is coming to town at Tucson Cactus & Koi
DESCRIPTION:Tucson Cactus and Koi is inviting the community for free pictures with Santa on Saturday\, December 21st. Santa has a packed schedule and will only be available from 10 a.m. to 12 p.m.\, but the elves at Tucson Cactus and Koi are helping to make it a Merry Christmas by offering 20% off everything in the store all day. Don’t miss out on the festive fun! \nTucson Cactus and Koi is located at 7810 N Oracle Rd. On Saturdays\, they are open from 7:30 a.m. to 4 p.m. Their phone is (520) 617-4478\, and their website is tucsoncactusandkoi.com.
URL:https://iloveov.com/oro-valley-event/santa-claus-is-coming-to-town-at-tucson-cactus-koi/
LOCATION:Tucson Koi & Cactus\, 7810 N Oracle Road\, Oro Valley\, AZ\, 85704\, United States
END:VEVENT
BEGIN:VEVENT
DTSTART;TZID=America/Phoenix:20251115T090000
DTEND;TZID=America/Phoenix:20251115T140000
DTSTAMP:20260421T122411
CREATED:20251111T185312Z
LAST-MODIFIED:20251111T185741Z
UID:10002940-1763197200-1763215200@iloveov.com
SUMMARY:Autumn Artison Market
DESCRIPTION:SHOP LOCAL and SUPPORT SMALL BUSINESS! Find perfect holiday gifts for everyone (and a little something for yourself). One-of-a-kind artwork\, jewelry\, candles\, home decor\, and so much more!
URL:https://iloveov.com/oro-valley-event/autumn-artison-market/
LOCATION:Tucson Koi & Cactus\, 7810 N Oracle Road\, Oro Valley\, AZ\, 85704\, United States
CATEGORIES:Community Events
END:VEVENT
BEGIN:VEVENT
DTSTART;TZID=America/Phoenix:20250405T090000
DTEND;TZID=America/Phoenix:20250405T150000
DTSTAMP:20260421T122411
CREATED:20250329T182029Z
LAST-MODIFIED:20250329T182350Z
UID:10002196-1743843600-1743865200@iloveov.com
SUMMARY:Fling into Spring' Art Festival!
DESCRIPTION:We’re excited to highlight the amazing talent of our local artisans! \nStep into a world of creativity—discover everything from stunning handmade jewelry to vibrant desert-inspired paintings. Explore one-of-a-kind treasures\, support local artists\, and enjoy the magic of spring through the art that makes our community shine. \nAdditional parking is available:\n• Just south of the event at Southwest Kitchen & Bath\n• Or to the north in the Panda Express parking lot \nFree Entry\nPlant Sale\nFree Hot Dogs and Refreshment\nPlein Air Painters
URL:https://iloveov.com/oro-valley-event/fling-into-spring-art-festival/
LOCATION:Tucson Koi & Cactus\, 7810 N Oracle Road\, Oro Valley\, AZ\, 85704\, United States
END:VEVENT
BEGIN:VEVENT
DTSTART;TZID=America/Phoenix:20240601T080000
DTEND;TZID=America/Phoenix:20240601T110000
DTSTAMP:20260421T122411
CREATED:20240514T183314Z
LAST-MODIFIED:20240514T183314Z
UID:10001503-1717228800-1717239600@iloveov.com
SUMMARY:Almost Summer - a Chris Grey Event
DESCRIPTION:Tucson Cactus and Koi\, located at 7810 N. Oracle Rd.\, invites you to the “It’s Almost Summer” event\, a free gathering from 8:00 to 11:00 AM featuring local artists\, vendors\, and engaging discussions with Oro Valley’s own author and professional photographer\, Chris Grey. Whether you’re snapping photos with your phone or a camera\, Chris will offer easy-to-follow\, non-technical demonstrations on capturing the perfect shot. Learn to frame your photos\, enhance or reduce drama with simple techniques\, manage challenging daylight\, correctly handle your camera\, and discover Chris’ signature method for impressive shots without looking through the lens or disturbing the garden. \nThe event features three sessions starting at 8:00\, 9:00\, and 10:00 AM\, each followed by an opportunity to stroll through Tucson Cactus and Koi’s stunning gardens either with Chris or on your own\, applying your new skills in real-time. To register\, simply call 520-617-4478 with your preferred time slot. Don’t forget to bring your camera or smartphone\, and get ready to create beautiful\, frame-worthy photographs. \nExplore more of Chris Grey’s exquisite flower photography in the Botanical Gallery at ChristopherGreyFineArt.com.
URL:https://iloveov.com/oro-valley-event/almost-summer-a-chris-grey-event/
LOCATION:Tucson Koi & Cactus\, 7810 N Oracle Road\, Oro Valley\, AZ\, 85704\, United States
END:VEVENT
END:VCALENDAR