BEGIN:VCALENDAR
VERSION:2.0
PRODID:-//ILoveOV.com - ECPv6.11.1//NONSGML v1.0//EN
CALSCALE:GREGORIAN
METHOD:PUBLISH
X-WR-CALNAME:ILoveOV.com
X-ORIGINAL-URL:https://iloveov.com
X-WR-CALDESC:Events for ILoveOV.com
REFRESH-INTERVAL;VALUE=DURATION:PT1H
X-Robots-Tag:noindex
X-PUBLISHED-TTL:PT1H
BEGIN:VTIMEZONE
TZID:America/Phoenix
BEGIN:STANDARD
TZOFFSETFROM:-0700
TZOFFSETTO:-0700
TZNAME:MST
DTSTART:20230101T000000
END:STANDARD
END:VTIMEZONE
BEGIN:VEVENT
DTSTART;TZID=America/Phoenix:20251108T090000
DTEND;TZID=America/Phoenix:20251108T140000
DTSTAMP:20260420T042642
CREATED:20251031T181953Z
LAST-MODIFIED:20251101T090900Z
UID:10002857-1762592400-1762610400@iloveov.com
SUMMARY:Sun City Arts and Crafts Festival 2025
DESCRIPTION:Browse the work of over 70 Sun City residents and craftspeople and enjoy a hot dog lunch with coffee and light items available at the Sun City Bistro. \nFor more details\, check the QR Code below.
URL:https://iloveov.com/oro-valley-event/sun-city-arts-and-crafts-festival-2025/
LOCATION:Sun City Oro Valley\, 1495 E. Rancho Vistoso Blvd\, Oro Valley\, AZ\, United States
CATEGORIES:Community Events
END:VEVENT
BEGIN:VEVENT
DTSTART;TZID=America/Phoenix:20231111T090000
DTEND;TZID=America/Phoenix:20231111T150000
DTSTAMP:20260420T042642
CREATED:20231103T230313Z
LAST-MODIFIED:20231103T230343Z
UID:10001223-1699693200-1699714800@iloveov.com
SUMMARY:Sun City Oro Valley hosts 2023 Arts and Crafts Festival
DESCRIPTION:Join Sun City Oro Valley on Saturday\, November 11th\, from 9 AM to 3 PM in the Activity Center for their 2023 Arts and Crafts Festival\, located at 1495 E. Rancho Vistoso Blvd. There will be over 60 resident artists featuring jewelry\, pottery\, wood\, cards\, glass art\, fine art\, wall hangings\, photography\, walking sticks\, fabrics\, outdoor art\, and more. Many items support Casa Amigas and Seniors for Kids\, organizations directly helping local children. Don’t miss the raffle with over 60 items! \nWhile there\, enjoy a hotdog lunch in the outdoor courtyard provided by Seniors for Kids as a fundraiser for their organization. Coffee and donuts will also be available. Finally\, visit the Gift Shop to see what people are raving about.  You can also donate for Impact Food Bank.  Visit the Sun City website here.
URL:https://iloveov.com/oro-valley-event/sun-city-oro-valley-hosts-2023-arts-and-crafts-festival/
LOCATION:Sun City Oro Valley\, 1495 E. Rancho Vistoso Blvd\, Oro Valley\, AZ\, United States
END:VEVENT
END:VCALENDAR