BEGIN:VCALENDAR
VERSION:2.0
PRODID:-//ILoveOV.com - ECPv6.11.1//NONSGML v1.0//EN
CALSCALE:GREGORIAN
METHOD:PUBLISH
X-WR-CALNAME:ILoveOV.com
X-ORIGINAL-URL:https://iloveov.com
X-WR-CALDESC:Events for ILoveOV.com
REFRESH-INTERVAL;VALUE=DURATION:PT1H
X-Robots-Tag:noindex
X-PUBLISHED-TTL:PT1H
BEGIN:VTIMEZONE
TZID:America/Phoenix
BEGIN:STANDARD
TZOFFSETFROM:-0700
TZOFFSETTO:-0700
TZNAME:MST
DTSTART:20240101T000000
END:STANDARD
END:VTIMEZONE
BEGIN:VEVENT
DTSTART;TZID=America/Phoenix:20250111T080000
DTEND;TZID=America/Phoenix:20250111T120000
DTSTAMP:20260420T013246
CREATED:20221229T165213Z
LAST-MODIFIED:20230822T173557Z
UID:10000850-1736582400-1736596800@iloveov.com
SUMMARY:Heirloom Farmers Market
DESCRIPTION:The Oro Valley Farmers Market sets up every Saturday morning at Steam Pump Ranch\, nestled at the base of the Catalina Mountains’ Pusch Ridge along the Northwest Oracle Road corridor. \nSee Heirloom Farmers Market for more details.
URL:https://iloveov.com/oro-valley-event/heirloom-farmers-market/2025-01-11/
LOCATION:Steam Pump Ranch\, 10901 N Oracle Road\, Oro Valley\, AZ\, 85737\, United States
END:VEVENT
BEGIN:VEVENT
DTSTART;TZID=America/Phoenix:20250104T080000
DTEND;TZID=America/Phoenix:20250104T120000
DTSTAMP:20260420T013246
CREATED:20221229T165213Z
LAST-MODIFIED:20230822T173557Z
UID:10000849-1735977600-1735992000@iloveov.com
SUMMARY:Heirloom Farmers Market
DESCRIPTION:The Oro Valley Farmers Market sets up every Saturday morning at Steam Pump Ranch\, nestled at the base of the Catalina Mountains’ Pusch Ridge along the Northwest Oracle Road corridor. \nSee Heirloom Farmers Market for more details.
URL:https://iloveov.com/oro-valley-event/heirloom-farmers-market/2025-01-04/
LOCATION:Steam Pump Ranch\, 10901 N Oracle Road\, Oro Valley\, AZ\, 85737\, United States
END:VEVENT
BEGIN:VEVENT
DTSTART;TZID=America/Phoenix:20250103T090000
DTEND;TZID=America/Phoenix:20250103T160000
DTSTAMP:20260420T013246
CREATED:20241120T195353Z
LAST-MODIFIED:20241120T195353Z
UID:10001883-1735894800-1735920000@iloveov.com
SUMMARY:Winter Break Camp
DESCRIPTION:Winter Fun in the Desert! A 4-Day Holiday Adventure \nDecember 30-31\, 2024\, at Oro Valley Community Center \n\nGames\, arts & crafts\, and pickleball (Closed January 1 for New Year’s Day)\n\nJanuary 2-3\, 2025\, at Steam Pump Ranch \n\nWinter-themed Nature and STEAM Camp activities including:\nSTEM experiments about winter weather\nIce cube tie-dye\nFake snowball fights\nDesert winter bird education\nAnd more!\n\nRegister here
URL:https://iloveov.com/oro-valley-event/winter-break-camp/2025-01-03/
LOCATION:Community & Recreation Center\, 10555 N La Canada Dr.\, Oro Valley\, AZ\, 85737\, United States
CATEGORIES:Oro Valley Parks & Recreation
END:VEVENT
BEGIN:VEVENT
DTSTART;TZID=America/Phoenix:20250102T090000
DTEND;TZID=America/Phoenix:20250102T160000
DTSTAMP:20260420T013246
CREATED:20241120T195353Z
LAST-MODIFIED:20241120T195353Z
UID:10001882-1735808400-1735833600@iloveov.com
SUMMARY:Winter Break Camp
DESCRIPTION:Winter Fun in the Desert! A 4-Day Holiday Adventure \nDecember 30-31\, 2024\, at Oro Valley Community Center \n\nGames\, arts & crafts\, and pickleball (Closed January 1 for New Year’s Day)\n\nJanuary 2-3\, 2025\, at Steam Pump Ranch \n\nWinter-themed Nature and STEAM Camp activities including:\nSTEM experiments about winter weather\nIce cube tie-dye\nFake snowball fights\nDesert winter bird education\nAnd more!\n\nRegister here
URL:https://iloveov.com/oro-valley-event/winter-break-camp/2025-01-02/
LOCATION:Community & Recreation Center\, 10555 N La Canada Dr.\, Oro Valley\, AZ\, 85737\, United States
CATEGORIES:Oro Valley Parks & Recreation
END:VEVENT
BEGIN:VEVENT
DTSTART;TZID=America/Phoenix:20250101T112500
DTEND;TZID=America/Phoenix:20250101T150000
DTSTAMP:20260420T013246
CREATED:20241101T165928Z
LAST-MODIFIED:20241101T170046Z
UID:10001854-1735730700-1735743600@iloveov.com
SUMMARY:Hot Cocoa 5K
DESCRIPTION:Kick Off Your New Year at the 11th Annual Steam Pump Ranch Fun Run!\nStart your New Year’s resolutions on the right foot with this beloved community event! The scenic course follows the multi-use path\, beginning at the historic Steam Pump Ranch.\nAll Fitness Levels Welcome:\nRunners\nWalkers\nFamilies with strollers \nPost-Race Refreshments:\nHot cocoa\nSnacks\nWater \nRegistration Links: \nGeneral Registration: Register\nYouth (12 and under): Register \nJoin your neighbors for this festive tradition and begin your year with an active\, healthy start!
URL:https://iloveov.com/oro-valley-event/hot-cocoa-5k/
LOCATION:Steam Pump Ranch\, 10901 N Oracle Road\, Oro Valley\, AZ\, 85737\, United States
CATEGORIES:Community Events,Oro Valley Parks & Recreation
END:VEVENT
BEGIN:VEVENT
DTSTART;TZID=America/Phoenix:20241231T090000
DTEND;TZID=America/Phoenix:20241231T160000
DTSTAMP:20260420T013246
CREATED:20241120T195353Z
LAST-MODIFIED:20241120T195353Z
UID:10001881-1735635600-1735660800@iloveov.com
SUMMARY:Winter Break Camp
DESCRIPTION:Winter Fun in the Desert! A 4-Day Holiday Adventure \nDecember 30-31\, 2024\, at Oro Valley Community Center \n\nGames\, arts & crafts\, and pickleball (Closed January 1 for New Year’s Day)\n\nJanuary 2-3\, 2025\, at Steam Pump Ranch \n\nWinter-themed Nature and STEAM Camp activities including:\nSTEM experiments about winter weather\nIce cube tie-dye\nFake snowball fights\nDesert winter bird education\nAnd more!\n\nRegister here
URL:https://iloveov.com/oro-valley-event/winter-break-camp/2024-12-31/
LOCATION:Community & Recreation Center\, 10555 N La Canada Dr.\, Oro Valley\, AZ\, 85737\, United States
CATEGORIES:Oro Valley Parks & Recreation
END:VEVENT
BEGIN:VEVENT
DTSTART;TZID=America/Phoenix:20241230T090000
DTEND;TZID=America/Phoenix:20241230T160000
DTSTAMP:20260420T013246
CREATED:20241120T195353Z
LAST-MODIFIED:20241120T195353Z
UID:10001880-1735549200-1735574400@iloveov.com
SUMMARY:Winter Break Camp
DESCRIPTION:Winter Fun in the Desert! A 4-Day Holiday Adventure \nDecember 30-31\, 2024\, at Oro Valley Community Center \n\nGames\, arts & crafts\, and pickleball (Closed January 1 for New Year’s Day)\n\nJanuary 2-3\, 2025\, at Steam Pump Ranch \n\nWinter-themed Nature and STEAM Camp activities including:\nSTEM experiments about winter weather\nIce cube tie-dye\nFake snowball fights\nDesert winter bird education\nAnd more!\n\nRegister here
URL:https://iloveov.com/oro-valley-event/winter-break-camp/2024-12-30/
LOCATION:Community & Recreation Center\, 10555 N La Canada Dr.\, Oro Valley\, AZ\, 85737\, United States
CATEGORIES:Oro Valley Parks & Recreation
END:VEVENT
BEGIN:VEVENT
DTSTART;TZID=America/Phoenix:20241228T090000
DTEND;TZID=America/Phoenix:20241228T120000
DTSTAMP:20260420T013246
CREATED:20241118T215138Z
LAST-MODIFIED:20241118T224157Z
UID:10001874-1735376400-1735387200@iloveov.com
SUMMARY:Exhibit at the Pusch House Museum - Decking the Halls with Many Traditions
DESCRIPTION:This exhibit every Saturday from 9 a.m. – noon at historic Steam Pump Ranch will highlight diverse cultural traditions from Southern Arizona\, Mexico\, Germany (where George Pusch was born)\, and beyond.  This will be a festive and educational experience for all ages and a perfect way to enjoy the holiday spirit!   \nVolunteers of the Oro Valley Historical Society will be on hand to provide information and answer questions.  Tours of the Museum are complimentary\, and donations are gladly accepted.
URL:https://iloveov.com/oro-valley-event/exhibit-at-the-pusch-house-museum-decking-the-halls-with-many-traditions/2024-12-28/
LOCATION:Steam Pump Ranch\, 10901 N Oracle Road\, Oro Valley\, AZ\, 85737\, United States
CATEGORIES:Oro Valley Historical Society
END:VEVENT
BEGIN:VEVENT
DTSTART;TZID=America/Phoenix:20241228T080000
DTEND;TZID=America/Phoenix:20241228T120000
DTSTAMP:20260420T013246
CREATED:20221229T165213Z
LAST-MODIFIED:20230822T173557Z
UID:10000848-1735372800-1735387200@iloveov.com
SUMMARY:Heirloom Farmers Market
DESCRIPTION:The Oro Valley Farmers Market sets up every Saturday morning at Steam Pump Ranch\, nestled at the base of the Catalina Mountains’ Pusch Ridge along the Northwest Oracle Road corridor. \nSee Heirloom Farmers Market for more details.
URL:https://iloveov.com/oro-valley-event/heirloom-farmers-market/2024-12-28/
LOCATION:Steam Pump Ranch\, 10901 N Oracle Road\, Oro Valley\, AZ\, 85737\, United States
END:VEVENT
BEGIN:VEVENT
DTSTART;TZID=America/Phoenix:20241221T090000
DTEND;TZID=America/Phoenix:20241221T120000
DTSTAMP:20260420T013246
CREATED:20241118T215138Z
LAST-MODIFIED:20241118T224157Z
UID:10001873-1734771600-1734782400@iloveov.com
SUMMARY:Exhibit at the Pusch House Museum - Decking the Halls with Many Traditions
DESCRIPTION:This exhibit every Saturday from 9 a.m. – noon at historic Steam Pump Ranch will highlight diverse cultural traditions from Southern Arizona\, Mexico\, Germany (where George Pusch was born)\, and beyond.  This will be a festive and educational experience for all ages and a perfect way to enjoy the holiday spirit!   \nVolunteers of the Oro Valley Historical Society will be on hand to provide information and answer questions.  Tours of the Museum are complimentary\, and donations are gladly accepted.
URL:https://iloveov.com/oro-valley-event/exhibit-at-the-pusch-house-museum-decking-the-halls-with-many-traditions/2024-12-21/
LOCATION:Steam Pump Ranch\, 10901 N Oracle Road\, Oro Valley\, AZ\, 85737\, United States
CATEGORIES:Oro Valley Historical Society
END:VEVENT
BEGIN:VEVENT
DTSTART;TZID=America/Phoenix:20241221T080000
DTEND;TZID=America/Phoenix:20241221T120000
DTSTAMP:20260420T013246
CREATED:20221229T165213Z
LAST-MODIFIED:20230822T173557Z
UID:10000847-1734768000-1734782400@iloveov.com
SUMMARY:Heirloom Farmers Market
DESCRIPTION:The Oro Valley Farmers Market sets up every Saturday morning at Steam Pump Ranch\, nestled at the base of the Catalina Mountains’ Pusch Ridge along the Northwest Oracle Road corridor. \nSee Heirloom Farmers Market for more details.
URL:https://iloveov.com/oro-valley-event/heirloom-farmers-market/2024-12-21/
LOCATION:Steam Pump Ranch\, 10901 N Oracle Road\, Oro Valley\, AZ\, 85737\, United States
END:VEVENT
BEGIN:VEVENT
DTSTART;TZID=America/Phoenix:20241214T090000
DTEND;TZID=America/Phoenix:20241214T130000
DTSTAMP:20260420T013246
CREATED:20241201T175614Z
LAST-MODIFIED:20241201T175615Z
UID:10001938-1734166800-1734181200@iloveov.com
SUMMARY:Second Saturday at Steam Pump Ranch
DESCRIPTION:Join us for Second Saturdays at Steam Pump Ranch\, a cherished community tradition running monthly from October through April. These lively gatherings blend history\, culture\, and local commerce\, featuring: Experience guided tours of the historic property\, watch fascinating prehistoric demonstrations\, and browse both the Oro Valley Farmers Market and the Makers Market\, where local artisans showcase their handcrafted goods. Children can enjoy special craft activities throughout the event. \nSpecial announcement for November and December: The Oro Valley Children’s Museum will join forces with the Parks & Recreation department\, offering expanded activities for young visitors at their combined booth locations. \nVendors interested in participating can find more information and application details on our website.
URL:https://iloveov.com/oro-valley-event/second-saturday-at-steam-pump-ranch-2/
LOCATION:Steam Pump Ranch\, 10901 N Oracle Road\, Oro Valley\, AZ\, 85737\, United States
CATEGORIES:Oro Valley Parks & Recreation
END:VEVENT
BEGIN:VEVENT
DTSTART;TZID=America/Phoenix:20241214T090000
DTEND;TZID=America/Phoenix:20241214T120000
DTSTAMP:20260420T013246
CREATED:20241118T215138Z
LAST-MODIFIED:20241118T224157Z
UID:10001872-1734166800-1734177600@iloveov.com
SUMMARY:Exhibit at the Pusch House Museum - Decking the Halls with Many Traditions
DESCRIPTION:This exhibit every Saturday from 9 a.m. – noon at historic Steam Pump Ranch will highlight diverse cultural traditions from Southern Arizona\, Mexico\, Germany (where George Pusch was born)\, and beyond.  This will be a festive and educational experience for all ages and a perfect way to enjoy the holiday spirit!   \nVolunteers of the Oro Valley Historical Society will be on hand to provide information and answer questions.  Tours of the Museum are complimentary\, and donations are gladly accepted.
URL:https://iloveov.com/oro-valley-event/exhibit-at-the-pusch-house-museum-decking-the-halls-with-many-traditions/2024-12-14/
LOCATION:Steam Pump Ranch\, 10901 N Oracle Road\, Oro Valley\, AZ\, 85737\, United States
CATEGORIES:Oro Valley Historical Society
END:VEVENT
BEGIN:VEVENT
DTSTART;TZID=America/Phoenix:20241214T080000
DTEND;TZID=America/Phoenix:20241214T120000
DTSTAMP:20260420T013246
CREATED:20221229T165213Z
LAST-MODIFIED:20230822T173557Z
UID:10000846-1734163200-1734177600@iloveov.com
SUMMARY:Heirloom Farmers Market
DESCRIPTION:The Oro Valley Farmers Market sets up every Saturday morning at Steam Pump Ranch\, nestled at the base of the Catalina Mountains’ Pusch Ridge along the Northwest Oracle Road corridor. \nSee Heirloom Farmers Market for more details.
URL:https://iloveov.com/oro-valley-event/heirloom-farmers-market/2024-12-14/
LOCATION:Steam Pump Ranch\, 10901 N Oracle Road\, Oro Valley\, AZ\, 85737\, United States
END:VEVENT
BEGIN:VEVENT
DTSTART;TZID=America/Phoenix:20241213T180000
DTEND;TZID=America/Phoenix:20241213T220000
DTSTAMP:20260420T013246
CREATED:20241201T175102Z
LAST-MODIFIED:20241201T175102Z
UID:10001937-1734112800-1734127200@iloveov.com
SUMMARY:Parents Night Out --  Holiday Prep Edition!
DESCRIPTION:Give yourself a holiday break with our Kids’ Night Out at Steam Pump Ranch! While you enjoy some well-deserved free time or tackle your holiday shopping\, your children (ages 5-12) will have a magical evening filled with: \nHoliday movie screening\nFestive games\nCreative craft activities\nPizza dinner and snacks \nRegistration is now open for this fun-filled evening. Visit our website to secure your child’s spot. Let us handle the entertainment while you enjoy some time to yourself this holiday season! \nClick Here for Registration.
URL:https://iloveov.com/oro-valley-event/parents-night-out-holiday-prep-edition/
LOCATION:Steam Pump Ranch\, 10901 N Oracle Road\, Oro Valley\, AZ\, 85737\, United States
CATEGORIES:Community Events,Oro Valley Parks & Recreation,Town Events
END:VEVENT
BEGIN:VEVENT
DTSTART;TZID=America/Phoenix:20241207T090000
DTEND;TZID=America/Phoenix:20241207T120000
DTSTAMP:20260420T013246
CREATED:20241118T215138Z
LAST-MODIFIED:20241118T224157Z
UID:10001871-1733562000-1733572800@iloveov.com
SUMMARY:Exhibit at the Pusch House Museum - Decking the Halls with Many Traditions
DESCRIPTION:This exhibit every Saturday from 9 a.m. – noon at historic Steam Pump Ranch will highlight diverse cultural traditions from Southern Arizona\, Mexico\, Germany (where George Pusch was born)\, and beyond.  This will be a festive and educational experience for all ages and a perfect way to enjoy the holiday spirit!   \nVolunteers of the Oro Valley Historical Society will be on hand to provide information and answer questions.  Tours of the Museum are complimentary\, and donations are gladly accepted.
URL:https://iloveov.com/oro-valley-event/exhibit-at-the-pusch-house-museum-decking-the-halls-with-many-traditions/2024-12-07/
LOCATION:Steam Pump Ranch\, 10901 N Oracle Road\, Oro Valley\, AZ\, 85737\, United States
CATEGORIES:Oro Valley Historical Society
END:VEVENT
BEGIN:VEVENT
DTSTART;TZID=America/Phoenix:20241207T080000
DTEND;TZID=America/Phoenix:20241207T120000
DTSTAMP:20260420T013246
CREATED:20221229T165213Z
LAST-MODIFIED:20230822T173557Z
UID:10000845-1733558400-1733572800@iloveov.com
SUMMARY:Heirloom Farmers Market
DESCRIPTION:The Oro Valley Farmers Market sets up every Saturday morning at Steam Pump Ranch\, nestled at the base of the Catalina Mountains’ Pusch Ridge along the Northwest Oracle Road corridor. \nSee Heirloom Farmers Market for more details.
URL:https://iloveov.com/oro-valley-event/heirloom-farmers-market/2024-12-07/
LOCATION:Steam Pump Ranch\, 10901 N Oracle Road\, Oro Valley\, AZ\, 85737\, United States
END:VEVENT
BEGIN:VEVENT
DTSTART;TZID=America/Phoenix:20241130T080000
DTEND;TZID=America/Phoenix:20241130T120000
DTSTAMP:20260420T013246
CREATED:20221229T165213Z
LAST-MODIFIED:20230822T173557Z
UID:10000844-1732953600-1732968000@iloveov.com
SUMMARY:Heirloom Farmers Market
DESCRIPTION:The Oro Valley Farmers Market sets up every Saturday morning at Steam Pump Ranch\, nestled at the base of the Catalina Mountains’ Pusch Ridge along the Northwest Oracle Road corridor. \nSee Heirloom Farmers Market for more details.
URL:https://iloveov.com/oro-valley-event/heirloom-farmers-market/2024-11-30/
LOCATION:Steam Pump Ranch\, 10901 N Oracle Road\, Oro Valley\, AZ\, 85737\, United States
END:VEVENT
BEGIN:VEVENT
DTSTART;TZID=America/Phoenix:20241123T090000
DTEND;TZID=America/Phoenix:20241123T120000
DTSTAMP:20260420T013246
CREATED:20240813T170341Z
LAST-MODIFIED:20240814T172256Z
UID:10001671-1732352400-1732363200@iloveov.com
SUMMARY:A Salute to the Military - Recognizing Military Service both past and present
DESCRIPTION:Join the Oro Valley Historical Society as we change our exhibit to feature A Salute to the Military – Recognizing Military Service both past and present.   The exhibit will be in the Pusch House Museum at  historic Steam Pump Ranch\, and are complimentary. Donations are gladly accepted. \nEven though you might have missed seeing the actual Jim Click Raffle First Place Prize of the 2024 Jeep Wrangler Rubicon 4xe Plug-in Hybrid (MSRP starting at $61\,180) at Steam Pump Ranch on October 12\, you can still buy a ticket from Oro Valley Historical Society!  Don’t miss out on winning this great prize AND supporting the Society!
URL:https://iloveov.com/oro-valley-event/a-salute-to-the-military-recognizing-military-service-both-past-and-present/2024-11-23/
LOCATION:Steam Pump Ranch\, 10901 N Oracle Road\, Oro Valley\, AZ\, 85737\, United States
CATEGORIES:Oro Valley Historical Society
END:VEVENT
BEGIN:VEVENT
DTSTART;TZID=America/Phoenix:20241123T080000
DTEND;TZID=America/Phoenix:20241123T120000
DTSTAMP:20260420T013246
CREATED:20221229T165213Z
LAST-MODIFIED:20230822T173557Z
UID:10000843-1732348800-1732363200@iloveov.com
SUMMARY:Heirloom Farmers Market
DESCRIPTION:The Oro Valley Farmers Market sets up every Saturday morning at Steam Pump Ranch\, nestled at the base of the Catalina Mountains’ Pusch Ridge along the Northwest Oracle Road corridor. \nSee Heirloom Farmers Market for more details.
URL:https://iloveov.com/oro-valley-event/heirloom-farmers-market/2024-11-23/
LOCATION:Steam Pump Ranch\, 10901 N Oracle Road\, Oro Valley\, AZ\, 85737\, United States
END:VEVENT
BEGIN:VEVENT
DTSTART;TZID=America/Phoenix:20241116T160000
DTEND;TZID=America/Phoenix:20241117T100000
DTSTAMP:20260420T013246
CREATED:20241011T200513Z
LAST-MODIFIED:20241011T214526Z
UID:10001796-1731772800-1731837600@iloveov.com
SUMMARY:Family Camping at the Ranch
DESCRIPTION:Family Camping Night at Steam Pump Ranch \nExperience the joy of camping close to home! Perfect for both seasoned outdoor enthusiasts and first-time campers. \nWhat to Expect: \n\nLearn essential camping skills from experts\nEnjoy a hotdog dinner grilled by our staff\nMake s’mores for dessert\nWatch “Bee Movie” on our large inflatable screen\nWake up to an all-you-can-eat pancake breakfast\n\nImportant Notes: \n\nRegistration covers one family\nAt least one family member must be 18+ and present\nAll camping equipment provided\n\nDon’t Miss Out: [Click here to register] \nBring your family for a night of outdoor fun\, delicious food\, and unforgettable memories!
URL:https://iloveov.com/oro-valley-event/family-camping-at-the-ranch/
LOCATION:Steam Pump Ranch\, 10901 N Oracle Road\, Oro Valley\, AZ\, 85737\, United States
CATEGORIES:Community Events
END:VEVENT
BEGIN:VEVENT
DTSTART;TZID=America/Phoenix:20241116T090000
DTEND;TZID=America/Phoenix:20241116T120000
DTSTAMP:20260420T013246
CREATED:20240813T170341Z
LAST-MODIFIED:20240814T172256Z
UID:10001670-1731747600-1731758400@iloveov.com
SUMMARY:A Salute to the Military - Recognizing Military Service both past and present
DESCRIPTION:Join the Oro Valley Historical Society as we change our exhibit to feature A Salute to the Military – Recognizing Military Service both past and present.   The exhibit will be in the Pusch House Museum at  historic Steam Pump Ranch\, and are complimentary. Donations are gladly accepted. \nEven though you might have missed seeing the actual Jim Click Raffle First Place Prize of the 2024 Jeep Wrangler Rubicon 4xe Plug-in Hybrid (MSRP starting at $61\,180) at Steam Pump Ranch on October 12\, you can still buy a ticket from Oro Valley Historical Society!  Don’t miss out on winning this great prize AND supporting the Society!
URL:https://iloveov.com/oro-valley-event/a-salute-to-the-military-recognizing-military-service-both-past-and-present/2024-11-16/
LOCATION:Steam Pump Ranch\, 10901 N Oracle Road\, Oro Valley\, AZ\, 85737\, United States
CATEGORIES:Oro Valley Historical Society
END:VEVENT
BEGIN:VEVENT
DTSTART;TZID=America/Phoenix:20241116T080000
DTEND;TZID=America/Phoenix:20241116T120000
DTSTAMP:20260420T013246
CREATED:20221229T165213Z
LAST-MODIFIED:20230822T173557Z
UID:10000842-1731744000-1731758400@iloveov.com
SUMMARY:Heirloom Farmers Market
DESCRIPTION:The Oro Valley Farmers Market sets up every Saturday morning at Steam Pump Ranch\, nestled at the base of the Catalina Mountains’ Pusch Ridge along the Northwest Oracle Road corridor. \nSee Heirloom Farmers Market for more details.
URL:https://iloveov.com/oro-valley-event/heirloom-farmers-market/2024-11-16/
LOCATION:Steam Pump Ranch\, 10901 N Oracle Road\, Oro Valley\, AZ\, 85737\, United States
END:VEVENT
BEGIN:VEVENT
DTSTART;TZID=America/Phoenix:20241109T090000
DTEND;TZID=America/Phoenix:20241109T120000
DTSTAMP:20260420T013246
CREATED:20240813T170341Z
LAST-MODIFIED:20240814T172256Z
UID:10001669-1731142800-1731153600@iloveov.com
SUMMARY:A Salute to the Military - Recognizing Military Service both past and present
DESCRIPTION:Join the Oro Valley Historical Society as we change our exhibit to feature A Salute to the Military – Recognizing Military Service both past and present.   The exhibit will be in the Pusch House Museum at  historic Steam Pump Ranch\, and are complimentary. Donations are gladly accepted. \nEven though you might have missed seeing the actual Jim Click Raffle First Place Prize of the 2024 Jeep Wrangler Rubicon 4xe Plug-in Hybrid (MSRP starting at $61\,180) at Steam Pump Ranch on October 12\, you can still buy a ticket from Oro Valley Historical Society!  Don’t miss out on winning this great prize AND supporting the Society!
URL:https://iloveov.com/oro-valley-event/a-salute-to-the-military-recognizing-military-service-both-past-and-present/2024-11-09/
LOCATION:Steam Pump Ranch\, 10901 N Oracle Road\, Oro Valley\, AZ\, 85737\, United States
CATEGORIES:Oro Valley Historical Society
END:VEVENT
BEGIN:VEVENT
DTSTART;TZID=America/Phoenix:20241109T080000
DTEND;TZID=America/Phoenix:20241109T120000
DTSTAMP:20260420T013246
CREATED:20221229T165213Z
LAST-MODIFIED:20230822T173557Z
UID:10000841-1731139200-1731153600@iloveov.com
SUMMARY:Heirloom Farmers Market
DESCRIPTION:The Oro Valley Farmers Market sets up every Saturday morning at Steam Pump Ranch\, nestled at the base of the Catalina Mountains’ Pusch Ridge along the Northwest Oracle Road corridor. \nSee Heirloom Farmers Market for more details.
URL:https://iloveov.com/oro-valley-event/heirloom-farmers-market/2024-11-09/
LOCATION:Steam Pump Ranch\, 10901 N Oracle Road\, Oro Valley\, AZ\, 85737\, United States
END:VEVENT
BEGIN:VEVENT
DTSTART;TZID=America/Phoenix:20241102T090000
DTEND;TZID=America/Phoenix:20241102T120000
DTSTAMP:20260420T013246
CREATED:20240813T170341Z
LAST-MODIFIED:20240814T172256Z
UID:10001668-1730538000-1730548800@iloveov.com
SUMMARY:A Salute to the Military - Recognizing Military Service both past and present
DESCRIPTION:Join the Oro Valley Historical Society as we change our exhibit to feature A Salute to the Military – Recognizing Military Service both past and present.   The exhibit will be in the Pusch House Museum at  historic Steam Pump Ranch\, and are complimentary. Donations are gladly accepted. \nEven though you might have missed seeing the actual Jim Click Raffle First Place Prize of the 2024 Jeep Wrangler Rubicon 4xe Plug-in Hybrid (MSRP starting at $61\,180) at Steam Pump Ranch on October 12\, you can still buy a ticket from Oro Valley Historical Society!  Don’t miss out on winning this great prize AND supporting the Society!
URL:https://iloveov.com/oro-valley-event/a-salute-to-the-military-recognizing-military-service-both-past-and-present/2024-11-02/
LOCATION:Steam Pump Ranch\, 10901 N Oracle Road\, Oro Valley\, AZ\, 85737\, United States
CATEGORIES:Oro Valley Historical Society
END:VEVENT
BEGIN:VEVENT
DTSTART;TZID=America/Phoenix:20241102T080000
DTEND;TZID=America/Phoenix:20241102T120000
DTSTAMP:20260420T013246
CREATED:20221229T165213Z
LAST-MODIFIED:20230822T173557Z
UID:10000840-1730534400-1730548800@iloveov.com
SUMMARY:Heirloom Farmers Market
DESCRIPTION:The Oro Valley Farmers Market sets up every Saturday morning at Steam Pump Ranch\, nestled at the base of the Catalina Mountains’ Pusch Ridge along the Northwest Oracle Road corridor. \nSee Heirloom Farmers Market for more details.
URL:https://iloveov.com/oro-valley-event/heirloom-farmers-market/2024-11-02/
LOCATION:Steam Pump Ranch\, 10901 N Oracle Road\, Oro Valley\, AZ\, 85737\, United States
END:VEVENT
BEGIN:VEVENT
DTSTART;TZID=America/Phoenix:20241101T180000
DTEND;TZID=America/Phoenix:20241101T203000
DTSTAMP:20260420T013246
CREATED:20241101T164800Z
LAST-MODIFIED:20241101T164801Z
UID:10001852-1730484000-1730493000@iloveov.com
SUMMARY:Friday Night Concert
DESCRIPTION:Summer Nights at Steam Pump Ranch: Live Music Under the Stars\nJoin us for an enchanting evening of live music on the historic grounds of Steam Pump Ranch! Local rising stars Garrett James and the Wanderers will fill the air with their dynamic rock performances while you relax on the lawn.\nWhat to Bring: \nYour favorite lawn chair or blanket\nPicnic dinner or snacks (outside food is welcome) \nFood trucks will be on-site offering a variety of dining options.\nPlease Note: No outside alcohol is permitted\, and alcohol will not be available for purchase at the event.\nDon’t miss this perfect opportunity to enjoy warm summer breezes\, great music\, and community spirit at one of Oro Valley’s most cherished historic venues.
URL:https://iloveov.com/oro-valley-event/friday-night-concert/
LOCATION:Steam Pump Ranch\, 10901 N Oracle Road\, Oro Valley\, AZ\, 85737\, United States
CATEGORIES:Live Music,Oro Valley Parks & Recreation
END:VEVENT
BEGIN:VEVENT
DTSTART;TZID=America/Phoenix:20241026T090000
DTEND;TZID=America/Phoenix:20241026T120000
DTSTAMP:20260420T013246
CREATED:20240813T170341Z
LAST-MODIFIED:20240814T172256Z
UID:10001667-1729933200-1729944000@iloveov.com
SUMMARY:A Salute to the Military - Recognizing Military Service both past and present
DESCRIPTION:Join the Oro Valley Historical Society as we change our exhibit to feature A Salute to the Military – Recognizing Military Service both past and present.   The exhibit will be in the Pusch House Museum at  historic Steam Pump Ranch\, and are complimentary. Donations are gladly accepted. \nEven though you might have missed seeing the actual Jim Click Raffle First Place Prize of the 2024 Jeep Wrangler Rubicon 4xe Plug-in Hybrid (MSRP starting at $61\,180) at Steam Pump Ranch on October 12\, you can still buy a ticket from Oro Valley Historical Society!  Don’t miss out on winning this great prize AND supporting the Society!
URL:https://iloveov.com/oro-valley-event/a-salute-to-the-military-recognizing-military-service-both-past-and-present/2024-10-26/
LOCATION:Steam Pump Ranch\, 10901 N Oracle Road\, Oro Valley\, AZ\, 85737\, United States
CATEGORIES:Oro Valley Historical Society
END:VEVENT
BEGIN:VEVENT
DTSTART;TZID=America/Phoenix:20241026T080000
DTEND;TZID=America/Phoenix:20241026T120000
DTSTAMP:20260420T013246
CREATED:20221229T165213Z
LAST-MODIFIED:20230822T173557Z
UID:10000839-1729929600-1729944000@iloveov.com
SUMMARY:Heirloom Farmers Market
DESCRIPTION:The Oro Valley Farmers Market sets up every Saturday morning at Steam Pump Ranch\, nestled at the base of the Catalina Mountains’ Pusch Ridge along the Northwest Oracle Road corridor. \nSee Heirloom Farmers Market for more details.
URL:https://iloveov.com/oro-valley-event/heirloom-farmers-market/2024-10-26/
LOCATION:Steam Pump Ranch\, 10901 N Oracle Road\, Oro Valley\, AZ\, 85737\, United States
END:VEVENT
END:VCALENDAR