BEGIN:VCALENDAR
VERSION:2.0
PRODID:-//ILoveOV.com - ECPv6.11.1//NONSGML v1.0//EN
CALSCALE:GREGORIAN
METHOD:PUBLISH
X-ORIGINAL-URL:https://iloveov.com
X-WR-CALDESC:Events for ILoveOV.com
REFRESH-INTERVAL;VALUE=DURATION:PT1H
X-Robots-Tag:noindex
X-PUBLISHED-TTL:PT1H
BEGIN:VTIMEZONE
TZID:America/Phoenix
BEGIN:STANDARD
TZOFFSETFROM:-0700
TZOFFSETTO:-0700
TZNAME:MST
DTSTART:20230101T000000
END:STANDARD
END:VTIMEZONE
BEGIN:VEVENT
DTSTART;TZID=America/Phoenix:20231118T080000
DTEND;TZID=America/Phoenix:20231118T120000
DTSTAMP:20260420T102205
CREATED:20221229T165213Z
LAST-MODIFIED:20230822T173557Z
UID:10000790-1700294400-1700308800@iloveov.com
SUMMARY:Heirloom Farmers Market
DESCRIPTION:The Oro Valley Farmers Market sets up every Saturday morning at Steam Pump Ranch\, nestled at the base of the Catalina Mountains’ Pusch Ridge along the Northwest Oracle Road corridor. \nSee Heirloom Farmers Market for more details.
URL:https://iloveov.com/oro-valley-event/heirloom-farmers-market/2023-11-18/
LOCATION:Steam Pump Ranch\, 10901 N Oracle Road\, Oro Valley\, AZ\, 85737\, United States
END:VEVENT
BEGIN:VEVENT
DTSTART;TZID=America/Phoenix:20231111T090000
DTEND;TZID=America/Phoenix:20231111T130000
DTSTAMP:20260420T102205
CREATED:20230922T205847Z
LAST-MODIFIED:20230922T205847Z
UID:10001184-1699693200-1699707600@iloveov.com
SUMMARY:Second Saturdays at Steam Pump Ranch
DESCRIPTION:Second Saturdays occur on the second Saturday of each month from October through April. Hours are 9am to 1pm October through March. Hours are 8am to 12pm\, April 13\, 2024\, for the town birthday event\, Celebrate OV! \nAll Second Saturday activities are free\, but you should bring shopping money for the markets and food vendors! \nSpecial offerings through our Community Partners are: \n\nTours of the historic Pusch House Museum and Steam Pump Ranch led by members of the Oro Valley Historical Society\nPrehistoric demonstrations and activities led by Archaeology Southwest in the ranch’s Heritage Garden\nOro Valley Farmers Market part of the Heirloom Farmers Markets in the Ramada area\n\nSpecial offerings by the Parks and Recreation Department are: \n\nThe Makers Market  featuring arts and crafts from community creatives\nKids’ Crafts and Activities facilitated by Parks and Rec Staff in the restored Garage building or in the Heritage Garden\n\nArtists and Makers who are interested in becoming part of the Makers Market\, please visit this page to learn more and complete an application!
URL:https://iloveov.com/oro-valley-event/second-saturdays-at-steam-pump-ranch-2/2023-11-11/
LOCATION:Steam Pump Ranch\, 10901 N Oracle Road\, Oro Valley\, AZ\, 85737\, United States
END:VEVENT
BEGIN:VEVENT
DTSTART;TZID=America/Phoenix:20231111T090000
DTEND;TZID=America/Phoenix:20231111T120000
DTSTAMP:20260420T102205
CREATED:20231011T202803Z
LAST-MODIFIED:20231101T174842Z
UID:10001202-1699693200-1699704000@iloveov.com
SUMMARY:Oro Valley Historical Society - Honoring Indigenous Americans
DESCRIPTION:In November\, the Oro Valley Historical Society will honor indigenous Americans who came before us in Oro Valley and throughout Arizona as we celebrate National Native American Heritage Month. Each Saturday in November from 9 a.m. – noon at Steam Pump Ranch\, docents will be at the Pusch House Museum to show our visitors how Native Americans came here\, how they lived\, how they continue to live\, and how their cultures impact ours.\n\nThe tours are complimentary\, and donations to keep Oro Valley history alive are gladly accepted.\n\nVisitors can shop\, enjoy the Heirloom Farmers’ Market\, and then walk through the historic Pusch House to learn more about Oro Valley’s history.  Everyone is welcome – history loves company!
URL:https://iloveov.com/oro-valley-event/oro-valley-historical-society-honoring-indigenous-americans/2023-11-11/
LOCATION:Steam Pump Ranch\, 10901 N Oracle Road\, Oro Valley\, AZ\, 85737\, United States
END:VEVENT
BEGIN:VEVENT
DTSTART;TZID=America/Phoenix:20231111T080000
DTEND;TZID=America/Phoenix:20231111T120000
DTSTAMP:20260420T102205
CREATED:20221229T165213Z
LAST-MODIFIED:20230822T173557Z
UID:10000789-1699689600-1699704000@iloveov.com
SUMMARY:Heirloom Farmers Market
DESCRIPTION:The Oro Valley Farmers Market sets up every Saturday morning at Steam Pump Ranch\, nestled at the base of the Catalina Mountains’ Pusch Ridge along the Northwest Oracle Road corridor. \nSee Heirloom Farmers Market for more details.
URL:https://iloveov.com/oro-valley-event/heirloom-farmers-market/2023-11-11/
LOCATION:Steam Pump Ranch\, 10901 N Oracle Road\, Oro Valley\, AZ\, 85737\, United States
END:VEVENT
BEGIN:VEVENT
DTSTART;TZID=America/Phoenix:20231104T090000
DTEND;TZID=America/Phoenix:20231104T120000
DTSTAMP:20260420T102205
CREATED:20231011T202803Z
LAST-MODIFIED:20231101T174842Z
UID:10001201-1699088400-1699099200@iloveov.com
SUMMARY:Oro Valley Historical Society - Honoring Indigenous Americans
DESCRIPTION:In November\, the Oro Valley Historical Society will honor indigenous Americans who came before us in Oro Valley and throughout Arizona as we celebrate National Native American Heritage Month. Each Saturday in November from 9 a.m. – noon at Steam Pump Ranch\, docents will be at the Pusch House Museum to show our visitors how Native Americans came here\, how they lived\, how they continue to live\, and how their cultures impact ours.\n\nThe tours are complimentary\, and donations to keep Oro Valley history alive are gladly accepted.\n\nVisitors can shop\, enjoy the Heirloom Farmers’ Market\, and then walk through the historic Pusch House to learn more about Oro Valley’s history.  Everyone is welcome – history loves company!
URL:https://iloveov.com/oro-valley-event/oro-valley-historical-society-honoring-indigenous-americans/2023-11-04/
LOCATION:Steam Pump Ranch\, 10901 N Oracle Road\, Oro Valley\, AZ\, 85737\, United States
END:VEVENT
BEGIN:VEVENT
DTSTART;TZID=America/Phoenix:20231104T080000
DTEND;TZID=America/Phoenix:20231104T120000
DTSTAMP:20260420T102205
CREATED:20221229T165213Z
LAST-MODIFIED:20230822T173557Z
UID:10000788-1699084800-1699099200@iloveov.com
SUMMARY:Heirloom Farmers Market
DESCRIPTION:The Oro Valley Farmers Market sets up every Saturday morning at Steam Pump Ranch\, nestled at the base of the Catalina Mountains’ Pusch Ridge along the Northwest Oracle Road corridor. \nSee Heirloom Farmers Market for more details.
URL:https://iloveov.com/oro-valley-event/heirloom-farmers-market/2023-11-04/
LOCATION:Steam Pump Ranch\, 10901 N Oracle Road\, Oro Valley\, AZ\, 85737\, United States
END:VEVENT
BEGIN:VEVENT
DTSTART;TZID=America/Phoenix:20231028T090000
DTEND;TZID=America/Phoenix:20231028T120000
DTSTAMP:20260420T102205
CREATED:20230926T193118Z
LAST-MODIFIED:20231009T155815Z
UID:10001193-1698483600-1698494400@iloveov.com
SUMMARY:Oro Valley Historical Society - Celebrates Oktoberfest
DESCRIPTION:In October\, the Oro Valley Historical Society will be celebrating Oktoberfest (but without the beer!) at Steam Pump Ranch starting on October 1 each Saturday in October from 9 a.m. – noon.\n\nDocents will be at the Pusch House to show our visitors how  George Pusch’s Germanic heritage shaped Oro Valley’s history.  The tours are complimentary\, and donations to keep Oro Valley history alive are gladly accepted.\n\nVisitors can shop\, enjoy the Farmers’ Market\, and then walk through the historic Pusch House to learn more about Oro Valley’s history.  Everyone is welcome – history loves company!
URL:https://iloveov.com/oro-valley-event/oro-valley-historical-society-celebrates-oktoberfest/2023-10-28/
LOCATION:Steam Pump Ranch\, 10901 N Oracle Road\, Oro Valley\, AZ\, 85737\, United States
END:VEVENT
BEGIN:VEVENT
DTSTART;TZID=America/Phoenix:20231028T080000
DTEND;TZID=America/Phoenix:20231028T120000
DTSTAMP:20260420T102205
CREATED:20221229T165213Z
LAST-MODIFIED:20230822T173557Z
UID:10000787-1698480000-1698494400@iloveov.com
SUMMARY:Heirloom Farmers Market
DESCRIPTION:The Oro Valley Farmers Market sets up every Saturday morning at Steam Pump Ranch\, nestled at the base of the Catalina Mountains’ Pusch Ridge along the Northwest Oracle Road corridor. \nSee Heirloom Farmers Market for more details.
URL:https://iloveov.com/oro-valley-event/heirloom-farmers-market/2023-10-28/
LOCATION:Steam Pump Ranch\, 10901 N Oracle Road\, Oro Valley\, AZ\, 85737\, United States
END:VEVENT
BEGIN:VEVENT
DTSTART;TZID=America/Phoenix:20231021T090000
DTEND;TZID=America/Phoenix:20231021T120000
DTSTAMP:20260420T102205
CREATED:20230926T193118Z
LAST-MODIFIED:20231009T155815Z
UID:10001192-1697878800-1697889600@iloveov.com
SUMMARY:Oro Valley Historical Society - Celebrates Oktoberfest
DESCRIPTION:In October\, the Oro Valley Historical Society will be celebrating Oktoberfest (but without the beer!) at Steam Pump Ranch starting on October 1 each Saturday in October from 9 a.m. – noon.\n\nDocents will be at the Pusch House to show our visitors how  George Pusch’s Germanic heritage shaped Oro Valley’s history.  The tours are complimentary\, and donations to keep Oro Valley history alive are gladly accepted.\n\nVisitors can shop\, enjoy the Farmers’ Market\, and then walk through the historic Pusch House to learn more about Oro Valley’s history.  Everyone is welcome – history loves company!
URL:https://iloveov.com/oro-valley-event/oro-valley-historical-society-celebrates-oktoberfest/2023-10-21/
LOCATION:Steam Pump Ranch\, 10901 N Oracle Road\, Oro Valley\, AZ\, 85737\, United States
END:VEVENT
BEGIN:VEVENT
DTSTART;TZID=America/Phoenix:20231021T080000
DTEND;TZID=America/Phoenix:20231021T120000
DTSTAMP:20260420T102205
CREATED:20221229T165213Z
LAST-MODIFIED:20230822T173557Z
UID:10000786-1697875200-1697889600@iloveov.com
SUMMARY:Heirloom Farmers Market
DESCRIPTION:The Oro Valley Farmers Market sets up every Saturday morning at Steam Pump Ranch\, nestled at the base of the Catalina Mountains’ Pusch Ridge along the Northwest Oracle Road corridor. \nSee Heirloom Farmers Market for more details.
URL:https://iloveov.com/oro-valley-event/heirloom-farmers-market/2023-10-21/
LOCATION:Steam Pump Ranch\, 10901 N Oracle Road\, Oro Valley\, AZ\, 85737\, United States
END:VEVENT
BEGIN:VEVENT
DTSTART;TZID=America/Phoenix:20231014T160000
DTEND;TZID=America/Phoenix:20231015T100000
DTSTAMP:20260420T102205
CREATED:20230915T170654Z
LAST-MODIFIED:20230915T170955Z
UID:10001169-1697299200-1697364000@iloveov.com
SUMMARY:Family Camping at Steam Pump Ranch
DESCRIPTION:Bring the family and spend the night at Steam Pump Ranch. We will have all the fun of going camping without the travel. Whether you are a seasoned camper or this is your first night outside\, you will have a great time! Participants will bring their own tent and sleeping gear for the night. Get ready to learn some camping skills from the pros. Need to know how to set up a tent? We can help with that. We will have hotdogs and chips for dinner\, make smores\, and watch Jungle Cruise on our large outdoor screen before heading to bed beneath the cradle of Pusch Ridge. When you wake up the next morning\, prepare for an all-you-can-eat pancake breakfast! One thing is for sure: you won’t go home hungry. Registration is for one family. At least one family member must be 18 or older to register and attend.\nRegistration Link: Click here
URL:https://iloveov.com/oro-valley-event/family-camping-at-steam-pump-ranch/
LOCATION:Steam Pump Ranch\, 10901 N Oracle Road\, Oro Valley\, AZ\, 85737\, United States
END:VEVENT
BEGIN:VEVENT
DTSTART;TZID=America/Phoenix:20231014T090000
DTEND;TZID=America/Phoenix:20231014T130000
DTSTAMP:20260420T102205
CREATED:20230926T193118Z
LAST-MODIFIED:20231009T155815Z
UID:10001191-1697274000-1697288400@iloveov.com
SUMMARY:Oro Valley Historical Society - Celebrates Oktoberfest
DESCRIPTION:In October\, the Oro Valley Historical Society will be celebrating Oktoberfest (but without the beer!) at Steam Pump Ranch starting on October 1 each Saturday in October from 9 a.m. – noon.\n\nDocents will be at the Pusch House to show our visitors how  George Pusch’s Germanic heritage shaped Oro Valley’s history.  The tours are complimentary\, and donations to keep Oro Valley history alive are gladly accepted.\n\nVisitors can shop\, enjoy the Farmers’ Market\, and then walk through the historic Pusch House to learn more about Oro Valley’s history.  Everyone is welcome – history loves company!
URL:https://iloveov.com/oro-valley-event/oro-valley-historical-society-celebrates-oktoberfest/2023-10-14/
LOCATION:Steam Pump Ranch\, 10901 N Oracle Road\, Oro Valley\, AZ\, 85737\, United States
END:VEVENT
BEGIN:VEVENT
DTSTART;TZID=America/Phoenix:20231014T090000
DTEND;TZID=America/Phoenix:20231014T130000
DTSTAMP:20260420T102205
CREATED:20230922T205847Z
LAST-MODIFIED:20230922T205847Z
UID:10001183-1697274000-1697288400@iloveov.com
SUMMARY:Second Saturdays at Steam Pump Ranch
DESCRIPTION:Second Saturdays occur on the second Saturday of each month from October through April. Hours are 9am to 1pm October through March. Hours are 8am to 12pm\, April 13\, 2024\, for the town birthday event\, Celebrate OV! \nAll Second Saturday activities are free\, but you should bring shopping money for the markets and food vendors! \nSpecial offerings through our Community Partners are: \n\nTours of the historic Pusch House Museum and Steam Pump Ranch led by members of the Oro Valley Historical Society\nPrehistoric demonstrations and activities led by Archaeology Southwest in the ranch’s Heritage Garden\nOro Valley Farmers Market part of the Heirloom Farmers Markets in the Ramada area\n\nSpecial offerings by the Parks and Recreation Department are: \n\nThe Makers Market  featuring arts and crafts from community creatives\nKids’ Crafts and Activities facilitated by Parks and Rec Staff in the restored Garage building or in the Heritage Garden\n\nArtists and Makers who are interested in becoming part of the Makers Market\, please visit this page to learn more and complete an application!
URL:https://iloveov.com/oro-valley-event/second-saturdays-at-steam-pump-ranch-2/2023-10-14/
LOCATION:Steam Pump Ranch\, 10901 N Oracle Road\, Oro Valley\, AZ\, 85737\, United States
END:VEVENT
BEGIN:VEVENT
DTSTART;TZID=America/Phoenix:20231014T080000
DTEND;TZID=America/Phoenix:20231014T120000
DTSTAMP:20260420T102205
CREATED:20221229T165213Z
LAST-MODIFIED:20230822T173557Z
UID:10000785-1697270400-1697284800@iloveov.com
SUMMARY:Heirloom Farmers Market
DESCRIPTION:The Oro Valley Farmers Market sets up every Saturday morning at Steam Pump Ranch\, nestled at the base of the Catalina Mountains’ Pusch Ridge along the Northwest Oracle Road corridor. \nSee Heirloom Farmers Market for more details.
URL:https://iloveov.com/oro-valley-event/heirloom-farmers-market/2023-10-14/
LOCATION:Steam Pump Ranch\, 10901 N Oracle Road\, Oro Valley\, AZ\, 85737\, United States
END:VEVENT
BEGIN:VEVENT
DTSTART;TZID=America/Phoenix:20231008T070000
DTEND;TZID=America/Phoenix:20231008T170000
DTSTAMP:20260420T102205
CREATED:20230815T200026Z
LAST-MODIFIED:20230824T125733Z
UID:10001115-1696748400-1696784400@iloveov.com
SUMMARY:AZ Heroes Memorial 10K\, 5K and Memorial Mile
DESCRIPTION:The AZ Heroes Memorial 10K\, 5K\, and Memorial Mile will help raise funds for the Arizona Heroes Memorial at Naranja Park. The race will be on Sunday\, October 8. \nFor more information\, visit the registration page: https://runsignup.com/Race/AZ/Tucson/AZHeroesRun.  \nLink to learn more about the memorial: https://www.azheroesmemorial.org/
URL:https://iloveov.com/oro-valley-event/az-heroes-memorial-10k-5k-and-memorial-mile/
LOCATION:Steam Pump Ranch\, 10901 N Oracle Road\, Oro Valley\, AZ\, 85737\, United States
END:VEVENT
BEGIN:VEVENT
DTSTART;TZID=America/Phoenix:20231007T190000
DTEND;TZID=America/Phoenix:20231007T190000
DTSTAMP:20260420T102205
CREATED:20230922T201701Z
LAST-MODIFIED:20230922T201713Z
UID:10001180-1696705200-1696705200@iloveov.com
SUMMARY:Movie at the Ranch
DESCRIPTION:Join us for a movie under the stars at Steam Pump Ranch. This will be a free\, family-friendly event! The movie will begin at 7 p.m. We recommend arriving at 6:30 p.m. to get a good spot. The movie will be shown on the lush lawn; attendees are welcome to bring blankets and chairs. The movie will be Homeward Bound: The Incredible Journey.
URL:https://iloveov.com/oro-valley-event/movie-at-the-ranch/
LOCATION:Steam Pump Ranch\, 10901 N Oracle Road\, Oro Valley\, AZ\, 85737\, United States
END:VEVENT
BEGIN:VEVENT
DTSTART;TZID=America/Phoenix:20231007T090000
DTEND;TZID=America/Phoenix:20231007T120000
DTSTAMP:20260420T102205
CREATED:20230926T193118Z
LAST-MODIFIED:20231009T155815Z
UID:10001190-1696669200-1696680000@iloveov.com
SUMMARY:Oro Valley Historical Society - Celebrates Oktoberfest
DESCRIPTION:In October\, the Oro Valley Historical Society will be celebrating Oktoberfest (but without the beer!) at Steam Pump Ranch starting on October 1 each Saturday in October from 9 a.m. – noon.\n\nDocents will be at the Pusch House to show our visitors how  George Pusch’s Germanic heritage shaped Oro Valley’s history.  The tours are complimentary\, and donations to keep Oro Valley history alive are gladly accepted.\n\nVisitors can shop\, enjoy the Farmers’ Market\, and then walk through the historic Pusch House to learn more about Oro Valley’s history.  Everyone is welcome – history loves company!
URL:https://iloveov.com/oro-valley-event/oro-valley-historical-society-celebrates-oktoberfest/2023-10-07/
LOCATION:Steam Pump Ranch\, 10901 N Oracle Road\, Oro Valley\, AZ\, 85737\, United States
END:VEVENT
BEGIN:VEVENT
DTSTART;TZID=America/Phoenix:20231007T080000
DTEND;TZID=America/Phoenix:20231007T120000
DTSTAMP:20260420T102205
CREATED:20230922T204941Z
LAST-MODIFIED:20230922T204941Z
UID:10001181-1696665600-1696680000@iloveov.com
SUMMARY:Human Trafficking Awareness event
DESCRIPTION:This highly educational and informative day is a must for parents\, grandparents\, and anyone who could be in a position to recognize human trafficking. \n\nMeet local law enforcement\nMeet victim service providers\nRadio show (1030 AM) @ 8 a.m.\nGames for kids
URL:https://iloveov.com/oro-valley-event/human-trafficking-awareness-event/
LOCATION:Steam Pump Ranch\, 10901 N Oracle Road\, Oro Valley\, AZ\, 85737\, United States
END:VEVENT
BEGIN:VEVENT
DTSTART;TZID=America/Phoenix:20231007T080000
DTEND;TZID=America/Phoenix:20231007T120000
DTSTAMP:20260420T102205
CREATED:20221229T165213Z
LAST-MODIFIED:20230822T173557Z
UID:10000784-1696665600-1696680000@iloveov.com
SUMMARY:Heirloom Farmers Market
DESCRIPTION:The Oro Valley Farmers Market sets up every Saturday morning at Steam Pump Ranch\, nestled at the base of the Catalina Mountains’ Pusch Ridge along the Northwest Oracle Road corridor. \nSee Heirloom Farmers Market for more details.
URL:https://iloveov.com/oro-valley-event/heirloom-farmers-market/2023-10-07/
LOCATION:Steam Pump Ranch\, 10901 N Oracle Road\, Oro Valley\, AZ\, 85737\, United States
END:VEVENT
BEGIN:VEVENT
DTSTART;TZID=America/Phoenix:20230930T170000
DTEND;TZID=America/Phoenix:20230930T200000
DTSTAMP:20260420T102205
CREATED:20230915T170207Z
LAST-MODIFIED:20230915T170231Z
UID:10001168-1696093200-1696104000@iloveov.com
SUMMARY:Bark in the Park
DESCRIPTION:Oro Valley Parks and Recreation will host a FREE community event for those with furry family dogs at home\, Bark in the Park! Join the fun on Saturday\, September 30\, from 5 p.m. – 8 p.m. at Steam Pump Ranch. Bring your family\, friends\, and doggies! There will be adoptable dogs\, food trucks\, music\, crafts for kids\, a dog talent show\, a dog costume contest\, prizes\, local business and organization booths\, and much more. \nThe Dog Talent Show and Costume Contest will have on-site registration on the day of the event. Entry is free! Our event sponsors have donated prizes for the contest: Pet-Friendly Fun and Dogs and Donuts! Please remember that dogs must be leashed\, and owners are responsible for cleaning up after their dogs. \nHave questions? Contact Shanda at lyazzie@orovalleyaz.gov.
URL:https://iloveov.com/oro-valley-event/bark-in-the-park/
LOCATION:Steam Pump Ranch\, 10901 N Oracle Road\, Oro Valley\, AZ\, 85737\, United States
END:VEVENT
BEGIN:VEVENT
DTSTART;TZID=America/Phoenix:20230930T090000
DTEND;TZID=America/Phoenix:20230930T120000
DTSTAMP:20260420T102205
CREATED:20230827T191722Z
LAST-MODIFIED:20230905T213332Z
UID:10001138-1696064400-1696075200@iloveov.com
SUMMARY:Oro Valley Historical Society - Celebrates Hispanic Heritage Month
DESCRIPTION:In September\, the Oro Valley Historical Society will be celebrating Hispanic Heritage Month at Steam Pump Ranch starting on September 9 each Saturday in September from 9 a.m. – noon.\n\nDocents will be at the Pusch House to show our visitors how the Hispanic community shaped Oro Valley’s history.  The tours are complimentary\, and donations to keep Oro Valley history alive are gladly accepted.\n\nVisitors can shop\, enjoy the Farmers’ Market\, and then walk through the historic Pusch House to learn more about Oro Valley’s history.  Everyone is welcome – history loves company!
URL:https://iloveov.com/oro-valley-event/oro-valley-historical-society-celebrates-hispanic-heritage-month/2023-09-30/
LOCATION:Steam Pump Ranch\, 10901 N Oracle Road\, Oro Valley\, AZ\, 85737\, United States
END:VEVENT
BEGIN:VEVENT
DTSTART;TZID=America/Phoenix:20230930T080000
DTEND;TZID=America/Phoenix:20230930T120000
DTSTAMP:20260420T102205
CREATED:20221229T165213Z
LAST-MODIFIED:20230822T173557Z
UID:10000783-1696060800-1696075200@iloveov.com
SUMMARY:Heirloom Farmers Market
DESCRIPTION:The Oro Valley Farmers Market sets up every Saturday morning at Steam Pump Ranch\, nestled at the base of the Catalina Mountains’ Pusch Ridge along the Northwest Oracle Road corridor. \nSee Heirloom Farmers Market for more details.
URL:https://iloveov.com/oro-valley-event/heirloom-farmers-market/2023-09-30/
LOCATION:Steam Pump Ranch\, 10901 N Oracle Road\, Oro Valley\, AZ\, 85737\, United States
END:VEVENT
BEGIN:VEVENT
DTSTART;TZID=America/Phoenix:20230923T090000
DTEND;TZID=America/Phoenix:20230923T120000
DTSTAMP:20260420T102205
CREATED:20230827T191722Z
LAST-MODIFIED:20230905T213332Z
UID:10001137-1695459600-1695470400@iloveov.com
SUMMARY:Oro Valley Historical Society - Celebrates Hispanic Heritage Month
DESCRIPTION:In September\, the Oro Valley Historical Society will be celebrating Hispanic Heritage Month at Steam Pump Ranch starting on September 9 each Saturday in September from 9 a.m. – noon.\n\nDocents will be at the Pusch House to show our visitors how the Hispanic community shaped Oro Valley’s history.  The tours are complimentary\, and donations to keep Oro Valley history alive are gladly accepted.\n\nVisitors can shop\, enjoy the Farmers’ Market\, and then walk through the historic Pusch House to learn more about Oro Valley’s history.  Everyone is welcome – history loves company!
URL:https://iloveov.com/oro-valley-event/oro-valley-historical-society-celebrates-hispanic-heritage-month/2023-09-23/
LOCATION:Steam Pump Ranch\, 10901 N Oracle Road\, Oro Valley\, AZ\, 85737\, United States
END:VEVENT
BEGIN:VEVENT
DTSTART;TZID=America/Phoenix:20230923T080000
DTEND;TZID=America/Phoenix:20230923T120000
DTSTAMP:20260420T102205
CREATED:20221229T165213Z
LAST-MODIFIED:20230822T173557Z
UID:10000782-1695456000-1695470400@iloveov.com
SUMMARY:Heirloom Farmers Market
DESCRIPTION:The Oro Valley Farmers Market sets up every Saturday morning at Steam Pump Ranch\, nestled at the base of the Catalina Mountains’ Pusch Ridge along the Northwest Oracle Road corridor. \nSee Heirloom Farmers Market for more details.
URL:https://iloveov.com/oro-valley-event/heirloom-farmers-market/2023-09-23/
LOCATION:Steam Pump Ranch\, 10901 N Oracle Road\, Oro Valley\, AZ\, 85737\, United States
END:VEVENT
BEGIN:VEVENT
DTSTART;TZID=America/Phoenix:20230916T090000
DTEND;TZID=America/Phoenix:20230916T120000
DTSTAMP:20260420T102205
CREATED:20230827T191722Z
LAST-MODIFIED:20230905T213332Z
UID:10001136-1694854800-1694865600@iloveov.com
SUMMARY:Oro Valley Historical Society - Celebrates Hispanic Heritage Month
DESCRIPTION:In September\, the Oro Valley Historical Society will be celebrating Hispanic Heritage Month at Steam Pump Ranch starting on September 9 each Saturday in September from 9 a.m. – noon.\n\nDocents will be at the Pusch House to show our visitors how the Hispanic community shaped Oro Valley’s history.  The tours are complimentary\, and donations to keep Oro Valley history alive are gladly accepted.\n\nVisitors can shop\, enjoy the Farmers’ Market\, and then walk through the historic Pusch House to learn more about Oro Valley’s history.  Everyone is welcome – history loves company!
URL:https://iloveov.com/oro-valley-event/oro-valley-historical-society-celebrates-hispanic-heritage-month/2023-09-16/
LOCATION:Steam Pump Ranch\, 10901 N Oracle Road\, Oro Valley\, AZ\, 85737\, United States
END:VEVENT
BEGIN:VEVENT
DTSTART;TZID=America/Phoenix:20230916T080000
DTEND;TZID=America/Phoenix:20230916T120000
DTSTAMP:20260420T102205
CREATED:20221229T165213Z
LAST-MODIFIED:20230822T173557Z
UID:10000781-1694851200-1694865600@iloveov.com
SUMMARY:Heirloom Farmers Market
DESCRIPTION:The Oro Valley Farmers Market sets up every Saturday morning at Steam Pump Ranch\, nestled at the base of the Catalina Mountains’ Pusch Ridge along the Northwest Oracle Road corridor. \nSee Heirloom Farmers Market for more details.
URL:https://iloveov.com/oro-valley-event/heirloom-farmers-market/2023-09-16/
LOCATION:Steam Pump Ranch\, 10901 N Oracle Road\, Oro Valley\, AZ\, 85737\, United States
END:VEVENT
BEGIN:VEVENT
DTSTART;TZID=America/Phoenix:20230909T090000
DTEND;TZID=America/Phoenix:20230909T120000
DTSTAMP:20260420T102205
CREATED:20230827T191722Z
LAST-MODIFIED:20230905T213332Z
UID:10001147-1694250000-1694260800@iloveov.com
SUMMARY:Oro Valley Historical Society - Celebrates Hispanic Heritage Month
DESCRIPTION:In September\, the Oro Valley Historical Society will be celebrating Hispanic Heritage Month at Steam Pump Ranch starting on September 9 each Saturday in September from 9 a.m. – noon.\n\nDocents will be at the Pusch House to show our visitors how the Hispanic community shaped Oro Valley’s history.  The tours are complimentary\, and donations to keep Oro Valley history alive are gladly accepted.\n\nVisitors can shop\, enjoy the Farmers’ Market\, and then walk through the historic Pusch House to learn more about Oro Valley’s history.  Everyone is welcome – history loves company!
URL:https://iloveov.com/oro-valley-event/oro-valley-historical-society-celebrates-hispanic-heritage-month/2023-09-09/
LOCATION:Steam Pump Ranch\, 10901 N Oracle Road\, Oro Valley\, AZ\, 85737\, United States
END:VEVENT
BEGIN:VEVENT
DTSTART;TZID=America/Phoenix:20230909T080000
DTEND;TZID=America/Phoenix:20230909T120000
DTSTAMP:20260420T102205
CREATED:20221229T165213Z
LAST-MODIFIED:20230822T173557Z
UID:10000780-1694246400-1694260800@iloveov.com
SUMMARY:Heirloom Farmers Market
DESCRIPTION:The Oro Valley Farmers Market sets up every Saturday morning at Steam Pump Ranch\, nestled at the base of the Catalina Mountains’ Pusch Ridge along the Northwest Oracle Road corridor. \nSee Heirloom Farmers Market for more details.
URL:https://iloveov.com/oro-valley-event/heirloom-farmers-market/2023-09-09/
LOCATION:Steam Pump Ranch\, 10901 N Oracle Road\, Oro Valley\, AZ\, 85737\, United States
END:VEVENT
BEGIN:VEVENT
DTSTART;TZID=America/Phoenix:20230902T080000
DTEND;TZID=America/Phoenix:20230902T120000
DTSTAMP:20260420T102205
CREATED:20221229T165213Z
LAST-MODIFIED:20230822T173557Z
UID:10000779-1693641600-1693656000@iloveov.com
SUMMARY:Heirloom Farmers Market
DESCRIPTION:The Oro Valley Farmers Market sets up every Saturday morning at Steam Pump Ranch\, nestled at the base of the Catalina Mountains’ Pusch Ridge along the Northwest Oracle Road corridor. \nSee Heirloom Farmers Market for more details.
URL:https://iloveov.com/oro-valley-event/heirloom-farmers-market/2023-09-02/
LOCATION:Steam Pump Ranch\, 10901 N Oracle Road\, Oro Valley\, AZ\, 85737\, United States
END:VEVENT
BEGIN:VEVENT
DTSTART;TZID=America/Phoenix:20230826T080000
DTEND;TZID=America/Phoenix:20230826T120000
DTSTAMP:20260420T102205
CREATED:20221229T165213Z
LAST-MODIFIED:20230822T173557Z
UID:10000778-1693036800-1693051200@iloveov.com
SUMMARY:Heirloom Farmers Market
DESCRIPTION:The Oro Valley Farmers Market sets up every Saturday morning at Steam Pump Ranch\, nestled at the base of the Catalina Mountains’ Pusch Ridge along the Northwest Oracle Road corridor. \nSee Heirloom Farmers Market for more details.
URL:https://iloveov.com/oro-valley-event/heirloom-farmers-market/2023-08-26/
LOCATION:Steam Pump Ranch\, 10901 N Oracle Road\, Oro Valley\, AZ\, 85737\, United States
END:VEVENT
END:VCALENDAR