BEGIN:VCALENDAR
VERSION:2.0
PRODID:-//ILoveOV.com - ECPv6.11.1//NONSGML v1.0//EN
CALSCALE:GREGORIAN
METHOD:PUBLISH
X-WR-CALNAME:ILoveOV.com
X-ORIGINAL-URL:https://iloveov.com
X-WR-CALDESC:Events for ILoveOV.com
REFRESH-INTERVAL;VALUE=DURATION:PT1H
X-Robots-Tag:noindex
X-PUBLISHED-TTL:PT1H
BEGIN:VTIMEZONE
TZID:America/Phoenix
BEGIN:STANDARD
TZOFFSETFROM:-0700
TZOFFSETTO:-0700
TZNAME:MST
DTSTART:20240101T000000
END:STANDARD
END:VTIMEZONE
BEGIN:VEVENT
DTSTART;TZID=America/Phoenix:20240928T090000
DTEND;TZID=America/Phoenix:20240928T120000
DTSTAMP:20260420T043437
CREATED:20240813T165421Z
LAST-MODIFIED:20240814T173701Z
UID:10001674-1727514000-1727524800@iloveov.com
SUMMARY:The Santa Catalinas - Our Magnificent Mountains
DESCRIPTION:Information about the geology\, indigenous people\, early settlers\, mining\, and Santa Catalina State Park.  The exhibit will be in the Pusch House Museum at historic Steam Pump Ranch.  Tours of the exhibit are complimentary and donations are gladly accepted. \nJim Click Raffle Supporters – you will have the opportunity to see this year’s First Place Prize of the 2024 Jeep Wrangler Rubicon 4xe Plug-in Hybrid (MSRP starting at $61\,180) at Steam Pump Ranch on October 12!  The Society will have it on display for you to envision what it would be like to win it for your family.  We will be selling raffle tickets that day (as we do every Saturday this fall)\, and you could be the lucky winner!  Tickets are only $25 or 5 for $100\, and ALL proceeds from those ticket sales support the Oro Valley Historical Society due to the kindness of Jim Click.  So\, visit the Ranch on October 12 to buy a ticket\, see the Museum\, indulge in the goodies at the Heirloom Farmers’ Market\, and see what treasures the vendors have brought for you.
URL:https://iloveov.com/oro-valley-event/the-santa-catalinas-our-magnificent-mountains/2024-09-28/
LOCATION:Steam Pump Ranch\, 10901 N Oracle Road\, Oro Valley\, AZ\, 85737\, United States
CATEGORIES:Oro Valley Historical Society
END:VEVENT
BEGIN:VEVENT
DTSTART;TZID=America/Phoenix:20240928T080000
DTEND;TZID=America/Phoenix:20240928T120000
DTSTAMP:20260420T043437
CREATED:20221229T165213Z
LAST-MODIFIED:20230822T173557Z
UID:10000835-1727510400-1727524800@iloveov.com
SUMMARY:Heirloom Farmers Market
DESCRIPTION:The Oro Valley Farmers Market sets up every Saturday morning at Steam Pump Ranch\, nestled at the base of the Catalina Mountains’ Pusch Ridge along the Northwest Oracle Road corridor. \nSee Heirloom Farmers Market for more details.
URL:https://iloveov.com/oro-valley-event/heirloom-farmers-market/2024-09-28/
LOCATION:Steam Pump Ranch\, 10901 N Oracle Road\, Oro Valley\, AZ\, 85737\, United States
END:VEVENT
BEGIN:VEVENT
DTSTART;TZID=America/Phoenix:20240921T090000
DTEND;TZID=America/Phoenix:20240921T120000
DTSTAMP:20260420T043437
CREATED:20240813T165421Z
LAST-MODIFIED:20240814T173701Z
UID:10001661-1726909200-1726920000@iloveov.com
SUMMARY:The Santa Catalinas - Our Magnificent Mountains
DESCRIPTION:Information about the geology\, indigenous people\, early settlers\, mining\, and Santa Catalina State Park.  The exhibit will be in the Pusch House Museum at historic Steam Pump Ranch.  Tours of the exhibit are complimentary and donations are gladly accepted. \nJim Click Raffle Supporters – you will have the opportunity to see this year’s First Place Prize of the 2024 Jeep Wrangler Rubicon 4xe Plug-in Hybrid (MSRP starting at $61\,180) at Steam Pump Ranch on October 12!  The Society will have it on display for you to envision what it would be like to win it for your family.  We will be selling raffle tickets that day (as we do every Saturday this fall)\, and you could be the lucky winner!  Tickets are only $25 or 5 for $100\, and ALL proceeds from those ticket sales support the Oro Valley Historical Society due to the kindness of Jim Click.  So\, visit the Ranch on October 12 to buy a ticket\, see the Museum\, indulge in the goodies at the Heirloom Farmers’ Market\, and see what treasures the vendors have brought for you.
URL:https://iloveov.com/oro-valley-event/the-santa-catalinas-our-magnificent-mountains/2024-09-21/
LOCATION:Steam Pump Ranch\, 10901 N Oracle Road\, Oro Valley\, AZ\, 85737\, United States
CATEGORIES:Oro Valley Historical Society
END:VEVENT
BEGIN:VEVENT
DTSTART;TZID=America/Phoenix:20240921T080000
DTEND;TZID=America/Phoenix:20240921T120000
DTSTAMP:20260420T043437
CREATED:20221229T165213Z
LAST-MODIFIED:20230822T173557Z
UID:10000834-1726905600-1726920000@iloveov.com
SUMMARY:Heirloom Farmers Market
DESCRIPTION:The Oro Valley Farmers Market sets up every Saturday morning at Steam Pump Ranch\, nestled at the base of the Catalina Mountains’ Pusch Ridge along the Northwest Oracle Road corridor. \nSee Heirloom Farmers Market for more details.
URL:https://iloveov.com/oro-valley-event/heirloom-farmers-market/2024-09-21/
LOCATION:Steam Pump Ranch\, 10901 N Oracle Road\, Oro Valley\, AZ\, 85737\, United States
END:VEVENT
BEGIN:VEVENT
DTSTART;TZID=America/Phoenix:20240914T090000
DTEND;TZID=America/Phoenix:20240914T120000
DTSTAMP:20260420T043437
CREATED:20240813T165421Z
LAST-MODIFIED:20240814T173701Z
UID:10001660-1726304400-1726315200@iloveov.com
SUMMARY:The Santa Catalinas - Our Magnificent Mountains
DESCRIPTION:Information about the geology\, indigenous people\, early settlers\, mining\, and Santa Catalina State Park.  The exhibit will be in the Pusch House Museum at historic Steam Pump Ranch.  Tours of the exhibit are complimentary and donations are gladly accepted. \nJim Click Raffle Supporters – you will have the opportunity to see this year’s First Place Prize of the 2024 Jeep Wrangler Rubicon 4xe Plug-in Hybrid (MSRP starting at $61\,180) at Steam Pump Ranch on October 12!  The Society will have it on display for you to envision what it would be like to win it for your family.  We will be selling raffle tickets that day (as we do every Saturday this fall)\, and you could be the lucky winner!  Tickets are only $25 or 5 for $100\, and ALL proceeds from those ticket sales support the Oro Valley Historical Society due to the kindness of Jim Click.  So\, visit the Ranch on October 12 to buy a ticket\, see the Museum\, indulge in the goodies at the Heirloom Farmers’ Market\, and see what treasures the vendors have brought for you.
URL:https://iloveov.com/oro-valley-event/the-santa-catalinas-our-magnificent-mountains/2024-09-14/
LOCATION:Steam Pump Ranch\, 10901 N Oracle Road\, Oro Valley\, AZ\, 85737\, United States
CATEGORIES:Oro Valley Historical Society
END:VEVENT
BEGIN:VEVENT
DTSTART;TZID=America/Phoenix:20240914T080000
DTEND;TZID=America/Phoenix:20240914T120000
DTSTAMP:20260420T043437
CREATED:20221229T165213Z
LAST-MODIFIED:20230822T173557Z
UID:10000833-1726300800-1726315200@iloveov.com
SUMMARY:Heirloom Farmers Market
DESCRIPTION:The Oro Valley Farmers Market sets up every Saturday morning at Steam Pump Ranch\, nestled at the base of the Catalina Mountains’ Pusch Ridge along the Northwest Oracle Road corridor. \nSee Heirloom Farmers Market for more details.
URL:https://iloveov.com/oro-valley-event/heirloom-farmers-market/2024-09-14/
LOCATION:Steam Pump Ranch\, 10901 N Oracle Road\, Oro Valley\, AZ\, 85737\, United States
END:VEVENT
BEGIN:VEVENT
DTSTART;TZID=America/Phoenix:20240907T090000
DTEND;TZID=America/Phoenix:20240907T120000
DTSTAMP:20260420T043437
CREATED:20240813T165421Z
LAST-MODIFIED:20240814T173701Z
UID:10001659-1725699600-1725710400@iloveov.com
SUMMARY:The Santa Catalinas - Our Magnificent Mountains
DESCRIPTION:Information about the geology\, indigenous people\, early settlers\, mining\, and Santa Catalina State Park.  The exhibit will be in the Pusch House Museum at historic Steam Pump Ranch.  Tours of the exhibit are complimentary and donations are gladly accepted. \nJim Click Raffle Supporters – you will have the opportunity to see this year’s First Place Prize of the 2024 Jeep Wrangler Rubicon 4xe Plug-in Hybrid (MSRP starting at $61\,180) at Steam Pump Ranch on October 12!  The Society will have it on display for you to envision what it would be like to win it for your family.  We will be selling raffle tickets that day (as we do every Saturday this fall)\, and you could be the lucky winner!  Tickets are only $25 or 5 for $100\, and ALL proceeds from those ticket sales support the Oro Valley Historical Society due to the kindness of Jim Click.  So\, visit the Ranch on October 12 to buy a ticket\, see the Museum\, indulge in the goodies at the Heirloom Farmers’ Market\, and see what treasures the vendors have brought for you.
URL:https://iloveov.com/oro-valley-event/the-santa-catalinas-our-magnificent-mountains/2024-09-07/
LOCATION:Steam Pump Ranch\, 10901 N Oracle Road\, Oro Valley\, AZ\, 85737\, United States
CATEGORIES:Oro Valley Historical Society
END:VEVENT
BEGIN:VEVENT
DTSTART;TZID=America/Phoenix:20240907T080000
DTEND;TZID=America/Phoenix:20240907T120000
DTSTAMP:20260420T043437
CREATED:20221229T165213Z
LAST-MODIFIED:20230822T173557Z
UID:10000832-1725696000-1725710400@iloveov.com
SUMMARY:Heirloom Farmers Market
DESCRIPTION:The Oro Valley Farmers Market sets up every Saturday morning at Steam Pump Ranch\, nestled at the base of the Catalina Mountains’ Pusch Ridge along the Northwest Oracle Road corridor. \nSee Heirloom Farmers Market for more details.
URL:https://iloveov.com/oro-valley-event/heirloom-farmers-market/2024-09-07/
LOCATION:Steam Pump Ranch\, 10901 N Oracle Road\, Oro Valley\, AZ\, 85737\, United States
END:VEVENT
BEGIN:VEVENT
DTSTART;TZID=America/Phoenix:20240906T190000
DTEND;TZID=America/Phoenix:20240906T213000
DTSTAMP:20260420T043437
CREATED:20240827T203603Z
LAST-MODIFIED:20240827T203603Z
UID:10001691-1725649200-1725658200@iloveov.com
SUMMARY:Friday Night Concert at Steam Pump Ranch
DESCRIPTION:Join us for a delightful evening of music on the lawn at Steam Pump Ranch! Food trucks will be available on-site\, and you’re welcome to bring your own food and a chair or blanket for comfort. Please note that outside alcohol is not permitted\, and no alcoholic beverages will be available for purchase. Enjoy a performance by the 2023 OV Battle of the Bands winner\, Znora Band\, as they take the stage at Steam Pump Ranch.
URL:https://iloveov.com/oro-valley-event/friday-night-concert-at-steam-pump-ranch-2/
LOCATION:Steam Pump Ranch\, 10901 N Oracle Road\, Oro Valley\, AZ\, 85737\, United States
CATEGORIES:Community Events
END:VEVENT
BEGIN:VEVENT
DTSTART;TZID=America/Phoenix:20240831T080000
DTEND;TZID=America/Phoenix:20240831T120000
DTSTAMP:20260420T043437
CREATED:20221229T165213Z
LAST-MODIFIED:20230822T173557Z
UID:10000831-1725091200-1725105600@iloveov.com
SUMMARY:Heirloom Farmers Market
DESCRIPTION:The Oro Valley Farmers Market sets up every Saturday morning at Steam Pump Ranch\, nestled at the base of the Catalina Mountains’ Pusch Ridge along the Northwest Oracle Road corridor. \nSee Heirloom Farmers Market for more details.
URL:https://iloveov.com/oro-valley-event/heirloom-farmers-market/2024-08-31/
LOCATION:Steam Pump Ranch\, 10901 N Oracle Road\, Oro Valley\, AZ\, 85737\, United States
END:VEVENT
BEGIN:VEVENT
DTSTART;TZID=America/Phoenix:20240824T080000
DTEND;TZID=America/Phoenix:20240824T120000
DTSTAMP:20260420T043437
CREATED:20221229T165213Z
LAST-MODIFIED:20230822T173557Z
UID:10000830-1724486400-1724500800@iloveov.com
SUMMARY:Heirloom Farmers Market
DESCRIPTION:The Oro Valley Farmers Market sets up every Saturday morning at Steam Pump Ranch\, nestled at the base of the Catalina Mountains’ Pusch Ridge along the Northwest Oracle Road corridor. \nSee Heirloom Farmers Market for more details.
URL:https://iloveov.com/oro-valley-event/heirloom-farmers-market/2024-08-24/
LOCATION:Steam Pump Ranch\, 10901 N Oracle Road\, Oro Valley\, AZ\, 85737\, United States
END:VEVENT
BEGIN:VEVENT
DTSTART;TZID=America/Phoenix:20240817T080000
DTEND;TZID=America/Phoenix:20240817T120000
DTSTAMP:20260420T043437
CREATED:20221229T165213Z
LAST-MODIFIED:20230822T173557Z
UID:10000829-1723881600-1723896000@iloveov.com
SUMMARY:Heirloom Farmers Market
DESCRIPTION:The Oro Valley Farmers Market sets up every Saturday morning at Steam Pump Ranch\, nestled at the base of the Catalina Mountains’ Pusch Ridge along the Northwest Oracle Road corridor. \nSee Heirloom Farmers Market for more details.
URL:https://iloveov.com/oro-valley-event/heirloom-farmers-market/2024-08-17/
LOCATION:Steam Pump Ranch\, 10901 N Oracle Road\, Oro Valley\, AZ\, 85737\, United States
END:VEVENT
BEGIN:VEVENT
DTSTART;TZID=America/Phoenix:20240810T080000
DTEND;TZID=America/Phoenix:20240810T120000
DTSTAMP:20260420T043437
CREATED:20221229T165213Z
LAST-MODIFIED:20230822T173557Z
UID:10000828-1723276800-1723291200@iloveov.com
SUMMARY:Heirloom Farmers Market
DESCRIPTION:The Oro Valley Farmers Market sets up every Saturday morning at Steam Pump Ranch\, nestled at the base of the Catalina Mountains’ Pusch Ridge along the Northwest Oracle Road corridor. \nSee Heirloom Farmers Market for more details.
URL:https://iloveov.com/oro-valley-event/heirloom-farmers-market/2024-08-10/
LOCATION:Steam Pump Ranch\, 10901 N Oracle Road\, Oro Valley\, AZ\, 85737\, United States
END:VEVENT
BEGIN:VEVENT
DTSTART;TZID=America/Phoenix:20240803T080000
DTEND;TZID=America/Phoenix:20240803T120000
DTSTAMP:20260420T043437
CREATED:20221229T165213Z
LAST-MODIFIED:20230822T173557Z
UID:10000827-1722672000-1722686400@iloveov.com
SUMMARY:Heirloom Farmers Market
DESCRIPTION:The Oro Valley Farmers Market sets up every Saturday morning at Steam Pump Ranch\, nestled at the base of the Catalina Mountains’ Pusch Ridge along the Northwest Oracle Road corridor. \nSee Heirloom Farmers Market for more details.
URL:https://iloveov.com/oro-valley-event/heirloom-farmers-market/2024-08-03/
LOCATION:Steam Pump Ranch\, 10901 N Oracle Road\, Oro Valley\, AZ\, 85737\, United States
END:VEVENT
BEGIN:VEVENT
DTSTART;TZID=America/Phoenix:20240727T080000
DTEND;TZID=America/Phoenix:20240727T120000
DTSTAMP:20260420T043437
CREATED:20221229T165213Z
LAST-MODIFIED:20230822T173557Z
UID:10000826-1722067200-1722081600@iloveov.com
SUMMARY:Heirloom Farmers Market
DESCRIPTION:The Oro Valley Farmers Market sets up every Saturday morning at Steam Pump Ranch\, nestled at the base of the Catalina Mountains’ Pusch Ridge along the Northwest Oracle Road corridor. \nSee Heirloom Farmers Market for more details.
URL:https://iloveov.com/oro-valley-event/heirloom-farmers-market/2024-07-27/
LOCATION:Steam Pump Ranch\, 10901 N Oracle Road\, Oro Valley\, AZ\, 85737\, United States
END:VEVENT
BEGIN:VEVENT
DTSTART;TZID=America/Phoenix:20240720T080000
DTEND;TZID=America/Phoenix:20240720T120000
DTSTAMP:20260420T043437
CREATED:20221229T165213Z
LAST-MODIFIED:20230822T173557Z
UID:10000825-1721462400-1721476800@iloveov.com
SUMMARY:Heirloom Farmers Market
DESCRIPTION:The Oro Valley Farmers Market sets up every Saturday morning at Steam Pump Ranch\, nestled at the base of the Catalina Mountains’ Pusch Ridge along the Northwest Oracle Road corridor. \nSee Heirloom Farmers Market for more details.
URL:https://iloveov.com/oro-valley-event/heirloom-farmers-market/2024-07-20/
LOCATION:Steam Pump Ranch\, 10901 N Oracle Road\, Oro Valley\, AZ\, 85737\, United States
END:VEVENT
BEGIN:VEVENT
DTSTART;TZID=America/Phoenix:20240713T080000
DTEND;TZID=America/Phoenix:20240713T120000
DTSTAMP:20260420T043437
CREATED:20221229T165213Z
LAST-MODIFIED:20230822T173557Z
UID:10000824-1720857600-1720872000@iloveov.com
SUMMARY:Heirloom Farmers Market
DESCRIPTION:The Oro Valley Farmers Market sets up every Saturday morning at Steam Pump Ranch\, nestled at the base of the Catalina Mountains’ Pusch Ridge along the Northwest Oracle Road corridor. \nSee Heirloom Farmers Market for more details.
URL:https://iloveov.com/oro-valley-event/heirloom-farmers-market/2024-07-13/
LOCATION:Steam Pump Ranch\, 10901 N Oracle Road\, Oro Valley\, AZ\, 85737\, United States
END:VEVENT
BEGIN:VEVENT
DTSTART;TZID=America/Phoenix:20240706T080000
DTEND;TZID=America/Phoenix:20240706T120000
DTSTAMP:20260420T043437
CREATED:20221229T165213Z
LAST-MODIFIED:20230822T173557Z
UID:10000823-1720252800-1720267200@iloveov.com
SUMMARY:Heirloom Farmers Market
DESCRIPTION:The Oro Valley Farmers Market sets up every Saturday morning at Steam Pump Ranch\, nestled at the base of the Catalina Mountains’ Pusch Ridge along the Northwest Oracle Road corridor. \nSee Heirloom Farmers Market for more details.
URL:https://iloveov.com/oro-valley-event/heirloom-farmers-market/2024-07-06/
LOCATION:Steam Pump Ranch\, 10901 N Oracle Road\, Oro Valley\, AZ\, 85737\, United States
END:VEVENT
BEGIN:VEVENT
DTSTART;TZID=America/Phoenix:20240629T080000
DTEND;TZID=America/Phoenix:20240629T120000
DTSTAMP:20260420T043437
CREATED:20221229T165213Z
LAST-MODIFIED:20230822T173557Z
UID:10000822-1719648000-1719662400@iloveov.com
SUMMARY:Heirloom Farmers Market
DESCRIPTION:The Oro Valley Farmers Market sets up every Saturday morning at Steam Pump Ranch\, nestled at the base of the Catalina Mountains’ Pusch Ridge along the Northwest Oracle Road corridor. \nSee Heirloom Farmers Market for more details.
URL:https://iloveov.com/oro-valley-event/heirloom-farmers-market/2024-06-29/
LOCATION:Steam Pump Ranch\, 10901 N Oracle Road\, Oro Valley\, AZ\, 85737\, United States
END:VEVENT
BEGIN:VEVENT
DTSTART;TZID=America/Phoenix:20240622T080000
DTEND;TZID=America/Phoenix:20240622T120000
DTSTAMP:20260420T043437
CREATED:20221229T165213Z
LAST-MODIFIED:20230822T173557Z
UID:10000821-1719043200-1719057600@iloveov.com
SUMMARY:Heirloom Farmers Market
DESCRIPTION:The Oro Valley Farmers Market sets up every Saturday morning at Steam Pump Ranch\, nestled at the base of the Catalina Mountains’ Pusch Ridge along the Northwest Oracle Road corridor. \nSee Heirloom Farmers Market for more details.
URL:https://iloveov.com/oro-valley-event/heirloom-farmers-market/2024-06-22/
LOCATION:Steam Pump Ranch\, 10901 N Oracle Road\, Oro Valley\, AZ\, 85737\, United States
END:VEVENT
BEGIN:VEVENT
DTSTART;TZID=America/Phoenix:20240622T062200
DTEND;TZID=America/Phoenix:20240622T062200
DTSTAMP:20260420T043437
CREATED:20240418T222453Z
LAST-MODIFIED:20240418T222529Z
UID:10001426-1719037320-1719037320@iloveov.com
SUMMARY:Roundup at the Ranch 5K
DESCRIPTION:Prepare for the annual Roundup at the Ranch 5k\, a thrilling event set along the scenic CDO multi-use path\, kicking off and concluding at Steam Pump Ranch. Indulge in food truck delights\, entertainment\, and much more! \nDate: Saturday\, June 22\, 2024\, at 6:22 pm\nLocation: Steam Pump Ranch\, 10901 N. Oracle Rd. \nRegistration: $35 before race day; $40 on race day \nAll are welcome\, whether running\, walking\, or pushing strollers! Prizes await the top male and female participants\, as well as 1st through 3rd place winners in each ten-year age category. Proceeds from this event will support the Town’s Round Up for Youth Recreation Scholarship Program. \nChildren aged 12 and under can race for free when accompanied by a paying adult. \nPacket pickup will be on Friday\, June 21st\, from 2-5 pm at Fleet Feet Oro Valley: 7607 N Oracle Rd #121\, Oro Valley\, AZ 85704. \nRegistration
URL:https://iloveov.com/oro-valley-event/roundup-at-the-ranch-5k/
LOCATION:Steam Pump Ranch\, 10901 N Oracle Road\, Oro Valley\, AZ\, 85737\, United States
CATEGORIES:Community Events
END:VEVENT
BEGIN:VEVENT
DTSTART;TZID=America/Phoenix:20240615T100000
DTEND;TZID=America/Phoenix:20240615T120000
DTSTAMP:20260420T043437
CREATED:20240606T165102Z
LAST-MODIFIED:20240606T170906Z
UID:10001543-1718445600-1718452800@iloveov.com
SUMMARY:Commemorative for Henry King Zipf
DESCRIPTION:Henry King Zipf was a fifth-generation Tucsonan\, born to Henry George Zipf and Ann Lourie Zipf\, and the great-grandson of George Pusch for whom Pusch Ridge\, Pusch View Lane\, Pusch Ridge Golf Course\, Pusch Ridge Christian Academy\, and so many other areas in Oro Valley are named.  Henry was also a lifetime active member\, Board member\, and past Oro Valley Historical Society president.  He was born on June 15\, 1956\, and died on May 7\, 2023. \nIn honor of Henry\, on the anniversary of his birthday\, the Oro Valley Historical Society will hold a commemorative gathering at the Pusch House Museum on the historic Steam Pump Ranch at 10901 North Oracle Road on June 15 at 10 a.m. \nHenry and his father loved riding horses through the Catalina Mountains (before it became a state park).  With donations made in Henry’s honor from friends\, members of the Society\, and family members\, the Society has purchased and will dedicate a memorial bench that will sit in front of the Pusch House facing his beloved mountains and his great grandfather’s home.  The Society welcomes all who come to visit the Ranch to enjoy the view from this site\, which contributed significantly to the early development of the Tucson region. \nBefore and after the dedication\, enjoy the Saturday Heirloom Farmers’ Market and tour the Pusch House Museum from 9 a.m. to noon.  Docents will be available to answer questions and provide additional information about the Oro Valley Historical Society\, formed to keep Oro Valley history alive.  Join us – history loves company!
URL:https://iloveov.com/oro-valley-event/commemorative-for-henry-king-zipf/
LOCATION:Steam Pump Ranch\, 10901 N Oracle Road\, Oro Valley\, AZ\, 85737\, United States
CATEGORIES:Community Events
END:VEVENT
BEGIN:VEVENT
DTSTART;TZID=America/Phoenix:20240615T080000
DTEND;TZID=America/Phoenix:20240615T120000
DTSTAMP:20260420T043437
CREATED:20221229T165213Z
LAST-MODIFIED:20230822T173557Z
UID:10000820-1718438400-1718452800@iloveov.com
SUMMARY:Heirloom Farmers Market
DESCRIPTION:The Oro Valley Farmers Market sets up every Saturday morning at Steam Pump Ranch\, nestled at the base of the Catalina Mountains’ Pusch Ridge along the Northwest Oracle Road corridor. \nSee Heirloom Farmers Market for more details.
URL:https://iloveov.com/oro-valley-event/heirloom-farmers-market/2024-06-15/
LOCATION:Steam Pump Ranch\, 10901 N Oracle Road\, Oro Valley\, AZ\, 85737\, United States
END:VEVENT
BEGIN:VEVENT
DTSTART;TZID=America/Phoenix:20240614T180000
DTEND;TZID=America/Phoenix:20240614T220000
DTSTAMP:20260420T043437
CREATED:20240601T200104Z
LAST-MODIFIED:20240601T200105Z
UID:10001541-1718388000-1718402400@iloveov.com
SUMMARY:Parents Night Out
DESCRIPTION:Drop off the kids at the ranch and go enjoy your evening. We will treat your kids to a movie\, games\, crafts\, pizza\, and snacks. Enjoy a night to yourself while your child has a blast with us.\nAge(s): 5-12
URL:https://iloveov.com/oro-valley-event/parents-night-out-2/
LOCATION:Steam Pump Ranch\, 10901 N Oracle Road\, Oro Valley\, AZ\, 85737\, United States
CATEGORIES:Community Events
END:VEVENT
BEGIN:VEVENT
DTSTART;TZID=America/Phoenix:20240608T080000
DTEND;TZID=America/Phoenix:20240608T120000
DTSTAMP:20260420T043437
CREATED:20221229T165213Z
LAST-MODIFIED:20230822T173557Z
UID:10000819-1717833600-1717848000@iloveov.com
SUMMARY:Heirloom Farmers Market
DESCRIPTION:The Oro Valley Farmers Market sets up every Saturday morning at Steam Pump Ranch\, nestled at the base of the Catalina Mountains’ Pusch Ridge along the Northwest Oracle Road corridor. \nSee Heirloom Farmers Market for more details.
URL:https://iloveov.com/oro-valley-event/heirloom-farmers-market/2024-06-08/
LOCATION:Steam Pump Ranch\, 10901 N Oracle Road\, Oro Valley\, AZ\, 85737\, United States
END:VEVENT
BEGIN:VEVENT
DTSTART;TZID=America/Phoenix:20240601T080000
DTEND;TZID=America/Phoenix:20240601T120000
DTSTAMP:20260420T043437
CREATED:20221229T165213Z
LAST-MODIFIED:20230822T173557Z
UID:10000818-1717228800-1717243200@iloveov.com
SUMMARY:Heirloom Farmers Market
DESCRIPTION:The Oro Valley Farmers Market sets up every Saturday morning at Steam Pump Ranch\, nestled at the base of the Catalina Mountains’ Pusch Ridge along the Northwest Oracle Road corridor. \nSee Heirloom Farmers Market for more details.
URL:https://iloveov.com/oro-valley-event/heirloom-farmers-market/2024-06-01/
LOCATION:Steam Pump Ranch\, 10901 N Oracle Road\, Oro Valley\, AZ\, 85737\, United States
END:VEVENT
BEGIN:VEVENT
DTSTART;TZID=America/Phoenix:20240525T080000
DTEND;TZID=America/Phoenix:20240525T120000
DTSTAMP:20260420T043437
CREATED:20221229T165213Z
LAST-MODIFIED:20230822T173557Z
UID:10000817-1716624000-1716638400@iloveov.com
SUMMARY:Heirloom Farmers Market
DESCRIPTION:The Oro Valley Farmers Market sets up every Saturday morning at Steam Pump Ranch\, nestled at the base of the Catalina Mountains’ Pusch Ridge along the Northwest Oracle Road corridor. \nSee Heirloom Farmers Market for more details.
URL:https://iloveov.com/oro-valley-event/heirloom-farmers-market/2024-05-25/
LOCATION:Steam Pump Ranch\, 10901 N Oracle Road\, Oro Valley\, AZ\, 85737\, United States
END:VEVENT
BEGIN:VEVENT
DTSTART;TZID=America/Phoenix:20240518T080000
DTEND;TZID=America/Phoenix:20240518T120000
DTSTAMP:20260420T043437
CREATED:20221229T165213Z
LAST-MODIFIED:20230822T173557Z
UID:10000816-1716019200-1716033600@iloveov.com
SUMMARY:Heirloom Farmers Market
DESCRIPTION:The Oro Valley Farmers Market sets up every Saturday morning at Steam Pump Ranch\, nestled at the base of the Catalina Mountains’ Pusch Ridge along the Northwest Oracle Road corridor. \nSee Heirloom Farmers Market for more details.
URL:https://iloveov.com/oro-valley-event/heirloom-farmers-market/2024-05-18/
LOCATION:Steam Pump Ranch\, 10901 N Oracle Road\, Oro Valley\, AZ\, 85737\, United States
END:VEVENT
BEGIN:VEVENT
DTSTART;TZID=America/Phoenix:20240511T080000
DTEND;TZID=America/Phoenix:20240511T120000
DTSTAMP:20260420T043437
CREATED:20221229T165213Z
LAST-MODIFIED:20230822T173557Z
UID:10000815-1715414400-1715428800@iloveov.com
SUMMARY:Heirloom Farmers Market
DESCRIPTION:The Oro Valley Farmers Market sets up every Saturday morning at Steam Pump Ranch\, nestled at the base of the Catalina Mountains’ Pusch Ridge along the Northwest Oracle Road corridor. \nSee Heirloom Farmers Market for more details.
URL:https://iloveov.com/oro-valley-event/heirloom-farmers-market/2024-05-11/
LOCATION:Steam Pump Ranch\, 10901 N Oracle Road\, Oro Valley\, AZ\, 85737\, United States
END:VEVENT
BEGIN:VEVENT
DTSTART;TZID=America/Phoenix:20240510T180000
DTEND;TZID=America/Phoenix:20240510T220000
DTSTAMP:20260420T043437
CREATED:20240502T222302Z
LAST-MODIFIED:20240502T222333Z
UID:10001496-1715364000-1715378400@iloveov.com
SUMMARY:Parents Night Out
DESCRIPTION:Drop the kids off at the ranch and enjoy your evening. We will treat your kids to a movie\, games\, crafts\, pizza\, and snacks. Enjoy a night to yourself while your child has a blast with us.\nAge(s): 5-12\nRegistration Link: Click here
URL:https://iloveov.com/oro-valley-event/parents-night-out/
LOCATION:Steam Pump Ranch\, 10901 N Oracle Road\, Oro Valley\, AZ\, 85737\, United States
END:VEVENT
END:VCALENDAR