BEGIN:VCALENDAR
VERSION:2.0
PRODID:-//ILoveOV.com - ECPv6.11.1//NONSGML v1.0//EN
CALSCALE:GREGORIAN
METHOD:PUBLISH
X-ORIGINAL-URL:https://iloveov.com
X-WR-CALDESC:Events for ILoveOV.com
REFRESH-INTERVAL;VALUE=DURATION:PT1H
X-Robots-Tag:noindex
X-PUBLISHED-TTL:PT1H
BEGIN:VTIMEZONE
TZID:America/Phoenix
BEGIN:STANDARD
TZOFFSETFROM:-0700
TZOFFSETTO:-0700
TZNAME:MST
DTSTART:20240101T000000
END:STANDARD
END:VTIMEZONE
BEGIN:VEVENT
DTSTART;TZID=America/Phoenix:20240607T130000
DTEND;TZID=America/Phoenix:20240607T150000
DTSTAMP:20260421T013402
CREATED:20240601T192939Z
LAST-MODIFIED:20240601T192939Z
UID:10001538-1717765200-1717772400@iloveov.com
SUMMARY:Schulz Financial Group hosts Ice Cream Social
DESCRIPTION:Summer is here\, and what better way to beat the heat than with a delicious scoop of ice cream? \nChamber member Schulz Financial Group invites you to join them for a refreshing ice cream social on Friday\, June 7\, from 1 to 3 p.m. The event will be held at their office located at 6849 N. Oracle\, Suite 175. \nMary Schulz\, a valued member of your Chamber board\, encourages guests to take this opportunity to learn more about the firm’s comprehensive services\, which include financial planning\, wealth management\, and life insurance. “Do you know someone who can benefit?” she asks\, extending the invitation to friends and family who may be interested in securing their financial future. \nTo attend this sweet event\, please RSVP by emailing info@schulzfinancialgroup.com or calling 520-495-2800. Don’t miss out on this chance to cool off\, enjoy a tasty treat\, and explore Schulz Financial Group’s financial services.
URL:https://iloveov.com/oro-valley-event/schulz-financial-group-hosts-ice-cream-social/
LOCATION:Schulz Financial Group\, 6849 N Oracle Rd\, Suite 175\, Oro Valley\, AZ\, 85704\, United States
END:VEVENT
END:VCALENDAR