BEGIN:VCALENDAR
VERSION:2.0
PRODID:-//ILoveOV.com - ECPv6.11.1//NONSGML v1.0//EN
CALSCALE:GREGORIAN
METHOD:PUBLISH
X-ORIGINAL-URL:https://iloveov.com
X-WR-CALDESC:Events for ILoveOV.com
REFRESH-INTERVAL;VALUE=DURATION:PT1H
X-Robots-Tag:noindex
X-PUBLISHED-TTL:PT1H
BEGIN:VTIMEZONE
TZID:America/Phoenix
BEGIN:STANDARD
TZOFFSETFROM:-0700
TZOFFSETTO:-0700
TZNAME:MST
DTSTART:20260101T000000
END:STANDARD
END:VTIMEZONE
BEGIN:VEVENT
DTSTART;TZID=America/Phoenix:20260130T140000
DTEND;TZID=America/Phoenix:20260130T160000
DTSTAMP:20260420T030624
CREATED:20260121T201443Z
LAST-MODIFIED:20260121T201443Z
UID:10003256-1769781600-1769788800@iloveov.com
SUMMARY:Ribbon Cutting for Pink's Windows
DESCRIPTION:Join the Oro Valley Chamber of Commerce to cut a ribbon and celebrate this new Oro Valley business!
URL:https://iloveov.com/oro-valley-event/ribbon-cutting-for-pinks-windows/
LOCATION:Pimk’s Windows\, 10371 N Oracle Rd. Ste 106\, Oro Valley
CATEGORIES:OV Chamber Foundation
END:VEVENT
END:VCALENDAR