BEGIN:VCALENDAR
VERSION:2.0
PRODID:-//ILoveOV.com - ECPv6.11.1//NONSGML v1.0//EN
CALSCALE:GREGORIAN
METHOD:PUBLISH
X-WR-CALNAME:ILoveOV.com
X-ORIGINAL-URL:https://iloveov.com
X-WR-CALDESC:Events for ILoveOV.com
REFRESH-INTERVAL;VALUE=DURATION:PT1H
X-Robots-Tag:noindex
X-PUBLISHED-TTL:PT1H
BEGIN:VTIMEZONE
TZID:America/Phoenix
BEGIN:STANDARD
TZOFFSETFROM:-0700
TZOFFSETTO:-0700
TZNAME:MST
DTSTART:20230101T000000
END:STANDARD
END:VTIMEZONE
BEGIN:VEVENT
DTSTART;TZID=America/Phoenix:20260409T160000
DTEND;TZID=America/Phoenix:20260409T180000
DTSTAMP:20260421T033353
CREATED:20260322T175857Z
LAST-MODIFIED:20260322T175858Z
UID:10003524-1775750400-1775757600@iloveov.com
SUMMARY:Evening Mixer with Pima Federal Credit Union
DESCRIPTION:Join the Oro Valley Chamber of Commerce for an evening mixer! Connect with fellow professionals\, entrepreneurs\, and community leaders in a relaxed and welcoming atmosphere. The premier networking event you won’t want to miss!
URL:https://iloveov.com/oro-valley-event/evening-mixer-with-pima-federal-credit-union-2/
LOCATION:Pima Federal Credit Union\, 11025 N Oracle Rd\, Oro Valley\, Arizona\, 85737
CATEGORIES:OV Chamber of Commerce
END:VEVENT
BEGIN:VEVENT
DTSTART;TZID=America/Phoenix:20250212T170000
DTEND;TZID=America/Phoenix:20250212T180000
DTSTAMP:20260421T033353
CREATED:20250204T000423Z
LAST-MODIFIED:20250204T000534Z
UID:10002090-1739379600-1739383200@iloveov.com
SUMMARY:Gen Z Committee Meeting
DESCRIPTION:Join the Oro Valley Chamber of Commerce for the Gen Z Committee meeting! Are you Gen Z and wanting to make friends and business connections that are your age? Please join us for a fun hour of connection after work. Everyone (under 30) is welcome to attend!
URL:https://iloveov.com/oro-valley-event/gen-z-committee-meeting-2/
LOCATION:Pima Federal Credit Union\, 11025 N Oracle Rd\, Oro Valley\, Arizona\, 85737
END:VEVENT
BEGIN:VEVENT
DTSTART;TZID=America/Phoenix:20231012T080000
DTEND;TZID=America/Phoenix:20231012T170000
DTSTAMP:20260421T033353
CREATED:20230919T181532Z
LAST-MODIFIED:20231011T132638Z
UID:10001179-1697097600-1697130000@iloveov.com
SUMMARY:Evening Mixer with Pima Federal Credit Union
DESCRIPTION:Oro Valley membership mixer event at Pima Federal Credit Union. Join us to meet new people\, grow your network\, expand your business\, and enjoy yourself. Stay for ten minutes or two hours!
URL:https://iloveov.com/oro-valley-event/evening-mixer-with-pima-federal-credit-union/
LOCATION:Pima Federal Credit Union\, 11025 N Oracle Rd\, Oro Valley\, Arizona\, 85737
END:VEVENT
END:VCALENDAR