BEGIN:VCALENDAR
VERSION:2.0
PRODID:-//ILoveOV.com - ECPv6.11.1//NONSGML v1.0//EN
CALSCALE:GREGORIAN
METHOD:PUBLISH
X-WR-CALNAME:ILoveOV.com
X-ORIGINAL-URL:https://iloveov.com
X-WR-CALDESC:Events for ILoveOV.com
REFRESH-INTERVAL;VALUE=DURATION:PT1H
X-Robots-Tag:noindex
X-PUBLISHED-TTL:PT1H
BEGIN:VTIMEZONE
TZID:America/Phoenix
BEGIN:STANDARD
TZOFFSETFROM:-0700
TZOFFSETTO:-0700
TZNAME:MST
DTSTART:20250101T000000
END:STANDARD
END:VTIMEZONE
BEGIN:VEVENT
DTSTART;TZID=America/Phoenix:20251214T180000
DTEND;TZID=America/Phoenix:20251214T200000
DTSTAMP:20260422T103105
CREATED:20251104T230217Z
LAST-MODIFIED:20251104T230217Z
UID:10002912-1765735200-1765742400@iloveov.com
SUMMARY:Chris Baron (Oro Valley Concert Series)
DESCRIPTION:Join us for an evening of Folk Rock at the ORO VALLEY CONCERT SERIES featuring Chris Baron from 6 to 8 PM at OV Pizza & Pints. \nPortland-based songwriter Chris Baron took top honors at the 2022 Tucson Folk Festival Songwriting Competition. His music combines clever lyricism with genuine emotion\, and he’s currently working on a new album. Baron has recently performed alongside cellist Starchild and collaborated with Gabe Witcher of Punch Brothers. \nFor more information about OV Pizza & Pints\, visit: https://ovpizzaandpints.com
URL:https://iloveov.com/oro-valley-event/chris-baron-oro-valley-concert-series/
LOCATION:OV Pizza & Pints\, 11165 North La Cañada Drive\, Oro Valley\, Arizona\, 85737
CATEGORIES:Live Music
END:VEVENT
END:VCALENDAR