BEGIN:VCALENDAR
VERSION:2.0
PRODID:-//ILoveOV.com - ECPv6.11.1//NONSGML v1.0//EN
CALSCALE:GREGORIAN
METHOD:PUBLISH
X-WR-CALNAME:ILoveOV.com
X-ORIGINAL-URL:https://iloveov.com
X-WR-CALDESC:Events for ILoveOV.com
REFRESH-INTERVAL;VALUE=DURATION:PT1H
X-Robots-Tag:noindex
X-PUBLISHED-TTL:PT1H
BEGIN:VTIMEZONE
TZID:America/Phoenix
BEGIN:STANDARD
TZOFFSETFROM:-0700
TZOFFSETTO:-0700
TZNAME:MST
DTSTART:20240101T000000
END:STANDARD
END:VTIMEZONE
BEGIN:VEVENT
DTSTART;TZID=America/Phoenix:20251212T080000
DTEND;TZID=America/Phoenix:20251212T170000
DTSTAMP:20260422T103625
CREATED:20251201T162511Z
LAST-MODIFIED:20251201T162511Z
UID:10003055-1765526400-1765558800@iloveov.com
SUMMARY:Ethel M Chocolates tasting at Nest in the Desert
DESCRIPTION:We’re hosting an Ethel M Chocolates tasting at Nest in the Desert on Friday\, December 12\, from 12–2 PM\, and you should absolutely swing by. These handcrafted Southwest chocolates are legit and pair perfectly with a little holiday browsing. \nCome taste\, shop\, laugh\, and take a breather from Thanksgiving chaos before it even starts. Bring a friend. Stay awhile. Treat yourself. \nSee you on Friday. \nRobyn & Nest in the Desert Team
URL:https://iloveov.com/oro-valley-event/ethel-m-chocolates-tasting-at-nest-in-the-desert-2/
LOCATION:Nest in the Desert\, 7954 N Oracle Rd.\, Oro Valley\, AZ\, 85737\, United States
END:VEVENT
BEGIN:VEVENT
DTSTART;TZID=America/Phoenix:20251129T100000
DTEND;TZID=America/Phoenix:20251129T173000
DTSTAMP:20260422T103625
CREATED:20251126T134217Z
LAST-MODIFIED:20251126T134217Z
UID:10002999-1764410400-1764437400@iloveov.com
SUMMARY:Black Friday Sale - Nest in the Desert
DESCRIPTION:
URL:https://iloveov.com/oro-valley-event/black-friday-sale-nest-in-the-desert/2025-11-29/
LOCATION:Nest in the Desert\, 7954 N Oracle Rd.\, Oro Valley\, AZ\, 85737\, United States
END:VEVENT
BEGIN:VEVENT
DTSTART;TZID=America/Phoenix:20251128T100000
DTEND;TZID=America/Phoenix:20251128T173000
DTSTAMP:20260422T103625
CREATED:20251126T134217Z
LAST-MODIFIED:20251126T134217Z
UID:10002998-1764324000-1764351000@iloveov.com
SUMMARY:Black Friday Sale - Nest in the Desert
DESCRIPTION:
URL:https://iloveov.com/oro-valley-event/black-friday-sale-nest-in-the-desert/2025-11-28/
LOCATION:Nest in the Desert\, 7954 N Oracle Rd.\, Oro Valley\, AZ\, 85737\, United States
END:VEVENT
BEGIN:VEVENT
DTSTART;TZID=America/Phoenix:20251122T120000
DTEND;TZID=America/Phoenix:20251122T140000
DTSTAMP:20260422T103625
CREATED:20251119T190557Z
LAST-MODIFIED:20251119T190557Z
UID:10002972-1763812800-1763820000@iloveov.com
SUMMARY:Ethel M Chocolates tasting at Nest in the Desert
DESCRIPTION:We’re hosting an Ethel M Chocolates tasting at Nest in the Desert on Saturday\, November \n \n 22nd from 12–2 PM\, and you should absolutely swing by. These handcrafted Southwest chocolates are legit and pair perfectly with a little holiday browsing. \nCome taste\, shop\, laugh\, and take a breather from Thanksgiving chaos before it even starts. Bring a friend. Stay awhile. Treat yourself. \nSee you Saturday. \nRobyn & Nest in the Desert Team
URL:https://iloveov.com/oro-valley-event/ethel-m-chocolates-tasting-at-nest-in-the-desert/
LOCATION:Nest in the Desert\, 7954 N Oracle Rd.\, Oro Valley\, AZ\, 85737\, United States
CATEGORIES:Community Events
END:VEVENT
BEGIN:VEVENT
DTSTART;TZID=America/Phoenix:20250213T160000
DTEND;TZID=America/Phoenix:20250213T180000
DTSTAMP:20260422T103625
CREATED:20250201T185544Z
LAST-MODIFIED:20250201T185648Z
UID:10002071-1739462400-1739469600@iloveov.com
SUMMARY:Galentine's Day - Nest in the desert
DESCRIPTION:
URL:https://iloveov.com/oro-valley-event/galentines-day-nest-in-the-desert/
LOCATION:Nest in the Desert\, 7954 N Oracle Rd.\, Oro Valley\, AZ\, 85737\, United States
CATEGORIES:Community Events
END:VEVENT
BEGIN:VEVENT
DTSTART;TZID=America/Phoenix:20240509T150000
DTEND;TZID=America/Phoenix:20240509T180000
DTSTAMP:20260422T103625
CREATED:20240506T213219Z
LAST-MODIFIED:20240506T213325Z
UID:10001500-1715266800-1715277600@iloveov.com
SUMMARY:Nest in the Desert - Sip and Shop
DESCRIPTION:Join Nest in the Desert for a Mother’s Day “Sip and Shop” event this Thursday\, May 9\, from 3 to 6 p.m.  \nCelebrate the remarkable women in your life by exploring our unique furniture and gift items collection. Enjoy the comfort and elegance they deserve\, all while sipping champagne! Nest in the Desert features a selection of specially curated home décor. Find us at 7954 N. Oracle\, in Plaza Escondida\, at the corner of Oracle and Magee.  \nOur store hours are Monday through Saturday from 10 a.m. to 6 p.m. and Sunday from 11 a.m. to 4 p.m. Call us at 520-297-8299 or visit our website at nestinthedesert.com.
URL:https://iloveov.com/oro-valley-event/nest-in-the-desert-sip-and-shop/
LOCATION:Nest in the Desert\, 7954 N Oracle Rd.\, Oro Valley\, AZ\, 85737\, United States
END:VEVENT
END:VCALENDAR