BEGIN:VCALENDAR
VERSION:2.0
PRODID:-//ILoveOV.com - ECPv6.11.1//NONSGML v1.0//EN
CALSCALE:GREGORIAN
METHOD:PUBLISH
X-ORIGINAL-URL:https://iloveov.com
X-WR-CALDESC:Events for ILoveOV.com
REFRESH-INTERVAL;VALUE=DURATION:PT1H
X-Robots-Tag:noindex
X-PUBLISHED-TTL:PT1H
BEGIN:VTIMEZONE
TZID:America/Phoenix
BEGIN:STANDARD
TZOFFSETFROM:-0700
TZOFFSETTO:-0700
TZNAME:MST
DTSTART:20250101T000000
END:STANDARD
END:VTIMEZONE
BEGIN:VEVENT
DTSTART;TZID=America/Phoenix:20251107T080000
DTEND;TZID=America/Phoenix:20251107T100000
DTSTAMP:20260422T120951
CREATED:20251104T213452Z
LAST-MODIFIED:20251104T213742Z
UID:10002883-1762502400-1762509600@iloveov.com
SUMMARY:Perk Before Work with La Posada at Pusch Ridge
DESCRIPTION:Kickstart Your Friday with the Oro Valley Chamber of Commerce! \nJoin the Oro Valley Chamber of Commerce for a morning mixer and connect with fellow business professionals before your workday begins. Network\, learn\, and grow alongside other community members while we tour and celebrate the beautiful new campus at La Posada at Pusch Ridge. It’s the perfect way to energize your Friday morning!
URL:https://iloveov.com/oro-valley-event/perk-before-work-with-la-posada-at-pusch-ridge/
LOCATION:La Posado at Pusch Ridge\, 11050 N. Avenida Posada de Oro\, Oro Valley\, Arizona\, 85737
CATEGORIES:OV Chamber of Commerce
END:VEVENT
END:VCALENDAR