BEGIN:VCALENDAR
VERSION:2.0
PRODID:-//ILoveOV.com - ECPv6.11.1//NONSGML v1.0//EN
CALSCALE:GREGORIAN
METHOD:PUBLISH
X-ORIGINAL-URL:https://iloveov.com
X-WR-CALDESC:Events for ILoveOV.com
REFRESH-INTERVAL;VALUE=DURATION:PT1H
X-Robots-Tag:noindex
X-PUBLISHED-TTL:PT1H
BEGIN:VTIMEZONE
TZID:America/Phoenix
BEGIN:STANDARD
TZOFFSETFROM:-0700
TZOFFSETTO:-0700
TZNAME:MST
DTSTART:20260101T000000
END:STANDARD
END:VTIMEZONE
BEGIN:VEVENT
DTSTART;TZID=America/Phoenix:20260327T160000
DTEND;TZID=America/Phoenix:20260327T170000
DTSTAMP:20260420T030003
CREATED:20260322T173729Z
LAST-MODIFIED:20260322T173729Z
UID:10003517-1774627200-1774630800@iloveov.com
SUMMARY:Grand Opening for Happy Joe's Pizza and Ice Cream
DESCRIPTION:Please join the Oro Valley Chamber of Commerce to celebrate the grand opening of Happy Joe’s Pizza and Ice Cream! We’ll honor this new business and check out their space.
URL:https://iloveov.com/oro-valley-event/grand-opening-for-happy-joes-pizza-and-ice-cream/
LOCATION:Happy Joe’s Oro Valley\, 11695 N Oracle Rd
CATEGORIES:OV Chamber of Commerce
END:VEVENT
END:VCALENDAR