BEGIN:VCALENDAR
VERSION:2.0
PRODID:-//ILoveOV.com - ECPv6.11.1//NONSGML v1.0//EN
CALSCALE:GREGORIAN
METHOD:PUBLISH
X-ORIGINAL-URL:https://iloveov.com
X-WR-CALDESC:Events for ILoveOV.com
REFRESH-INTERVAL;VALUE=DURATION:PT1H
X-Robots-Tag:noindex
X-PUBLISHED-TTL:PT1H
BEGIN:VTIMEZONE
TZID:America/Phoenix
BEGIN:STANDARD
TZOFFSETFROM:-0700
TZOFFSETTO:-0700
TZNAME:MST
DTSTART:20250101T000000
END:STANDARD
END:VTIMEZONE
BEGIN:VEVENT
DTSTART;TZID=America/Phoenix:20250725T180000
DTEND;TZID=America/Phoenix:20250725T200000
DTSTAMP:20260422T150627
CREATED:20250611T225741Z
LAST-MODIFIED:20251101T091021Z
UID:10002397-1753466400-1753473600@iloveov.com
SUMMARY:Live Music - SAACA Presents The Hanshaws: Oro Valley Summer Concert Series 2025
DESCRIPTION:The Oro Valley Concert Series is a prime example of how arts and business integration can foster community engagement and promote local economic growth. Held at venues throughout the town\, the series attracts hundreds of attendees each month. In partnership with the Town of Oro Valley\, this ongoing program enhances economic development\, promotes local talent\, and expands public access to the arts—all while strengthening the community’s cultural fabric. \nThe Hanshaws \nDavid\, originally from West Virginia\, and Kelly\, originally from Oklahoma\, met in Tucson\, Arizona\, while playing the local nightclub circuit. They began performing together and were soon married. They traveled the country\, playing large dance halls and venues in Arizona\, Colorado\, Nebraska\, Wyoming\, and throughout New Mexico. They have shared stages with names like Vern Gosdin\, Mel Mc
URL:https://iloveov.com/oro-valley-event/live-music-saaca-presents-oro-valley-summer-concert-series-2025-4/
LOCATION:Handel’s Homemade Ice Cream\, 7315 N Oracle Rd\, Oro Valley\, 85704\, United States
CATEGORIES:Live Music,SAACA
END:VEVENT
END:VCALENDAR