BEGIN:VCALENDAR
VERSION:2.0
PRODID:-//ILoveOV.com - ECPv6.11.1//NONSGML v1.0//EN
CALSCALE:GREGORIAN
METHOD:PUBLISH
X-ORIGINAL-URL:https://iloveov.com
X-WR-CALDESC:Events for ILoveOV.com
REFRESH-INTERVAL;VALUE=DURATION:PT1H
X-Robots-Tag:noindex
X-PUBLISHED-TTL:PT1H
BEGIN:VTIMEZONE
TZID:America/Phoenix
BEGIN:STANDARD
TZOFFSETFROM:-0700
TZOFFSETTO:-0700
TZNAME:MST
DTSTART:20260101T000000
END:STANDARD
END:VTIMEZONE
BEGIN:VEVENT
DTSTART;TZID=America/Phoenix:20260306T170000
DTEND;TZID=America/Phoenix:20260306T190000
DTSTAMP:20260423T093600
CREATED:20251104T230834Z
LAST-MODIFIED:20251104T230834Z
UID:10002914-1772816400-1772823600@iloveov.com
SUMMARY:Oro Valley Concert Series: David Argentati (Classic Rock & Pop)
DESCRIPTION:For this ORO VALLEY CONCERT SERIES night of live music\, enjoy an evening of Classic 70s Rock and Pop music performed by David Argentati from 5-7 PM at Handel’s Homemade Ice Cream.
URL:https://iloveov.com/oro-valley-event/oro-valley-concert-series-david-argentati-classic-rock-pop/
LOCATION:Handel’s Homemade Ice Cream\, 7315 N Oracle Rd Tucson\, Oro Valley\, Arizona\, 85704
CATEGORIES:Live Music
END:VEVENT
END:VCALENDAR