BEGIN:VCALENDAR
VERSION:2.0
PRODID:-//ILoveOV.com - ECPv6.11.1//NONSGML v1.0//EN
CALSCALE:GREGORIAN
METHOD:PUBLISH
X-WR-CALNAME:ILoveOV.com
X-ORIGINAL-URL:https://iloveov.com
X-WR-CALDESC:Events for ILoveOV.com
REFRESH-INTERVAL;VALUE=DURATION:PT1H
X-Robots-Tag:noindex
X-PUBLISHED-TTL:PT1H
BEGIN:VTIMEZONE
TZID:America/Phoenix
BEGIN:STANDARD
TZOFFSETFROM:-0700
TZOFFSETTO:-0700
TZNAME:MST
DTSTART:20240101T000000
END:STANDARD
END:VTIMEZONE
BEGIN:VEVENT
DTSTART;TZID=America/Phoenix:20250804T090000
DTEND;TZID=America/Phoenix:20250804T140000
DTSTAMP:20260422T164133
CREATED:20250725T210647Z
LAST-MODIFIED:20251101T090955Z
UID:10002553-1754298000-1754316000@iloveov.com
SUMMARY:Roll up your sleeves and help save lives at Golder Ranch Fire District's upcoming blood drive!
DESCRIPTION:Golder Ranch Fire District is partnering with the Red Cross to host a community blood drive on Monday\, August 4th at their Station 380\, located at 1175 West Magee Road. \nThis public blood drive runs from 9 a.m. to 2 p.m. and offers our community a convenient opportunity to make a life-saving difference. Every donation helps maintain the critical blood supply that hospitals depend on for emergency situations\, surgeries\, and patient care. \nReady to donate? You can easily schedule your appointment by calling 1-800-733-2767 or visiting redcrossblood.org and entering the sponsor code grfdaz. \nAs the fire district reminds us: “Help keep the supply afloat – give blood.” It’s a simple act that can have an extraordinary impact on someone’s life. Mark your calendar and join your neighbors in this vital community effort!
URL:https://iloveov.com/oro-valley-event/roll-up-your-sleeves-and-help-save-lives-at-golder-ranch-fire-districts-upcoming-blood-drive/
LOCATION:Golder Ranch Fire District\, 1600 E Hanley Blvd\, Oro Valley\, AZ\, 85737\, United States
END:VEVENT
BEGIN:VEVENT
DTSTART;TZID=America/Phoenix:20240415T100000
DTEND;TZID=America/Phoenix:20240415T120000
DTSTAMP:20260422T164133
CREATED:20240408T214747Z
LAST-MODIFIED:20240408T214801Z
UID:10001399-1713175200-1713182400@iloveov.com
SUMMARY:Ribbon Cutting for Golder Ranch Fire District's new Headquarters
DESCRIPTION:Join us as we cut the ribbon on Diamond member Golder Ranch Fire District’s new headquarters! There will be lots of fun and festivities\, so don’t miss out!
URL:https://iloveov.com/oro-valley-event/ribbon-cutting-for-golder-ranch-fire-districts-new-headquarters/
LOCATION:Golder Ranch Fire District\, 1600 E Hanley Blvd\, Oro Valley\, AZ\, 85737\, United States
CATEGORIES:OV Chamber of Commerce
END:VEVENT
END:VCALENDAR