BEGIN:VCALENDAR
VERSION:2.0
PRODID:-//ILoveOV.com - ECPv6.11.1//NONSGML v1.0//EN
CALSCALE:GREGORIAN
METHOD:PUBLISH
X-WR-CALNAME:ILoveOV.com
X-ORIGINAL-URL:https://iloveov.com
X-WR-CALDESC:Events for ILoveOV.com
REFRESH-INTERVAL;VALUE=DURATION:PT1H
X-Robots-Tag:noindex
X-PUBLISHED-TTL:PT1H
BEGIN:VTIMEZONE
TZID:America/Phoenix
BEGIN:STANDARD
TZOFFSETFROM:-0700
TZOFFSETTO:-0700
TZNAME:MST
DTSTART:20240101T000000
END:STANDARD
END:VTIMEZONE
BEGIN:VEVENT
DTSTART;TZID=America/Phoenix:20241024T150000
DTEND;TZID=America/Phoenix:20241024T180000
DTSTAMP:20260422T182758
CREATED:20240910T154539Z
LAST-MODIFIED:20240910T154539Z
UID:10001748-1729782000-1729792800@iloveov.com
SUMMARY:Fry's Fuel of Dreams (Special Olympics)
DESCRIPTION:OVPD Officers and Special Olympians will pump gas\, clean windows\, and sell raffle tickets that will benefit Special Olympics.
URL:https://iloveov.com/oro-valley-event/frys-fuel-of-dreams-special-olympics/
LOCATION:Frys on La Canada\, 10661 N. Oracle Road\, Oro Valley\, Arizona\, 85737
END:VEVENT
END:VCALENDAR