BEGIN:VCALENDAR
VERSION:2.0
PRODID:-//ILoveOV.com - ECPv6.11.1//NONSGML v1.0//EN
CALSCALE:GREGORIAN
METHOD:PUBLISH
X-ORIGINAL-URL:https://iloveov.com
X-WR-CALDESC:Events for ILoveOV.com
REFRESH-INTERVAL;VALUE=DURATION:PT1H
X-Robots-Tag:noindex
X-PUBLISHED-TTL:PT1H
BEGIN:VTIMEZONE
TZID:America/Phoenix
BEGIN:STANDARD
TZOFFSETFROM:-0700
TZOFFSETTO:-0700
TZNAME:MST
DTSTART:20230101T000000
END:STANDARD
END:VTIMEZONE
BEGIN:VEVENT
DTSTART;TZID=America/Phoenix:20240619T170000
DTEND;TZID=America/Phoenix:20240619T200000
DTSTAMP:20260422T150459
CREATED:20240618T182608Z
LAST-MODIFIED:20240618T182609Z
UID:10001557-1718816400-1718827200@iloveov.com
SUMMARY:Town Council Meeting Regular Session
DESCRIPTION:The Amended agenda for the  June 19\, 2024\, Oro Valley Town Council regular session can be viewed by clicking the link below or copying and pasting the link into your web browser. Click here for the agenda. \nIf this meeting includes a public hearing\, citizens can provide public comment in person by filling out a blue card or virtually via Zoom by registering at least 24 hours in advance. Click here to register.
URL:https://iloveov.com/oro-valley-event/town-council-meeting-regular-session-12/
LOCATION:Town of Oro Valley Council Chambers\, Oro Valley Town Hall\, 11000 N La Cañada Drive\, Oro Valley\, AZ\, 85737\, United States
CATEGORIES:Town Council Meeting
END:VEVENT
BEGIN:VEVENT
DTSTART;TZID=America/Phoenix:20240605T170000
DTEND;TZID=America/Phoenix:20240605T210000
DTSTAMP:20260422T150459
CREATED:20240530T160706Z
LAST-MODIFIED:20240530T160706Z
UID:10001535-1717606800-1717621200@iloveov.com
SUMMARY:Town Council Meeting Regular Session
DESCRIPTION:The agenda for the June 5\, 2024 Oro Valley Town Council regular session can be viewed by clicking the link below or copying and pasting the link into your web browser. Click here for agenda. \nIf this meeting includes a public hearing\, citizens can provide public comment in person by filling out a blue card\, or they can provide comments virtually via Zoom by registering at least 24 hours in advance. Click here to register.
URL:https://iloveov.com/oro-valley-event/town-council-meeting-regular-session-10/
LOCATION:Town of Oro Valley Council Chambers\, Oro Valley Town Hall\, 11000 N La Cañada Drive\, Oro Valley\, AZ\, 85737\, United States
CATEGORIES:Town Council Meeting
END:VEVENT
BEGIN:VEVENT
DTSTART;TZID=America/Phoenix:20240604T180000
DTEND;TZID=America/Phoenix:20240604T210000
DTSTAMP:20260422T150459
CREATED:20240528T174118Z
LAST-MODIFIED:20240528T174118Z
UID:10001504-1717524000-1717534800@iloveov.com
SUMMARY:Planning & Zoning Commission
DESCRIPTION:The agenda for the June 4\, 2024 Oro Valley Planning & Zoning Commission regular session can be viewed by clicking the link below or copying and pasting the link into your web browser. Click here for the agenda. \nIf this meeting includes a public hearing\, citizens can provide public comment in person by filling out a blue card\, or they can provide comments virtually via Zoom by registering at least 24 hours in advance. Click here to register.
URL:https://iloveov.com/oro-valley-event/planning-zoning-commission/
LOCATION:Town of Oro Valley Council Chambers\, Oro Valley Town Hall\, 11000 N La Cañada Drive\, Oro Valley\, AZ\, 85737\, United States
CATEGORIES:Planning and Zoning Commission
END:VEVENT
BEGIN:VEVENT
DTSTART;TZID=America/Phoenix:20240514T150000
DTEND;TZID=America/Phoenix:20240514T170000
DTSTAMP:20260422T150459
CREATED:20240419T191228Z
LAST-MODIFIED:20240419T191352Z
UID:10001428-1715698800-1715706000@iloveov.com
SUMMARY:Beyond Banks: Alternative Avenues to Business Financing
DESCRIPTION:Reimagine your belief that launching or expanding your small business is beyond your grasp. Reconsider! Participate in a session designed to empower entrepreneurs in finding the essential funds for their ventures. Both in-person and virtual options are open! Explore further at www.startuptucson.com. \nRegistration is required.
URL:https://iloveov.com/oro-valley-event/beyond-banks-alternative-avenues-to-business-financing/
LOCATION:Town of Oro Valley Council Chambers\, Oro Valley Town Hall\, 11000 N La Cañada Drive\, Oro Valley\, AZ\, 85737\, United States
CATEGORIES:Economic Development - Town of Oro Valley
ORGANIZER;CN="Economic Development - Town of Oro Valley":MAILTO:ovecdev@orovalleyaz.gov
END:VEVENT
BEGIN:VEVENT
DTSTART;TZID=America/Phoenix:20240509T180000
DTEND;TZID=America/Phoenix:20240509T210000
DTSTAMP:20260422T150459
CREATED:20240506T214217Z
LAST-MODIFIED:20240506T214248Z
UID:10001501-1715277600-1715288400@iloveov.com
SUMMARY:Town Council Meeting Budget Study Session
DESCRIPTION:The agenda for the May 9\, 2024 Oro Valley Town Council budget study session can be viewed by clicking the link below or copying and pasting the link into your web browser. Click here for agenda. \nIf this meeting includes a public hearing\, citizens can provide public comment in person by filling out a blue card\, or they can provide comments virtually via Zoom by registering at least 24 hours in advance. Click here to register.
URL:https://iloveov.com/oro-valley-event/town-council-meeting-budget-study-session/
LOCATION:Town of Oro Valley Council Chambers\, Oro Valley Town Hall\, 11000 N La Cañada Drive\, Oro Valley\, AZ\, 85737\, United States
CATEGORIES:Town Council Meeting
END:VEVENT
BEGIN:VEVENT
DTSTART;TZID=America/Phoenix:20240508T170000
DTEND;TZID=America/Phoenix:20240508T210000
DTSTAMP:20260422T150459
CREATED:20240506T214516Z
LAST-MODIFIED:20240506T220043Z
UID:10001502-1715187600-1715202000@iloveov.com
SUMMARY:Town Council Meeting Budget Study Session
DESCRIPTION:The agenda for the May 8\, 2024 Oro Valley Town Council budget study session can be viewed by clicking the link below or copying and pasting the link into your web browser. Click here for agenda. \nIf this meeting includes a public hearing\, citizens can provide public comment in person by filling out a blue card\, or they can provide comments virtually via Zoom by registering at least 24 hours in advance. Click here to register.
URL:https://iloveov.com/oro-valley-event/town-council-meeting-budget-study-session-2/
LOCATION:Town of Oro Valley Council Chambers\, Oro Valley Town Hall\, 11000 N La Cañada Drive\, Oro Valley\, AZ\, 85737\, United States
CATEGORIES:Town Council Meeting
END:VEVENT
BEGIN:VEVENT
DTSTART;TZID=America/Phoenix:20240507T080000
DTEND;TZID=America/Phoenix:20240507T170000
DTSTAMP:20260422T150459
CREATED:20240430T180802Z
LAST-MODIFIED:20240430T180803Z
UID:10001478-1715068800-1715101200@iloveov.com
SUMMARY:Planning & Zoning Commission Meeting Regular Session
DESCRIPTION:The agenda for the May 7\, 2024 Oro Valley Planning & Zoning Commission regular session can be viewed by clicking the link below or copying and pasting the link into your web browser. Click here for the agenda. \nIf this meeting includes a public hearing\, citizens can provide public comment in person by filling out a blue card or virtually via Zoom by registering at least 24 hours in advance. Click here to register.
URL:https://iloveov.com/oro-valley-event/planning-zoning-commission-meeting-regular-session-7/
LOCATION:Town of Oro Valley Council Chambers\, Oro Valley Town Hall\, 11000 N La Cañada Drive\, Oro Valley\, AZ\, 85737\, United States
CATEGORIES:Planning and Zoning Commission
END:VEVENT
BEGIN:VEVENT
DTSTART;TZID=America/Phoenix:20240417T180000
DTEND;TZID=America/Phoenix:20240417T210000
DTSTAMP:20260422T150459
CREATED:20240412T184815Z
LAST-MODIFIED:20240412T184816Z
UID:10001402-1713376800-1713387600@iloveov.com
SUMMARY:Town Council Meeting Regular Session
DESCRIPTION:You can access the agenda for the Oro Valley Town Council’s regular session on April 3\, 2024\, by either clicking the link below or copying and pasting it into your web browser: Click here for the agenda. \nIf there’s a public hearing during this meeting\, citizens can provide comments either in person by completing a blue card or virtually via Zoom by registering at least 24 hours in advance. Click here to register.
URL:https://iloveov.com/oro-valley-event/town-council-meeting-regular-session-9/
LOCATION:Town of Oro Valley Council Chambers\, Oro Valley Town Hall\, 11000 N La Cañada Drive\, Oro Valley\, AZ\, 85737\, United States
CATEGORIES:Town Council Meeting
END:VEVENT
BEGIN:VEVENT
DTSTART;TZID=America/Phoenix:20240403T180000
DTEND;TZID=America/Phoenix:20240403T210000
DTSTAMP:20260422T150459
CREATED:20240328T215848Z
LAST-MODIFIED:20240328T215849Z
UID:10001378-1712167200-1712178000@iloveov.com
SUMMARY:Town Council Meeting Regular Session
DESCRIPTION:The agenda for the  April 3\, 2024 Oro Valley Town Council regular session can be viewed by clicking the link below or copying and pasting the link into your web browser. Click here for agenda. \nIf this meeting includes a public hearing\, citizens can provide public comment in person by filling out a blue card\, or they can provide comments virtually via Zoom by registering at least 24 hours in advance. Click here to register.
URL:https://iloveov.com/oro-valley-event/town-council-meeting-regular-session-8/
LOCATION:Town of Oro Valley Council Chambers\, Oro Valley Town Hall\, 11000 N La Cañada Drive\, Oro Valley\, AZ\, 85737\, United States
CATEGORIES:Town Council Meeting
END:VEVENT
BEGIN:VEVENT
DTSTART;TZID=America/Phoenix:20240402T180000
DTEND;TZID=America/Phoenix:20240402T210000
DTSTAMP:20260422T150459
CREATED:20240328T220204Z
LAST-MODIFIED:20240328T220204Z
UID:10001379-1712080800-1712091600@iloveov.com
SUMMARY:Planning & Zoning Commission Meeting Regular Session
DESCRIPTION:The agenda for the April 2\, 2024 Oro Valley Planning & Zoning Commission regular session can be viewed by clicking the link below or copying and pasting the link into your web browser. Click here for agenda. \nIf this meeting includes a public hearing\, citizens can provide public comment in person by filling out a blue card\, or they can provide comments virtually via Zoom by registering at least 24 hours in advance. Click here to register.
URL:https://iloveov.com/oro-valley-event/planning-zoning-commission-meeting-regular-session-6/
LOCATION:Town of Oro Valley Council Chambers\, Oro Valley Town Hall\, 11000 N La Cañada Drive\, Oro Valley\, AZ\, 85737\, United States
CATEGORIES:Planning and Zoning Commission
END:VEVENT
BEGIN:VEVENT
DTSTART;TZID=America/Phoenix:20240320T170000
DTEND;TZID=America/Phoenix:20240320T200000
DTSTAMP:20260422T150459
CREATED:20240315T192136Z
LAST-MODIFIED:20240315T192136Z
UID:10001373-1710954000-1710964800@iloveov.com
SUMMARY:Town Council Meeting Regular and Study Session - Amended Agenda
DESCRIPTION:The amended agenda for the March 20\, 2024 Oro Valley Town Council regular and study session can be viewed by clicking the link below or copying and pasting the link into your web browser. Click here for agenda. \nIf this meeting includes a public hearing\, citizens can provide public comment in person by filling out a blue card\, or they can provide comments virtually via Zoom by registering at least 24 hours in advance. Click here to register.
URL:https://iloveov.com/oro-valley-event/town-council-meeting-regular-and-study-session-amended-agenda/
LOCATION:Town of Oro Valley Council Chambers\, Oro Valley Town Hall\, 11000 N La Cañada Drive\, Oro Valley\, AZ\, 85737\, United States
CATEGORIES:Town Council Meeting
END:VEVENT
BEGIN:VEVENT
DTSTART;TZID=America/Phoenix:20240313T180000
DTEND;TZID=America/Phoenix:20240313T193000
DTSTAMP:20260422T150459
CREATED:20240207T223350Z
LAST-MODIFIED:20240207T224703Z
UID:10001300-1710352800-1710358200@iloveov.com
SUMMARY:OV Scams and Fraud Presentation
DESCRIPTION:A FREE community presentation on current scams\, fraud\, and identity theft trends.  Learn ways to reduce your likelihood of becoming a victim!  Presentations by OVPD\, Resources/Outreach to Safeguard the Elderly (ROSE)\, and BMO Bank.  Snacks and refreshments will be served.  RSVP by emailing CRU@orovalleyaz.gov or calling (520) 229-5085.
URL:https://iloveov.com/oro-valley-event/ov-scams-and-fraud-presentation/
LOCATION:Town of Oro Valley Council Chambers\, Oro Valley Town Hall\, 11000 N La Cañada Drive\, Oro Valley\, AZ\, 85737\, United States
CATEGORIES:Public Safety Personnel Retirement System Board
END:VEVENT
BEGIN:VEVENT
DTSTART;TZID=America/Phoenix:20240306T180000
DTEND;TZID=America/Phoenix:20240306T200000
DTSTAMP:20260422T150459
CREATED:20240229T183852Z
LAST-MODIFIED:20240229T185139Z
UID:10001334-1709748000-1709755200@iloveov.com
SUMMARY:Town Council Meeting Regular and Study Session
DESCRIPTION:The agenda for the  March 6\, 2024 Oro Valley Town Council regular and study session can be viewed by clicking the link below or copying and pasting the link into your web browser. Click here for agenda. \nIf this meeting includes a public hearing\, citizens can provide public comment in person by filling out a blue card\, or they can provide comments virtually via Zoom by registering at least 24 hours in advance. Click here to register.
URL:https://iloveov.com/oro-valley-event/town-council-meeting-regular-and-study-session-6/
LOCATION:Town of Oro Valley Council Chambers\, Oro Valley Town Hall\, 11000 N La Cañada Drive\, Oro Valley\, AZ\, 85737\, United States
CATEGORIES:Town Council Meeting
END:VEVENT
BEGIN:VEVENT
DTSTART;TZID=America/Phoenix:20240305T180000
DTEND;TZID=America/Phoenix:20240305T200000
DTSTAMP:20260422T150459
CREATED:20240223T194835Z
LAST-MODIFIED:20240223T195035Z
UID:10001328-1709661600-1709668800@iloveov.com
SUMMARY:Planning & Zoning Commission Meeting Regular Session
DESCRIPTION:The Oro Valley Planning & Zoning Commission’s regular session for March 5\, 2024\, will be held at the Oro Valley Council Chambers at 5:00 p.m.  You can find the agenda for the meeting online. \nWant to weigh in on an issue? If the meeting includes a public hearing\, you can provide your comments in two ways: \n\nIn-person: Fill out a blue card at the meeting.\nVirtually: Register at least 24 hours in advance using this link.
URL:https://iloveov.com/oro-valley-event/29362/
LOCATION:Town of Oro Valley Council Chambers\, Oro Valley Town Hall\, 11000 N La Cañada Drive\, Oro Valley\, AZ\, 85737\, United States
CATEGORIES:Planning and Zoning Commission
END:VEVENT
BEGIN:VEVENT
DTSTART;TZID=America/Phoenix:20240221T180000
DTEND;TZID=America/Phoenix:20240221T210000
DTSTAMP:20260422T150459
CREATED:20240215T210732Z
LAST-MODIFIED:20240215T210843Z
UID:10001311-1708538400-1708549200@iloveov.com
SUMMARY:Town Council Meeting Regular and Study Session
DESCRIPTION:The agenda for February 21\, 2024\, Oro Valley Town Council regular and study session can be viewed by clicking the link below or copying and pasting the link into your web browser. Click here for agenda. \nIf this meeting includes a public hearing\, citizens can provide public comment in person by filling out a blue card\, or they can provide comments virtually via Zoom by registering at least 24 hours in advance. Click here to register.
URL:https://iloveov.com/oro-valley-event/town-council-meeting-regular-and-study-session-5/
LOCATION:Town of Oro Valley Council Chambers\, Oro Valley Town Hall\, 11000 N La Cañada Drive\, Oro Valley\, AZ\, 85737\, United States
CATEGORIES:Town Council Meeting
END:VEVENT
BEGIN:VEVENT
DTSTART;TZID=America/Phoenix:20240216T083000
DTEND;TZID=America/Phoenix:20240216T160000
DTSTAMP:20260422T150459
CREATED:20240214T234438Z
LAST-MODIFIED:20240214T234438Z
UID:10001310-1708072200-1708099200@iloveov.com
SUMMARY:Town Council Meeting Study Session
DESCRIPTION:The agenda for the  February 16\, 2024\, Oro Valley Town Council study session can be viewed by clicking the link below or copying and pasting the link into your web browser. Click here for agenda. \nIf this meeting includes a public hearing\, citizens can provide public comment in person by filling out a blue card\, or they can provide comments virtually via Zoom by registering at least 24 hours in advance. Click here to register.
URL:https://iloveov.com/oro-valley-event/town-council-meeting-study-session/
LOCATION:Town of Oro Valley Council Chambers\, Oro Valley Town Hall\, 11000 N La Cañada Drive\, Oro Valley\, AZ\, 85737\, United States
END:VEVENT
BEGIN:VEVENT
DTSTART;TZID=America/Phoenix:20240213T173000
DTEND;TZID=America/Phoenix:20240213T193000
DTSTAMP:20260422T150459
CREATED:20240130T221332Z
LAST-MODIFIED:20240130T221441Z
UID:10001293-1707845400-1707852600@iloveov.com
SUMMARY:Public input requested at open house for Naranja Drive Multi-Use Path
DESCRIPTION:The Town of Oro Valley and Arizona Department of Transportation (ADOT) will host an in-person open house on Tuesday\, Feb. 13\, 2024\, to share information and gather public input regarding the design concepts for a new multi-use path along the north side of Naranja Drive\, spanning from La Cañada Drive to First Avenue. This two-mile-long\, 10-foot-wide path will accommodate pedestrians and cyclists\, enhancing transportation options and connections to employment and essential services in the area. The project received $3.449 million in Regional Transportation Alternatives Grants (RTAG) funding and an additional $208\,930 in Regional Transportation Authority (RTA) funding. The open house will offer an overview of the project and a chance for residents\, businesses\, and stakeholders to ask questions and provide feedback. For those unable to attend\, additional materials and an online form for questions and comments are available on the ADOT website.
URL:https://iloveov.com/oro-valley-event/public-input-requested-at-open-house-for-naranja-drive-multi-use-path/
LOCATION:Town of Oro Valley Council Chambers\, Oro Valley Town Hall\, 11000 N La Cañada Drive\, Oro Valley\, AZ\, 85737\, United States
CATEGORIES:Community Events
END:VEVENT
BEGIN:VEVENT
DTSTART;TZID=America/Phoenix:20240207T170000
DTEND;TZID=America/Phoenix:20240207T210000
DTSTAMP:20260422T150459
CREATED:20240201T215735Z
LAST-MODIFIED:20240205T232839Z
UID:10001295-1707325200-1707339600@iloveov.com
SUMMARY:Town Council Meeting Regular Session - Amended Agenda
DESCRIPTION:The agenda for the February 7\, 2024\, Oro Valley Town Council regular session can be viewed by clicking the link below or copying and pasting the link into your web browser. Click here for the agenda. \nIf this meeting includes a public hearing\, citizens can provide public comment in person by filling out a blue card\, or they can provide comments virtually via Zoom by registering at least 24 hours in advance. Click here to register.
URL:https://iloveov.com/oro-valley-event/town-council-meeting-regular-session-7/
LOCATION:Town of Oro Valley Council Chambers\, Oro Valley Town Hall\, 11000 N La Cañada Drive\, Oro Valley\, AZ\, 85737\, United States
CATEGORIES:Town Council Meeting
END:VEVENT
BEGIN:VEVENT
DTSTART;TZID=America/Phoenix:20240206T060000
DTEND;TZID=America/Phoenix:20240206T200000
DTSTAMP:20260422T150459
CREATED:20240130T222509Z
LAST-MODIFIED:20240130T222510Z
UID:10001294-1707199200-1707249600@iloveov.com
SUMMARY:Planning & Zoning Commission Meeting Regular Session
DESCRIPTION:The agenda for the February 6\, 2024 Oro Valley Planning & Zoning Commission regular session can be viewed by clicking the link below or copying and pasting the link into your web browser. Click here for agenda. \nIf this meeting includes a public hearing\, citizens can provide public comment in person by filling out a blue card\, or they can provide comments virtually via Zoom by registering at least 24 hours in advance. Click here to register.
URL:https://iloveov.com/oro-valley-event/planning-zoning-commission-meeting-regular-session-5/
LOCATION:Town of Oro Valley Council Chambers\, Oro Valley Town Hall\, 11000 N La Cañada Drive\, Oro Valley\, AZ\, 85737\, United States
CATEGORIES:Planning and Zoning Commission
END:VEVENT
BEGIN:VEVENT
DTSTART;TZID=America/Phoenix:20240131T150000
DTEND;TZID=America/Phoenix:20240131T170000
DTSTAMP:20260422T150459
CREATED:20231228T191552Z
LAST-MODIFIED:20231228T191809Z
UID:10001268-1706713200-1706720400@iloveov.com
SUMMARY:Dollars and Sense: Setting up Your Business Finance Systems - Oro Valley
DESCRIPTION:Are you ready to move beyond using your bank balance as your primary tool for managing your business? This class is designed for companies not currently utilizing accounting software to manage their financial operations but are interested in improving their financial organization.\n\n\n\nIf you’re attending in person\, please bring a charged laptop if you would like to follow along and practice during class. We will provide access to everything we are demonstrating on Google Sheets. \nJoin us for this free course\, hosted by the Town of Oro Valley\, to get the inside scoop from  Community Investment Corporation (CIC) experts Betty Vinall and Malisa Evans! \nJust to let you know\, registration is required. Register here –> https://www.eventbrite.com/e/776457755047! \nWhile Betty and Malisa may be able to offer introductions to tax professionals and CPAs as needed\, this workshop will NOT cover any advisory services related to: \n\nTax preparation\, tax code\, and tax laws\nFinancial or insurance brokerage services
URL:https://iloveov.com/oro-valley-event/dollars-and-sense-setting-up-your-business-finance-systems-oro-valley/
LOCATION:Town of Oro Valley Council Chambers\, Oro Valley Town Hall\, 11000 N La Cañada Drive\, Oro Valley\, AZ\, 85737\, United States
CATEGORIES:Community Events
END:VEVENT
BEGIN:VEVENT
DTSTART;TZID=America/Phoenix:20240116T180000
DTEND;TZID=America/Phoenix:20240116T210000
DTSTAMP:20260422T150459
CREATED:20240110T183044Z
LAST-MODIFIED:20240110T183108Z
UID:10001280-1705428000-1705438800@iloveov.com
SUMMARY:Planning & Zoning Commission Meeting Special Session
DESCRIPTION:The agenda for the January 16\, 2024 Oro Valley Planning & Zoning Commission special session can be viewed by clicking the link below or copying and pasting the link into your web browser. Click here for agenda. \nIf this meeting includes a public hearing\, citizens can provide public comment in person by filling out a blue card\, or they can provide comments virtually via Zoom by registering at least 24 hours in advance. Click here to register.
URL:https://iloveov.com/oro-valley-event/planning-zoning-commission-meeting-special-session-3/
LOCATION:Town of Oro Valley Council Chambers\, Oro Valley Town Hall\, 11000 N La Cañada Drive\, Oro Valley\, AZ\, 85737\, United States
CATEGORIES:Planning and Zoning Commission
END:VEVENT
BEGIN:VEVENT
DTSTART;TZID=America/Phoenix:20240110T180000
DTEND;TZID=America/Phoenix:20240110T180000
DTSTAMP:20260422T150459
CREATED:20240104T212434Z
LAST-MODIFIED:20240104T212505Z
UID:10001274-1704909600-1704909600@iloveov.com
SUMMARY:Town Council Meeting Regular Session
DESCRIPTION:The agenda for the  January 10\, 2024 Oro Valley Town Council regular session can be viewed by clicking the link below or copying and pasting the link into your web browser. Click here for agenda. \nIf this meeting includes a public hearing\, citizens can provide public comment in person by filling out a blue card\, or they can provide comments virtually via Zoom by registering at least 24 hours in advance. Click here to register.
URL:https://iloveov.com/oro-valley-event/town-council-meeting-regular-session-6/
LOCATION:Town of Oro Valley Council Chambers\, Oro Valley Town Hall\, 11000 N La Cañada Drive\, Oro Valley\, AZ\, 85737\, United States
CATEGORIES:Town Council Meeting
END:VEVENT
BEGIN:VEVENT
DTSTART;TZID=America/Phoenix:20231206T180000
DTEND;TZID=America/Phoenix:20231206T180000
DTSTAMP:20260422T150459
CREATED:20231128T191329Z
LAST-MODIFIED:20231128T191343Z
UID:10001249-1701885600-1701885600@iloveov.com
SUMMARY:Town Council Regular Session
DESCRIPTION:Agendas\, minutes\, and packets for meetings that are being audio or video recorded by the Swagit© system can be accessed on our website at the following link: \nMeetings and Agendas
URL:https://iloveov.com/oro-valley-event/town-council-regular-session-4/
LOCATION:Town of Oro Valley Council Chambers\, Oro Valley Town Hall\, 11000 N La Cañada Drive\, Oro Valley\, AZ\, 85737\, United States
CATEGORIES:Town Council Meeting
END:VEVENT
END:VCALENDAR