BEGIN:VCALENDAR
VERSION:2.0
PRODID:-//ILoveOV.com - ECPv6.11.1//NONSGML v1.0//EN
CALSCALE:GREGORIAN
METHOD:PUBLISH
X-WR-CALNAME:ILoveOV.com
X-ORIGINAL-URL:https://iloveov.com
X-WR-CALDESC:Events for ILoveOV.com
REFRESH-INTERVAL;VALUE=DURATION:PT1H
X-Robots-Tag:noindex
X-PUBLISHED-TTL:PT1H
BEGIN:VTIMEZONE
TZID:America/Phoenix
BEGIN:STANDARD
TZOFFSETFROM:-0700
TZOFFSETTO:-0700
TZNAME:MST
DTSTART:20230101T000000
END:STANDARD
END:VTIMEZONE
BEGIN:VEVENT
DTSTART;TZID=America/Phoenix:20230801T170000
DTEND;TZID=America/Phoenix:20230831T200000
DTSTAMP:20260422T103352
CREATED:20230728T234057Z
LAST-MODIFIED:20230728T234057Z
UID:10001076-1690909200-1693512000@iloveov.com
SUMMARY:Intro Fencing Classes
DESCRIPTION:Do you want to learn to fence with swords? We will teach you the fundamentals of the epée\, including safety\, stances\, parries\, and attacks. This class also focuses on the foundation for youth athletes as we work on flexibility\, coordination\, strength\, and quickness. No previous experience is required. \nTwo Times: 5:00 pm to 6:30 pm and 6:30 pm to 8 pm \nTuesday and Thursday \nRegistration Link(s): 8-12 years old | 13-19 years old
URL:https://iloveov.com/oro-valley-event/intro-fencing-classes/2023-08-01/
LOCATION:Community & Recreation Center\, 10555 N La Canada Dr.\, Oro Valley\, AZ\, 85737\, United States
END:VEVENT
END:VCALENDAR