BEGIN:VCALENDAR
VERSION:2.0
PRODID:-//ILoveOV.com - ECPv6.11.1//NONSGML v1.0//EN
CALSCALE:GREGORIAN
METHOD:PUBLISH
X-WR-CALNAME:ILoveOV.com
X-ORIGINAL-URL:https://iloveov.com
X-WR-CALDESC:Events for ILoveOV.com
REFRESH-INTERVAL;VALUE=DURATION:PT1H
X-Robots-Tag:noindex
X-PUBLISHED-TTL:PT1H
BEGIN:VTIMEZONE
TZID:America/Phoenix
BEGIN:STANDARD
TZOFFSETFROM:-0700
TZOFFSETTO:-0700
TZNAME:MST
DTSTART:20230101T000000
END:STANDARD
END:VTIMEZONE
BEGIN:VEVENT
DTSTART;TZID=America/Phoenix:20241215T120000
DTEND;TZID=America/Phoenix:20241215T150000
DTSTAMP:20260422T090326
CREATED:20241201T181324Z
LAST-MODIFIED:20241201T181749Z
UID:10001856-1734264000-1734274800@iloveov.com
SUMMARY:Self Defense for Busy People
DESCRIPTION:STREET SMART Self-Defense Workshop: Simple Skills for Real-World Safety \nMaster practical self-defense techniques in just one three-hour session! This hands-on workshop\, led by experienced Use-of-Force Instructor and author Steve Brass\, teaches STUN AND RUN techniques that anyone can learn quickly and effectively. \nWhat You’ll Learn: \n\nEssential situational awareness\nProperty protection strategies\nTheft and assault prevention\nQuick\, effective self-defense moves\n\nPerfect for: \n\nAdults and teens (16+)\nBeginners with no prior training\nAnyone seeking practical safety skills\nThose with limited time for traditional martial arts\n\nThis engaging\, physically active workshop focuses on real-world applications and is taught by an instructor with over 30 years of experience. Through hands-on training in a focused\, supportive environment\, you’ll gain confidence and practical skills. \nLearn to protect yourself using simple\, proven techniques that work in real-life situations. \nRegister Here: December 15 | January 19 |  February 1
URL:https://iloveov.com/oro-valley-event/self-defense-for-busy-people-2/2024-12-15/
LOCATION:Community & Recreation Center\, 10555 N La Canada Dr.\, Oro Valley\, AZ\, 85737\, United States
CATEGORIES:Community Events
END:VEVENT
BEGIN:VEVENT
DTSTART;TZID=America/Phoenix:20241124T160000
DTEND;TZID=America/Phoenix:20241124T160000
DTSTAMP:20260422T090326
CREATED:20241120T193524Z
LAST-MODIFIED:20241120T193603Z
UID:10001878-1732464000-1732464000@iloveov.com
SUMMARY:Trivia at the Community Center
DESCRIPTION:Join us for Trivia Day at the Community & Recreation Center Overlook Restaurant! Enjoy a 75-minute bar-style trivia game with happy hour specials on food and drinks. Child watch services are available for $5 per child. \nParticipation is free\, but pre-registration is required. Only one team member must register (teams up to 6 players). \nRegister here.
URL:https://iloveov.com/oro-valley-event/trivia-at-the-community-center-4/
LOCATION:Community & Recreation Center\, 10555 N La Canada Dr.\, Oro Valley\, AZ\, 85737\, United States
CATEGORIES:Oro Valley Parks & Recreation
END:VEVENT
BEGIN:VEVENT
DTSTART;TZID=America/Phoenix:20241109T180000
DTEND;TZID=America/Phoenix:20241109T203000
DTSTAMP:20260422T090326
CREATED:20241101T165107Z
LAST-MODIFIED:20241101T165107Z
UID:10001853-1731175200-1731184200@iloveov.com
SUMMARY:Movie on the Lawn at the Community Center
DESCRIPTION:Movie Night Under the Stars at Oro Valley Community & Recreation Center! \nGet ready for a magical evening of family entertainment as we present the hilarious animated classic\, “The Emperor’s New Groove” (2000). Gather your loved ones for this free community screening beneath the desert sky.\nLocation: Behind the Recreation Center\, near the golf driving range \nTime: Starting at sundown (approximately 6:00 p.m.)\nThis beloved Disney adventure comedy follows the misadventures of an arrogant emperor who learns valuable life lessons after being transformed into a llama. Perfect entertainment for viewers of all ages!\nBring your: \nBlankets or lawn chairs\nSnacks\nFamily and friends \nDon’t miss this perfect opportunity to enjoy a free movie night under the stars with your community!
URL:https://iloveov.com/oro-valley-event/movie-on-the-lawn-at-the-community-center-2/
LOCATION:Community & Recreation Center\, 10555 N La Canada Dr.\, Oro Valley\, AZ\, 85737\, United States
CATEGORIES:Community Events
END:VEVENT
BEGIN:VEVENT
DTSTART;TZID=America/Phoenix:20240914T193000
DTEND;TZID=America/Phoenix:20240914T220000
DTSTAMP:20260422T090326
CREATED:20240418T220348Z
LAST-MODIFIED:20240418T220349Z
UID:10001424-1726342200-1726351200@iloveov.com
SUMMARY:Movies on the Lawn
DESCRIPTION:Come join the Oro Valley Community & Recreation Center for an enjoyable evening with loved ones as we present a movie under the enchanting night sky. The screenings will commence shortly after sunset and will take place at the rear of the facility\, adjacent to the golf driving range. This delightful community event is free for all to attend. Below are the dates and movies for 2024: \nApril 6 – Back to the Future II (Please note that Back to the Future I will be showcased at Steam Pump Ranch on March 16\, CLICK HERE for details) \nMay 18 – Elemental \nJune 15 – Wonka \nJuly 20 – The Emperor’s New Groove \nAugust 17 – Turning Red \nSeptember 14 – Teenage Mutant Ninja Turtles: Mutant Mayhem
URL:https://iloveov.com/oro-valley-event/movies-on-the-lawn/2024-09-14/
LOCATION:Community & Recreation Center\, 10555 N La Canada Dr.\, Oro Valley\, AZ\, 85737\, United States
CATEGORIES:Community Events
END:VEVENT
BEGIN:VEVENT
DTSTART;TZID=America/Phoenix:20240914T190000
DTEND;TZID=America/Phoenix:20240914T210000
DTSTAMP:20260422T090326
CREATED:20240830T211210Z
LAST-MODIFIED:20240830T211211Z
UID:10001741-1726340400-1726347600@iloveov.com
SUMMARY:Movie on the Lawn
DESCRIPTION:Join the Oro Valleyt Community & Recreation Center for a memorable evening with family and friends as we enjoy a movie under the stars! The film will start at sundown (around 7 p.m.) on the lawn near the driving range. This free community event requires no pre-registration and will feature the 2023 animated adventure comedy\, Teenage Mutant Ninja Turtles: Mutant Mayhem. Don’t miss this fun-filled night!
URL:https://iloveov.com/oro-valley-event/movie-on-the-lawn-2/
LOCATION:Community & Recreation Center\, 10555 N La Canada Dr.\, Oro Valley\, AZ\, 85737\, United States
CATEGORIES:Oro Valley Parks & Recreation
END:VEVENT
BEGIN:VEVENT
DTSTART;TZID=America/Phoenix:20240817T193000
DTEND;TZID=America/Phoenix:20240817T220000
DTSTAMP:20260422T090326
CREATED:20240418T220348Z
LAST-MODIFIED:20240418T220349Z
UID:10001423-1723923000-1723932000@iloveov.com
SUMMARY:Movies on the Lawn
DESCRIPTION:Come join the Oro Valley Community & Recreation Center for an enjoyable evening with loved ones as we present a movie under the enchanting night sky. The screenings will commence shortly after sunset and will take place at the rear of the facility\, adjacent to the golf driving range. This delightful community event is free for all to attend. Below are the dates and movies for 2024: \nApril 6 – Back to the Future II (Please note that Back to the Future I will be showcased at Steam Pump Ranch on March 16\, CLICK HERE for details) \nMay 18 – Elemental \nJune 15 – Wonka \nJuly 20 – The Emperor’s New Groove \nAugust 17 – Turning Red \nSeptember 14 – Teenage Mutant Ninja Turtles: Mutant Mayhem
URL:https://iloveov.com/oro-valley-event/movies-on-the-lawn/2024-08-17/
LOCATION:Community & Recreation Center\, 10555 N La Canada Dr.\, Oro Valley\, AZ\, 85737\, United States
CATEGORIES:Community Events
END:VEVENT
BEGIN:VEVENT
DTSTART;TZID=America/Phoenix:20240720T193000
DTEND;TZID=America/Phoenix:20240720T220000
DTSTAMP:20260422T090326
CREATED:20240418T220348Z
LAST-MODIFIED:20240418T220349Z
UID:10001422-1721503800-1721512800@iloveov.com
SUMMARY:Movies on the Lawn
DESCRIPTION:Come join the Oro Valley Community & Recreation Center for an enjoyable evening with loved ones as we present a movie under the enchanting night sky. The screenings will commence shortly after sunset and will take place at the rear of the facility\, adjacent to the golf driving range. This delightful community event is free for all to attend. Below are the dates and movies for 2024: \nApril 6 – Back to the Future II (Please note that Back to the Future I will be showcased at Steam Pump Ranch on March 16\, CLICK HERE for details) \nMay 18 – Elemental \nJune 15 – Wonka \nJuly 20 – The Emperor’s New Groove \nAugust 17 – Turning Red \nSeptember 14 – Teenage Mutant Ninja Turtles: Mutant Mayhem
URL:https://iloveov.com/oro-valley-event/movies-on-the-lawn/2024-07-20/
LOCATION:Community & Recreation Center\, 10555 N La Canada Dr.\, Oro Valley\, AZ\, 85737\, United States
CATEGORIES:Community Events
END:VEVENT
BEGIN:VEVENT
DTSTART;TZID=America/Phoenix:20240719T193000
DTEND;TZID=America/Phoenix:20240719T210000
DTSTAMP:20260422T090326
CREATED:20240719T165027Z
LAST-MODIFIED:20240719T165518Z
UID:10001613-1721417400-1721422800@iloveov.com
SUMMARY:Movie on the Lawn
DESCRIPTION:Join the Oro Valley Community & Recreation Center for a fun night out with family and friends for a movie under the stars. The movie will begin shortly after sundown (8 p.m.) and will be hosted on the backside of the facility near the golf driving range. This is a free community event and will feature the 2000 animated adventure comedy\, The Emperor’s New Groove.
URL:https://iloveov.com/oro-valley-event/movie-on-the-lawn/
LOCATION:Community & Recreation Center\, 10555 N La Canada Dr.\, Oro Valley\, AZ\, 85737\, United States
CATEGORIES:Oro Valley Parks & Recreation
END:VEVENT
BEGIN:VEVENT
DTSTART;TZID=America/Phoenix:20240615T190000
DTEND;TZID=America/Phoenix:20240615T210000
DTSTAMP:20260422T090326
CREATED:20240418T220348Z
LAST-MODIFIED:20240418T220349Z
UID:10001421-1718478000-1718485200@iloveov.com
SUMMARY:Movies on the Lawn
DESCRIPTION:Come join the Oro Valley Community & Recreation Center for an enjoyable evening with loved ones as we present a movie under the enchanting night sky. The screenings will commence shortly after sunset and will take place at the rear of the facility\, adjacent to the golf driving range. This delightful community event is free for all to attend. Below are the dates and movies for 2024: \nApril 6 – Back to the Future II (Please note that Back to the Future I will be showcased at Steam Pump Ranch on March 16\, CLICK HERE for details) \nMay 18 – Elemental \nJune 15 – Wonka \nJuly 20 – The Emperor’s New Groove \nAugust 17 – Turning Red \nSeptember 14 – Teenage Mutant Ninja Turtles: Mutant Mayhem
URL:https://iloveov.com/oro-valley-event/movies-on-the-lawn/2024-06-15/
LOCATION:Community & Recreation Center\, 10555 N La Canada Dr.\, Oro Valley\, AZ\, 85737\, United States
CATEGORIES:Community Events
END:VEVENT
BEGIN:VEVENT
DTSTART;TZID=America/Phoenix:20240518T190000
DTEND;TZID=America/Phoenix:20240518T210000
DTSTAMP:20260422T090326
CREATED:20240418T220348Z
LAST-MODIFIED:20240418T220349Z
UID:10001420-1716058800-1716066000@iloveov.com
SUMMARY:Movies on the Lawn
DESCRIPTION:Come join the Oro Valley Community & Recreation Center for an enjoyable evening with loved ones as we present a movie under the enchanting night sky. The screenings will commence shortly after sunset and will take place at the rear of the facility\, adjacent to the golf driving range. This delightful community event is free for all to attend. Below are the dates and movies for 2024: \nApril 6 – Back to the Future II (Please note that Back to the Future I will be showcased at Steam Pump Ranch on March 16\, CLICK HERE for details) \nMay 18 – Elemental \nJune 15 – Wonka \nJuly 20 – The Emperor’s New Groove \nAugust 17 – Turning Red \nSeptember 14 – Teenage Mutant Ninja Turtles: Mutant Mayhem
URL:https://iloveov.com/oro-valley-event/movies-on-the-lawn/2024-05-18/
LOCATION:Community & Recreation Center\, 10555 N La Canada Dr.\, Oro Valley\, AZ\, 85737\, United States
CATEGORIES:Community Events
END:VEVENT
BEGIN:VEVENT
DTSTART;TZID=America/Phoenix:20240321T080000
DTEND;TZID=America/Phoenix:20240321T170000
DTSTAMP:20260422T090326
CREATED:20240322T001407Z
LAST-MODIFIED:20240322T001407Z
UID:10001377-1711008000-1711040400@iloveov.com
SUMMARY:Movie on the Lawn at the Community Center
DESCRIPTION:Gather with family and friends for a delightful evening at the Oro Valley Community & Recreation Center for a movie under the stars. The film will start just after sunset\, taking place behind the facility near the golf driving range. This event is complimentary to the community and will showcase the 1989 science fiction classic\, Back to the Future Part II.
URL:https://iloveov.com/oro-valley-event/movie-on-the-lawn-at-the-community-center/
LOCATION:Community & Recreation Center\, 10555 N La Canada Dr.\, Oro Valley\, AZ\, 85737\, United States
CATEGORIES:Oro Valley Parks & Recreation,Town Events
END:VEVENT
BEGIN:VEVENT
DTSTART;TZID=America/Phoenix:20230831T170000
DTEND;TZID=America/Phoenix:20230930T200000
DTSTAMP:20260422T090326
CREATED:20230728T234057Z
LAST-MODIFIED:20230728T234057Z
UID:10001106-1693501200-1696104000@iloveov.com
SUMMARY:Intro Fencing Classes
DESCRIPTION:Do you want to learn to fence with swords? We will teach you the fundamentals of the epée\, including safety\, stances\, parries\, and attacks. This class also focuses on the foundation for youth athletes as we work on flexibility\, coordination\, strength\, and quickness. No previous experience is required. \nTwo Times: 5:00 pm to 6:30 pm and 6:30 pm to 8 pm \nTuesday and Thursday \nRegistration Link(s): 8-12 years old | 13-19 years old
URL:https://iloveov.com/oro-valley-event/intro-fencing-classes/2023-08-31/
LOCATION:Community & Recreation Center\, 10555 N La Canada Dr.\, Oro Valley\, AZ\, 85737\, United States
END:VEVENT
BEGIN:VEVENT
DTSTART;TZID=America/Phoenix:20230829T170000
DTEND;TZID=America/Phoenix:20230928T200000
DTSTAMP:20260422T090326
CREATED:20230728T234057Z
LAST-MODIFIED:20230728T234057Z
UID:10001104-1693328400-1695931200@iloveov.com
SUMMARY:Intro Fencing Classes
DESCRIPTION:Do you want to learn to fence with swords? We will teach you the fundamentals of the epée\, including safety\, stances\, parries\, and attacks. This class also focuses on the foundation for youth athletes as we work on flexibility\, coordination\, strength\, and quickness. No previous experience is required. \nTwo Times: 5:00 pm to 6:30 pm and 6:30 pm to 8 pm \nTuesday and Thursday \nRegistration Link(s): 8-12 years old | 13-19 years old
URL:https://iloveov.com/oro-valley-event/intro-fencing-classes/2023-08-29/
LOCATION:Community & Recreation Center\, 10555 N La Canada Dr.\, Oro Valley\, AZ\, 85737\, United States
END:VEVENT
BEGIN:VEVENT
DTSTART;TZID=America/Phoenix:20230824T170000
DTEND;TZID=America/Phoenix:20230923T200000
DTSTAMP:20260422T090326
CREATED:20230728T234057Z
LAST-MODIFIED:20230728T234057Z
UID:10001099-1692896400-1695499200@iloveov.com
SUMMARY:Intro Fencing Classes
DESCRIPTION:Do you want to learn to fence with swords? We will teach you the fundamentals of the epée\, including safety\, stances\, parries\, and attacks. This class also focuses on the foundation for youth athletes as we work on flexibility\, coordination\, strength\, and quickness. No previous experience is required. \nTwo Times: 5:00 pm to 6:30 pm and 6:30 pm to 8 pm \nTuesday and Thursday \nRegistration Link(s): 8-12 years old | 13-19 years old
URL:https://iloveov.com/oro-valley-event/intro-fencing-classes/2023-08-24/
LOCATION:Community & Recreation Center\, 10555 N La Canada Dr.\, Oro Valley\, AZ\, 85737\, United States
END:VEVENT
BEGIN:VEVENT
DTSTART;TZID=America/Phoenix:20230822T170000
DTEND;TZID=America/Phoenix:20230921T200000
DTSTAMP:20260422T090326
CREATED:20230728T234057Z
LAST-MODIFIED:20230728T234057Z
UID:10001097-1692723600-1695326400@iloveov.com
SUMMARY:Intro Fencing Classes
DESCRIPTION:Do you want to learn to fence with swords? We will teach you the fundamentals of the epée\, including safety\, stances\, parries\, and attacks. This class also focuses on the foundation for youth athletes as we work on flexibility\, coordination\, strength\, and quickness. No previous experience is required. \nTwo Times: 5:00 pm to 6:30 pm and 6:30 pm to 8 pm \nTuesday and Thursday \nRegistration Link(s): 8-12 years old | 13-19 years old
URL:https://iloveov.com/oro-valley-event/intro-fencing-classes/2023-08-22/
LOCATION:Community & Recreation Center\, 10555 N La Canada Dr.\, Oro Valley\, AZ\, 85737\, United States
END:VEVENT
BEGIN:VEVENT
DTSTART;TZID=America/Phoenix:20230817T170000
DTEND;TZID=America/Phoenix:20230916T200000
DTSTAMP:20260422T090326
CREATED:20230728T234057Z
LAST-MODIFIED:20230728T234057Z
UID:10001092-1692291600-1694894400@iloveov.com
SUMMARY:Intro Fencing Classes
DESCRIPTION:Do you want to learn to fence with swords? We will teach you the fundamentals of the epée\, including safety\, stances\, parries\, and attacks. This class also focuses on the foundation for youth athletes as we work on flexibility\, coordination\, strength\, and quickness. No previous experience is required. \nTwo Times: 5:00 pm to 6:30 pm and 6:30 pm to 8 pm \nTuesday and Thursday \nRegistration Link(s): 8-12 years old | 13-19 years old
URL:https://iloveov.com/oro-valley-event/intro-fencing-classes/2023-08-17/
LOCATION:Community & Recreation Center\, 10555 N La Canada Dr.\, Oro Valley\, AZ\, 85737\, United States
END:VEVENT
BEGIN:VEVENT
DTSTART;TZID=America/Phoenix:20230815T170000
DTEND;TZID=America/Phoenix:20230914T200000
DTSTAMP:20260422T090326
CREATED:20230728T234057Z
LAST-MODIFIED:20230728T234057Z
UID:10001090-1692118800-1694721600@iloveov.com
SUMMARY:Intro Fencing Classes
DESCRIPTION:Do you want to learn to fence with swords? We will teach you the fundamentals of the epée\, including safety\, stances\, parries\, and attacks. This class also focuses on the foundation for youth athletes as we work on flexibility\, coordination\, strength\, and quickness. No previous experience is required. \nTwo Times: 5:00 pm to 6:30 pm and 6:30 pm to 8 pm \nTuesday and Thursday \nRegistration Link(s): 8-12 years old | 13-19 years old
URL:https://iloveov.com/oro-valley-event/intro-fencing-classes/2023-08-15/
LOCATION:Community & Recreation Center\, 10555 N La Canada Dr.\, Oro Valley\, AZ\, 85737\, United States
END:VEVENT
BEGIN:VEVENT
DTSTART;TZID=America/Phoenix:20230810T170000
DTEND;TZID=America/Phoenix:20230909T200000
DTSTAMP:20260422T090326
CREATED:20230728T234057Z
LAST-MODIFIED:20230728T234057Z
UID:10001085-1691686800-1694289600@iloveov.com
SUMMARY:Intro Fencing Classes
DESCRIPTION:Do you want to learn to fence with swords? We will teach you the fundamentals of the epée\, including safety\, stances\, parries\, and attacks. This class also focuses on the foundation for youth athletes as we work on flexibility\, coordination\, strength\, and quickness. No previous experience is required. \nTwo Times: 5:00 pm to 6:30 pm and 6:30 pm to 8 pm \nTuesday and Thursday \nRegistration Link(s): 8-12 years old | 13-19 years old
URL:https://iloveov.com/oro-valley-event/intro-fencing-classes/2023-08-10/
LOCATION:Community & Recreation Center\, 10555 N La Canada Dr.\, Oro Valley\, AZ\, 85737\, United States
END:VEVENT
BEGIN:VEVENT
DTSTART;TZID=America/Phoenix:20230808T170000
DTEND;TZID=America/Phoenix:20230907T200000
DTSTAMP:20260422T090326
CREATED:20230728T234057Z
LAST-MODIFIED:20230728T234057Z
UID:10001083-1691514000-1694116800@iloveov.com
SUMMARY:Intro Fencing Classes
DESCRIPTION:Do you want to learn to fence with swords? We will teach you the fundamentals of the epée\, including safety\, stances\, parries\, and attacks. This class also focuses on the foundation for youth athletes as we work on flexibility\, coordination\, strength\, and quickness. No previous experience is required. \nTwo Times: 5:00 pm to 6:30 pm and 6:30 pm to 8 pm \nTuesday and Thursday \nRegistration Link(s): 8-12 years old | 13-19 years old
URL:https://iloveov.com/oro-valley-event/intro-fencing-classes/2023-08-08/
LOCATION:Community & Recreation Center\, 10555 N La Canada Dr.\, Oro Valley\, AZ\, 85737\, United States
END:VEVENT
BEGIN:VEVENT
DTSTART;TZID=America/Phoenix:20230803T170000
DTEND;TZID=America/Phoenix:20230902T200000
DTSTAMP:20260422T090326
CREATED:20230728T234057Z
LAST-MODIFIED:20230728T234057Z
UID:10001078-1691082000-1693684800@iloveov.com
SUMMARY:Intro Fencing Classes
DESCRIPTION:Do you want to learn to fence with swords? We will teach you the fundamentals of the epée\, including safety\, stances\, parries\, and attacks. This class also focuses on the foundation for youth athletes as we work on flexibility\, coordination\, strength\, and quickness. No previous experience is required. \nTwo Times: 5:00 pm to 6:30 pm and 6:30 pm to 8 pm \nTuesday and Thursday \nRegistration Link(s): 8-12 years old | 13-19 years old
URL:https://iloveov.com/oro-valley-event/intro-fencing-classes/2023-08-03/
LOCATION:Community & Recreation Center\, 10555 N La Canada Dr.\, Oro Valley\, AZ\, 85737\, United States
END:VEVENT
BEGIN:VEVENT
DTSTART;TZID=America/Phoenix:20230801T170000
DTEND;TZID=America/Phoenix:20230831T200000
DTSTAMP:20260422T090326
CREATED:20230728T234057Z
LAST-MODIFIED:20230728T234057Z
UID:10001076-1690909200-1693512000@iloveov.com
SUMMARY:Intro Fencing Classes
DESCRIPTION:Do you want to learn to fence with swords? We will teach you the fundamentals of the epée\, including safety\, stances\, parries\, and attacks. This class also focuses on the foundation for youth athletes as we work on flexibility\, coordination\, strength\, and quickness. No previous experience is required. \nTwo Times: 5:00 pm to 6:30 pm and 6:30 pm to 8 pm \nTuesday and Thursday \nRegistration Link(s): 8-12 years old | 13-19 years old
URL:https://iloveov.com/oro-valley-event/intro-fencing-classes/2023-08-01/
LOCATION:Community & Recreation Center\, 10555 N La Canada Dr.\, Oro Valley\, AZ\, 85737\, United States
END:VEVENT
END:VCALENDAR