BEGIN:VCALENDAR
VERSION:2.0
PRODID:-//ILoveOV.com - ECPv6.11.1//NONSGML v1.0//EN
CALSCALE:GREGORIAN
METHOD:PUBLISH
X-WR-CALNAME:ILoveOV.com
X-ORIGINAL-URL:https://iloveov.com
X-WR-CALDESC:Events for ILoveOV.com
REFRESH-INTERVAL;VALUE=DURATION:PT1H
X-Robots-Tag:noindex
X-PUBLISHED-TTL:PT1H
BEGIN:VTIMEZONE
TZID:America/Phoenix
BEGIN:STANDARD
TZOFFSETFROM:-0700
TZOFFSETTO:-0700
TZNAME:MST
DTSTART:20230101T000000
END:STANDARD
END:VTIMEZONE
BEGIN:VEVENT
DTSTART;TZID=America/Phoenix:20240411T090000
DTEND;TZID=America/Phoenix:20240411T130000
DTSTAMP:20260422T133921
CREATED:20240223T230239Z
LAST-MODIFIED:20240223T230343Z
UID:10001330-1712826000-1712840400@iloveov.com
SUMMARY:Economic Outlook and Spring Business Expo
DESCRIPTION:Economic Outlook Event: Pulse of the Community\, Powering Your Future\nMark your calendar! On April 11\, immerse yourself in the dynamic business landscape of our community at our Economic Outlook Event. \nMorning: \n\n9:00 AM – 11:00 AM: Dive into a vibrant Spring Business Expo\, open to the public. Connect with diverse local businesses\, explore their latest offerings\, and network with potential partners. Discover exciting opportunities to fuel your professional journey.\n\nAfternoon: \n\nExclusive Luncheon: Join us for an insightful luncheon reserved for participants. Seasoned keynote speakers and recognized experts in the field will dissect the economic pulse of our community. Gain valuable insights into key trends and opportunities shaping the year ahead\, empowering you to make informed decisions for your business.\n\nLast year’s event brought together 350 eager minds\, and this year promises an even more enriching experience. Don’t miss your chance to: \n\nGain a competitive edge: Stay ahead of the curve with expert insights and market trends.\nNetwork with key players: Build valuable connections with business leaders and potential partners.\nShape the future: Participate in shaping the economic landscape of our community.\n\nSponsorship Opportunities: \nPosition your brand in front of a diverse audience and elevate your business profile through our sponsorship options. Secure your spot and be part of the conversation that matters. \nRegister now! Limited seats are available. Visit Economic Outlook for details. \nTogether\, let’s unlock the potential of our economic future!
URL:https://iloveov.com/oro-valley-event/economic-outlook-and-spring-business-expo/
LOCATION:El Conquistador Tucson\, A Hilton Resort\, 10000 N Oracle Rd\, Oro Valley\, AZ\, 85737\, United States
CATEGORIES:OV Chamber of Commerce
END:VEVENT
BEGIN:VEVENT
DTSTART;TZID=America/Phoenix:20240329T150000
DTEND;TZID=America/Phoenix:20240329T153000
DTSTAMP:20260422T133921
CREATED:20240318T221727Z
LAST-MODIFIED:20240318T221728Z
UID:10001375-1711724400-1711726200@iloveov.com
SUMMARY:Ribbon Cutting at Cabali Tiki Bar
DESCRIPTION:Please join the Oro Valley Chamber of Commerce to celebrate Oro Valley’s first speakeasy\, Cabali Tiki Bar! We are so thrilled to have this special business in our community. Join us as we cut a ribbon and dive deep into Tiki history with this hidden bar.
URL:https://iloveov.com/oro-valley-event/ribbon-cutting-at-cabali-tiki-bar/
LOCATION:Cabali Tiki Bar\, 8195 N Oracle Rd\, Oro Valley\, AZ\, 85737\, United States
CATEGORIES:OV Chamber of Commerce
END:VEVENT
BEGIN:VEVENT
DTSTART;TZID=America/Phoenix:20240321T170000
DTEND;TZID=America/Phoenix:20240321T190000
DTSTAMP:20260422T133921
CREATED:20240304T231017Z
LAST-MODIFIED:20240304T231031Z
UID:10001337-1711040400-1711047600@iloveov.com
SUMMARY:Evening Mixer with WaFd Bank
DESCRIPTION:Join the Oro Valley Chamber of Commerce for an engaging and enjoyable evening at their March evening mixer! Connect with fellow professionals\, entrepreneurs\, and community leaders in a relaxed and welcoming atmosphere. Savor delightful bites and refreshing beverages as you network. Our evening mixers are designed to provide the perfect backdrop for meaningful conversations and the opportunity to discover new opportunities. Don’t miss out on your chance to win exciting door prizes\, adding an extra element of fun to an already fantastic evening. Come unwind\, mingle\, and build lasting connections at our upcoming evening mixer – the premier networking event you won’t want to miss!
URL:https://iloveov.com/oro-valley-event/evening-mixer-with-wafd-bank/
LOCATION:WaFd Bank\, 8001 N Oracle Road\, Suite 101\, Oro Valley\, AZ\, 85704\, United States
CATEGORIES:OV Chamber of Commerce
END:VEVENT
BEGIN:VEVENT
DTSTART;TZID=America/Phoenix:20240320T130000
DTEND;TZID=America/Phoenix:20240320T140000
DTSTAMP:20260422T133921
CREATED:20240217T002515Z
LAST-MODIFIED:20240217T002812Z
UID:10001314-1710939600-1710943200@iloveov.com
SUMMARY:Wisdom Wednesday with Vallee Gold Long Realty
DESCRIPTION:Join the Oro Valley Chamber of Commerce for Wisdom Wensday.   Hear insider knowledge from Vallee Gold Long Realty about how real estate investment can secure your future. Want to get smart about building long-term wealth through real estate? Then we’ll see you there!
URL:https://iloveov.com/oro-valley-event/wisdom-wednesday-with-vallee-gold-long-realty/
LOCATION:Oro Valley Chamber of Commerce\, 1822 E. Innovation Park Drive\, Oro Valley\, 85755\, United States
CATEGORIES:OV Chamber of Commerce
END:VEVENT
BEGIN:VEVENT
DTSTART;TZID=America/Phoenix:20240319T130000
DTEND;TZID=America/Phoenix:20240319T150000
DTSTAMP:20260422T133921
CREATED:20240318T220856Z
LAST-MODIFIED:20240318T220858Z
UID:10001374-1710853200-1710860400@iloveov.com
SUMMARY:Ribbon Cutting for Linda Vista Luxury Rentals
DESCRIPTION:Join the Oro Valley Chamber of Commerce as we cut the ribbon and celebrate the new Linda Vista Luxury Rentals! There will be an open house\, so stop by and enjoy the fun! Ribbon flies at 1:15 p.m.!
URL:https://iloveov.com/oro-valley-event/ribbon-cutting-for-linda-vista-luxury-rentals/
LOCATION:Linda Vista Luxury Rentals\, 375 E Linda Vista Blvd.\, Oro Valley\, AZ\, 85704\, United States
CATEGORIES:OV Chamber of Commerce
END:VEVENT
BEGIN:VEVENT
DTSTART;TZID=America/Phoenix:20240307T170000
DTEND;TZID=America/Phoenix:20240307T190000
DTSTAMP:20260422T133921
CREATED:20240304T230305Z
LAST-MODIFIED:20240304T230315Z
UID:10001336-1709830800-1709838000@iloveov.com
SUMMARY:Ribbon Cutting for Oro Valley Aesthetics & Wellness
DESCRIPTION:Join the Oro Valley Chamber of Commerce celebrating Oro Valley Aesthetics & Wellness’s new location! You can learn about their new services\, enjoy event only specials\, participate in a raffle\, all while enjoying light bites and drinks! \nPlease RSVP for this event!
URL:https://iloveov.com/oro-valley-event/ribbon-cutting-for-oro-valley-aesthetics-wellness/
LOCATION:Oro Valley Aesthetics\, 10445 N Oracle Rd\, Ste 240\, Oro Valley\, AZ\, 85737\, United States
CATEGORIES:OV Chamber of Commerce
END:VEVENT
BEGIN:VEVENT
DTSTART;TZID=America/Phoenix:20240229T170000
DTEND;TZID=America/Phoenix:20240229T190000
DTSTAMP:20260422T133921
CREATED:20240129T164503Z
LAST-MODIFIED:20240129T164925Z
UID:10001290-1709226000-1709233200@iloveov.com
SUMMARY:OV Chamber Mixer with Roche
DESCRIPTION:Join the OV Chamber of Commerce for an engaging and enjoyable evening at our February evening mixer! Connect with fellow professionals\, entrepreneurs\, and community leaders in a relaxed and welcoming atmosphere. Savor delightful bites and refreshing beverages as you network. Don’t miss out on your chance to win exciting door prizes\, adding an extra element of fun to an already fantastic evening. Come unwind\, mingle\, and build lasting connections at our upcoming evening mixer – the premier networking event you won’t want to miss!
URL:https://iloveov.com/oro-valley-event/ov-chamber-mixer-with-roche/
LOCATION:Roche Tissue Diagnotics\, 1910 E. Innovation Park Drive\, Oro Valley\, AZ\, 85737\, United States
CATEGORIES:OV Chamber of Commerce
END:VEVENT
BEGIN:VEVENT
DTSTART;TZID=America/Phoenix:20240222T150000
DTEND;TZID=America/Phoenix:20240222T170000
DTSTAMP:20260422T133921
CREATED:20240217T001205Z
LAST-MODIFIED:20240217T001205Z
UID:10001312-1708614000-1708621200@iloveov.com
SUMMARY:Grand Opening and Ribbon Cutting of Oracle and Magee Dental
DESCRIPTION:Join the Oro Valley Chamber of Commerce and celebrate the grand opening of Oracle and Magee Dental. There will be an open house from 3-7 p.m.\, with the ribbon flying at 3.
URL:https://iloveov.com/oro-valley-event/grand-opening-and-ribbon-cutting-of-oracle-and-magee-dental/
LOCATION:Oracle and Magee Dental\, 7921 N Oracle Rd\, Tucson\, AZ 85704\, Oro Valley\, AZ\, 85737\, United States
CATEGORIES:OV Chamber of Commerce
END:VEVENT
BEGIN:VEVENT
DTSTART;TZID=America/Phoenix:20240222T084500
DTEND;TZID=America/Phoenix:20240222T093000
DTSTAMP:20260422T133921
CREATED:20240217T001703Z
LAST-MODIFIED:20240217T001943Z
UID:10001313-1708591500-1708594200@iloveov.com
SUMMARY:Grand Re-Opening and Ribbon Cutting of Goodwill
DESCRIPTION:Please join the OV Chamber of Commerce to celebrate the grand re-opening of Goodwill at its new location. There will be a ceremony before the store opens at 9 a.m.\, with the ribbon flying at 8:45 a.m.
URL:https://iloveov.com/oro-valley-event/grand-re-opening-and-ribbon-cutting-of-goodwill/
LOCATION:Goodwill\, 10540 N La Cañada Dr\, Oro Valley\, Arizona\, 85737
CATEGORIES:OV Chamber of Commerce
END:VEVENT
BEGIN:VEVENT
DTSTART;TZID=America/Phoenix:20240221T130000
DTEND;TZID=America/Phoenix:20240221T140000
DTSTAMP:20260422T133921
CREATED:20240129T164211Z
LAST-MODIFIED:20240129T164211Z
UID:10001289-1708520400-1708524000@iloveov.com
SUMMARY:Wisdom Wednesday with the Central Arizona Project
DESCRIPTION:Dive into a world of knowledge and growth at our Wisdom Wednesdays! We bring you insights from experts across various fields. This session\, we’ll hear from Mitch Basefsky with the Central Arizona Project (CAP). Learn more about the engineering marvel that channels vital water from the Colorado River\, sustaining Arizona’s growth and prosperity. Gain insights into the intricate water management strategies\, environmental impact\, and the significance of CAP in ensuring a sustainable future for our community. Don’t miss this opportunity to deepen your understanding of the lifeblood that fuels Arizona’s success!
URL:https://iloveov.com/oro-valley-event/wisdom-wednesday-with-the-central-arizona-project/
LOCATION:Oro Valley Chamber of Commerce\, 1822 E. Innovation Park Drive\, Oro Valley\, 85755\, United States
CATEGORIES:OV Chamber of Commerce
END:VEVENT
BEGIN:VEVENT
DTSTART;TZID=America/Phoenix:20231215T130000
DTEND;TZID=America/Phoenix:20231215T170000
DTSTAMP:20260422T133921
CREATED:20231128T182819Z
LAST-MODIFIED:20231128T182841Z
UID:10001247-1702645200-1702659600@iloveov.com
SUMMARY:Vision Boarding with Ryan Lambert
DESCRIPTION:Embark on a transformative journey to turn your aspirations into reality! Join the Oro Valley Chamber of Commerce for an inspiring session with Ryan Lambert\, a renowned motivational speaker\, business and life coach\, and the visionary founder of Chamber member Three Buckets Wealth Management. \nIn this eagerly anticipated second edition\, the afternoon will begin with an engaging educational session\, delving into the profound “why” and “how” of vision boarding\, unraveling the secrets to manifesting dreams\, and setting powerful intentions for the future. \nAfter the enlightening session\, let your creativity flow as you craft your own vision board. Bring any specific images\, words\, or ideas you may want to include or come with an open mind ready for inspiration. Our Chamber office will be transformed into a haven of creativity\, and all the art supplies you need will be provided. \nDon’t miss this opportunity to unlock your full potential and bring your aspirations to life. The cost is $10 for members and $20 for nonmembers\, which covers the cost of materials and light refreshments.
URL:https://iloveov.com/oro-valley-event/vision-boarding-with-ryan-lambert-2/
LOCATION:Oro Valley Chamber of Commerce\, 1822 E. Innovation Park Drive\, Oro Valley\, 85755\, United States
CATEGORIES:OV Chamber of Commerce
END:VEVENT
BEGIN:VEVENT
DTSTART;TZID=America/Phoenix:20231117T150000
DTEND;TZID=America/Phoenix:20231117T150000
DTSTAMP:20260422T133921
CREATED:20231103T231539Z
LAST-MODIFIED:20231103T232603Z
UID:10001227-1700233200-1700233200@iloveov.com
SUMMARY:Pusch Ridge 9 Golf Scramble
DESCRIPTION:Join the Oro Valley Chamber of Commerce on Friday\, Nov. 17\, as they scramble at the Pusch Ridge golf course. They have a shotgun starting at 3 p.m. Cost is $35 / person and includes a cart\, one drink ticket\, and appetizers afterward. There will be prizes: closest to the pin for men and women\, longest drive for men and women\, and the low-score foursome.
URL:https://iloveov.com/oro-valley-event/pusch-ridge-9-golf-scramble-2/
LOCATION:Pusch Ridge Golf\, 10000 N Oracle\, Oro Valley\, Arizona
CATEGORIES:OV Chamber of Commerce
END:VEVENT
BEGIN:VEVENT
DTSTART;TZID=America/Phoenix:20231116T160000
DTEND;TZID=America/Phoenix:20231116T170000
DTSTAMP:20260422T133921
CREATED:20231103T230953Z
LAST-MODIFIED:20231103T231004Z
UID:10001226-1700150400-1700154000@iloveov.com
SUMMARY:Retail Theft Round Table
DESCRIPTION:The Oro Valley Chamber and the Town of Oro Valley are hosting two round table sessions on retail theft. Please join us in a conversation about retail theft in our community and what we can do to prevent it.
URL:https://iloveov.com/oro-valley-event/retail-theft-round-table/2023-11-16/2/
LOCATION:Oro Valley Town Hall\, 11000 N. La Canada Drive\, Oro Valley\, AZ\, 85737\, United States
CATEGORIES:OV Chamber of Commerce
END:VEVENT
BEGIN:VEVENT
DTSTART;TZID=America/Phoenix:20231116T080000
DTEND;TZID=America/Phoenix:20231116T090000
DTSTAMP:20260422T133921
CREATED:20231103T230953Z
LAST-MODIFIED:20231103T231004Z
UID:10001225-1700121600-1700125200@iloveov.com
SUMMARY:Retail Theft Round Table
DESCRIPTION:The Oro Valley Chamber and the Town of Oro Valley are hosting two round table sessions on retail theft. Please join us in a conversation about retail theft in our community and what we can do to prevent it.
URL:https://iloveov.com/oro-valley-event/retail-theft-round-table/2023-11-16/1/
LOCATION:Oro Valley Town Hall\, 11000 N. La Canada Drive\, Oro Valley\, AZ\, 85737\, United States
CATEGORIES:OV Chamber of Commerce
END:VEVENT
BEGIN:VEVENT
DTSTART;TZID=America/Phoenix:20231107T100000
DTEND;TZID=America/Phoenix:20231107T110000
DTSTAMP:20260422T133921
CREATED:20231103T215324Z
LAST-MODIFIED:20231103T215324Z
UID:10001220-1699351200-1699354800@iloveov.com
SUMMARY:Ribbon Cutting for StretchLab Oro Valley
DESCRIPTION:Join the Oro Valley Chamber of Commerce as they celebrate the opening of member StretchLab’s Oro Valley location. There will be refreshments and tours of their new facility for guests\, as well as a ribbon cut to celebrate! We hope you can join us for a fun morning.
URL:https://iloveov.com/oro-valley-event/ribbon-cutting-for-stretchlab-oro-valley/
LOCATION:StretchLab Oro Valley\, 10515 N Oracle Rd\, Suite 169
CATEGORIES:OV Chamber of Commerce
END:VEVENT
BEGIN:VEVENT
DTSTART;TZID=America/Phoenix:20231106T170000
DTEND;TZID=America/Phoenix:20231106T190000
DTSTAMP:20260422T133921
CREATED:20231103T214506Z
LAST-MODIFIED:20231103T222418Z
UID:10001219-1699290000-1699297200@iloveov.com
SUMMARY:OV Chamber of Commerce Mega Mixer with TENWEST
DESCRIPTION:In partnership with Startup Tucson\, TENWEST\, and all your other favorite networking groups\, we will participate in a Mega Mixer! The fun night will occur at Jo Jo’s Restaurant and the Monsoon Room. There will be food and beverages available for purchase at the event. Please join us as we unite our members as one big\, happy Southern Arizona family!
URL:https://iloveov.com/oro-valley-event/ov-chamber-of-commerce-mega-mixer-with-tenwest/
LOCATION:JoJo’s Restaurant\, 210 N Court Ave\, Tucson\, AZ\, United States
CATEGORIES:OV Chamber of Commerce
END:VEVENT
BEGIN:VEVENT
DTSTART;TZID=America/Phoenix:20231103T130000
DTEND;TZID=America/Phoenix:20231103T140000
DTSTAMP:20260422T133921
CREATED:20231103T213859Z
LAST-MODIFIED:20231103T213859Z
UID:10001218-1699016400-1699020000@iloveov.com
SUMMARY:Membership Monday - A Virtual Event
DESCRIPTION:Curious about Chamber membership but unsure if it’s right for you? Or maybe you’re already a member but want to learn how to get the most out of your investment. Join us for this virtual event to discover how the Chamber can help you succeed.
URL:https://iloveov.com/oro-valley-event/membership-monday-a-virtual-event/
CATEGORIES:OV Chamber of Commerce
END:VEVENT
END:VCALENDAR