BEGIN:VCALENDAR
VERSION:2.0
PRODID:-//ILoveOV.com - ECPv6.11.1//NONSGML v1.0//EN
CALSCALE:GREGORIAN
METHOD:PUBLISH
X-WR-CALNAME:ILoveOV.com
X-ORIGINAL-URL:https://iloveov.com
X-WR-CALDESC:Events for ILoveOV.com
REFRESH-INTERVAL;VALUE=DURATION:PT1H
X-Robots-Tag:noindex
X-PUBLISHED-TTL:PT1H
BEGIN:VTIMEZONE
TZID:America/Phoenix
BEGIN:STANDARD
TZOFFSETFROM:-0700
TZOFFSETTO:-0700
TZNAME:MST
DTSTART:20240101T000000
END:STANDARD
END:VTIMEZONE
BEGIN:VEVENT
DTSTART;TZID=America/Phoenix:20250627T180000
DTEND;TZID=America/Phoenix:20250627T200000
DTSTAMP:20260422T090453
CREATED:20250607T003650Z
LAST-MODIFIED:20251101T091026Z
UID:10002379-1751047200-1751054400@iloveov.com
SUMMARY:Home Experts Collaborative Happy Hour
DESCRIPTION:Join Us for Home Experts Collaborative Fridays! \nMark your calendar for the last Friday of each month and come unwind with fellow members of the Home Experts Collaborative at our casual monthly meetup. \nThis laid-back gathering is all about building relationships\, sharing ideas\, and enjoying great company in a family-friendly setting. Members are encouraged to bring guests—spouses\, kids\, and colleagues are all welcome! \n🍽️ Everyone covers their food and drinks\, so feel free to order whatever you want.📋 To help the restaurant prepare\, we kindly ask that you RSVP in advance. \nLet’s connect\, collaborate\, and grow—together!
URL:https://iloveov.com/oro-valley-event/home-experts-collaborative-happy-hour/
LOCATION:Fork & Fire\, 11835 N. Oracle Road\, Oro Valley\, Arizona\, 85737
CATEGORIES:OV Chamber of Commerce
END:VEVENT
BEGIN:VEVENT
DTSTART;TZID=America/Phoenix:20250626T170000
DTEND;TZID=America/Phoenix:20250626T190000
DTSTAMP:20260422T090453
CREATED:20250609T213017Z
LAST-MODIFIED:20251101T091023Z
UID:10002388-1750957200-1750964400@iloveov.com
SUMMARY:Evening Mixer with Roche
DESCRIPTION:Join the Oro Valley Chamber of Commerce for our June evening mixer! We will meet inside the Forum for a great evening of fun and local vendors. Roche will provide great refreshments with a spread of charcuterie\, fruit\, meatballs\, veggies\, non-alcoholic mojitos\, and other beverages. Roche is always a phenomenally gracious host\, so don’t miss out on the premier networking event you won’t want to miss!
URL:https://iloveov.com/oro-valley-event/evening-mixer-with-roche-2/
LOCATION:Roche Tissue Diagnotics\, 1910 E. Innovation Park Drive\, Oro Valley\, AZ\, 85737\, United States
CATEGORIES:OV Chamber of Commerce
END:VEVENT
BEGIN:VEVENT
DTSTART;TZID=America/Phoenix:20250625T130000
DTEND;TZID=America/Phoenix:20250625T140000
DTSTAMP:20260422T090453
CREATED:20250528T201541Z
LAST-MODIFIED:20250528T201541Z
UID:10002319-1750856400-1750860000@iloveov.com
SUMMARY:Wisdom Wednesday\, "Dimentia Live Training"
DESCRIPTION:Dive into a world of knowledge and growth at our Wisdom Wednesdays! \nRight at Home Tucson will be leading this workshop on Dementia. Dementia Live Training offers a unique\, hands on experience to help you “walk in the shoes” of someone living with dementia. Participants will gain awareness of the challenges associated with cognitive changes and leave with valuable tips and tools to improve communication and connection. The team will bring specialized gear that simulates dementia – specific changes\, including altered eyesight\, hearing\, and tactile sensation. \nWe’ll see you there!
URL:https://iloveov.com/oro-valley-event/wisdom-wednesday-dimentia-live-training/
LOCATION:Oro Valley Chamber of Commerce\, 1822 E. Innovation Park Drive\, Oro Valley\, 85755\, United States
CATEGORIES:OV Chamber of Commerce
END:VEVENT
BEGIN:VEVENT
DTSTART;TZID=America/Phoenix:20250610T163000
DTEND;TZID=America/Phoenix:20250610T180000
DTSTAMP:20260422T090453
CREATED:20250607T000928Z
LAST-MODIFIED:20251101T091027Z
UID:10002377-1749573000-1749578400@iloveov.com
SUMMARY:Senior Services Collaborative Monthly Meeting
DESCRIPTION:The Senior Services Collaborative Monthly Meeting is a gathering that brings together local organizations and service providers to share resources\, discuss challenges\, and collaborate on innovative solutions. Each meeting typically features guest speakers presenting on relevant topics and open discussions aimed at fostering partnerships and improving access to services for seniors. It’s a great opportunity to network\, exchange ideas\, and collectively work towards creating a more supportive environment for each other and our senior clients.
URL:https://iloveov.com/oro-valley-event/senior-services-collaborative-monthly-meeting/2025-06-10/
LOCATION:Oro Valley Church of the Apostles\, 12111 N La Cholla Blvd
CATEGORIES:OV Chamber of Commerce
END:VEVENT
BEGIN:VEVENT
DTSTART;TZID=America/Phoenix:20250528T080000
DTEND;TZID=America/Phoenix:20250528T170000
DTSTAMP:20260422T090453
CREATED:20250528T201753Z
LAST-MODIFIED:20250528T201802Z
UID:10002320-1748419200-1748451600@iloveov.com
SUMMARY:OV Chamber of Commerce Evening Mixer with Roche
DESCRIPTION:Join us for our June evening mixer! Connect with fellow professionals\, entrepreneurs\, and community leaders in a relaxed and welcoming atmosphere. The premier networking event you won’t want to miss!
URL:https://iloveov.com/oro-valley-event/ov-chamber-of-commerce-evening-mixer-with-roche/
LOCATION:Arizona
CATEGORIES:OV Chamber of Commerce
END:VEVENT
BEGIN:VEVENT
DTSTART;TZID=America/Phoenix:20250509T083000
DTEND;TZID=America/Phoenix:20250509T100000
DTSTAMP:20260422T090453
CREATED:20250430T223322Z
LAST-MODIFIED:20250430T223322Z
UID:10002305-1746779400-1746784800@iloveov.com
SUMMARY:New Member Orientation
DESCRIPTION:Join us for New Member Orientation\, our quarterly Chamber gathering and refresher hosted by Gold member the El Conquistador Tucson\, a Hilton Resort. It’s FREE!\nWe do limit attendance to 25. Come\, learn about the Chamber\, refresh your membership\, meet some people\, and enjoy complimentary coffee and breakfast bites courtesy of the El Conquistador Tucson.
URL:https://iloveov.com/oro-valley-event/new-member-orientation-4/
LOCATION:El Conquistador Tucson\, A Hilton Resort\, 10000 N Oracle Rd\, Oro Valley\, AZ\, 85737\, United States
CATEGORIES:OV Chamber of Commerce
END:VEVENT
BEGIN:VEVENT
DTSTART;TZID=America/Phoenix:20250508T170000
DTEND;TZID=America/Phoenix:20250508T190000
DTSTAMP:20260422T090453
CREATED:20250430T223035Z
LAST-MODIFIED:20250430T223036Z
UID:10002304-1746723600-1746730800@iloveov.com
SUMMARY:Evening Mixer with Integrative Touch
DESCRIPTION:Join us for the Oro Valley Chamber of Commerce May Evening Mixer—an event you won’t want to miss! \nIntegrative Touch will be treating guests to delicious bites and offering complimentary mini massage and acupuncture sessions to help you relax and recharge. \nCome unwind\, connect with fellow professionals\, and build lasting relationships at this fun and refreshing networking event!
URL:https://iloveov.com/oro-valley-event/evening-mixer-with-integrative-touch-2/
LOCATION:Integrative Touch\, 7493 N Oracle Rd\, # 123\, Oro Valley\, AZ\, 85704\, United States
CATEGORIES:OV Chamber of Commerce
END:VEVENT
BEGIN:VEVENT
DTSTART;TZID=America/Phoenix:20250403T170000
DTEND;TZID=America/Phoenix:20250403T190000
DTSTAMP:20260422T090453
CREATED:20250329T225845Z
LAST-MODIFIED:20250331T170601Z
UID:10002241-1743699600-1743706800@iloveov.com
SUMMARY:Evening Mixer with Southwest Heritage Bank
DESCRIPTION:Join us for our first April evening mixer! Connect with fellow professionals\, entrepreneurs\, and community leaders in a relaxed and welcoming atmosphere. We’ll be celebrating the one year anniversary of Southwest Heritage Bank with fun food and refreshments. The premier networking event you won’t want to miss!
URL:https://iloveov.com/oro-valley-event/evening-mixer-with-southwest-heritage-bank/
LOCATION:Southwest Heritage Bank\, 7315 N Oracle Rd Unit 181\, Oro Valley\, Arizona
CATEGORIES:OV Chamber of Commerce
END:VEVENT
BEGIN:VEVENT
DTSTART;TZID=America/Phoenix:20250228T140000
DTEND;TZID=America/Phoenix:20250228T160000
DTSTAMP:20260422T090453
CREATED:20250218T181926Z
LAST-MODIFIED:20250218T182159Z
UID:10002117-1740751200-1740758400@iloveov.com
SUMMARY:DiBella's Brunch Ribbon Cutting
DESCRIPTION:Join the OV Chamber of Commerce to celebrate the opening of DiBella’s Brunch & Booze! This event will have food\, prizes\, and good times\, so don’t miss out!
URL:https://iloveov.com/oro-valley-event/dibellas-brunch-ribbon-cutting/
LOCATION:DiBella’a Brunch\, 9630 N Oracle Rd. Suite #110
CATEGORIES:OV Chamber of Commerce
END:VEVENT
BEGIN:VEVENT
DTSTART;TZID=America/Phoenix:20250228T080000
DTEND;TZID=America/Phoenix:20250228T100000
DTSTAMP:20260422T090453
CREATED:20250218T181553Z
LAST-MODIFIED:20250218T181553Z
UID:10002116-1740729600-1740736800@iloveov.com
SUMMARY:Perk Before Work at Sola Salons Oro Valley
DESCRIPTION:Join the OV Chamber of Commerce for a morning mixer before you head into the office and get the chance to learn from and grow with other community members. There’s no better way to start your Friday!
URL:https://iloveov.com/oro-valley-event/perk-before-work-at-sola-salons-oro-valley/
LOCATION:Sola Salons Oro Valley\, 2040 E Tangerine Rd.
CATEGORIES:OV Chamber of Commerce
END:VEVENT
BEGIN:VEVENT
DTSTART;TZID=America/Phoenix:20250221T083000
DTEND;TZID=America/Phoenix:20250221T100000
DTSTAMP:20260422T090453
CREATED:20250210T223333Z
LAST-MODIFIED:20250210T223333Z
UID:10002108-1740126600-1740132000@iloveov.com
SUMMARY:Oro Valley Chamber of Commerce New Member Orientation
DESCRIPTION:Join the Oro Valley Chamber of Commerce for New Member Orientation\, our quarterly Chamber gathering and refresher. \nWe do limit attendance to 25. Learn about the Chamber\, meet some people\, and enjoy complimentary coffee and breakfast bites.
URL:https://iloveov.com/oro-valley-event/oro-valley-chamber-of-commerce-new-member-orientation-2/
LOCATION:Arizona
CATEGORIES:OV Chamber of Commerce
END:VEVENT
BEGIN:VEVENT
DTSTART;TZID=America/Phoenix:20250220T170000
DTEND;TZID=America/Phoenix:20250220T190000
DTSTAMP:20260422T090453
CREATED:20250210T222751Z
LAST-MODIFIED:20250210T222931Z
UID:10002107-1740070800-1740078000@iloveov.com
SUMMARY:Evening Mixer with Oro Valley Hospital
DESCRIPTION:Oro Valley Chamber of Commerce: February Evening Mixer & Oro Valley Hospital’s 20th Anniversary! \nJoin us for our second February evening mixer as we celebrate 20 years of Oro Valley Hospital! This special event will feature a delicious selection of appetizers\, including polenta mushroom bites\, steak & blue cheese bruschetta with onion and roasted tomato jam\, crab cakes\, and a gourmet charcuterie board with fresh veggies\, dips\, and cheeses. Indulge in petit fours and an assortment of drinks while networking with fellow professionals. \nDon’t miss this fantastic evening of celebration\, great food\, and connections!
URL:https://iloveov.com/oro-valley-event/evening-mixer-with-oro-valley-hospital-2/
LOCATION:Oro Valley Hospital\, 1551 E. Tangerine Road\, Oro Valley\, AZ\, 85737\, United States
CATEGORIES:OV Chamber of Commerce
END:VEVENT
BEGIN:VEVENT
DTSTART;TZID=America/Phoenix:20250219T130000
DTEND;TZID=America/Phoenix:20250219T140000
DTSTAMP:20260422T090453
CREATED:20250210T222057Z
LAST-MODIFIED:20250210T222326Z
UID:10002106-1739970000-1739973600@iloveov.com
SUMMARY:Wisdom Wednesday\, "Where Does your Trash Go?"
DESCRIPTION:Join the Oro Valley Chamber of Commernce for Wisdom Wednesday at Republic Services\, where we’ll take an exclusive tour of their facility and gain insight into Southern Arizona’s trash and recycling processes. Don’t miss this opportunity to expand your knowledge and see waste management in action!
URL:https://iloveov.com/oro-valley-event/wisdom-wednesday-where-does-your-trash-go/
LOCATION:Oro Valley Chamber of Commerce\, 1822 E. Innovation Park Drive\, Oro Valley\, 85755\, United States
CATEGORIES:OV Chamber of Commerce
END:VEVENT
BEGIN:VEVENT
DTSTART;TZID=America/Phoenix:20250211T160000
DTEND;TZID=America/Phoenix:20250211T170000
DTSTAMP:20260422T090453
CREATED:20250210T221653Z
LAST-MODIFIED:20250210T221653Z
UID:10002105-1739289600-1739293200@iloveov.com
SUMMARY:Sweet Repeats Children's Resale Boutique 15 Year Anniversary Ribbon Cutting
DESCRIPTION:Oro Valley Chamber of Commerce: Celebrate 15 Years of Sweet Repeats! \nJoin us as we celebrate Sweet Repeats’ 15th anniversary at their Northwest location in the Trader Joe’s shopping center at Magee and Oracle. We’re honoring the legacy of their first establishment with a fun-filled event for the whole community! \nEnjoy Handel’s Homemade Ice Cream\, delicious cupcakes\, exclusive sales\, and exciting giveaways. Plus\, kids can enjoy open play at My Gym\, their neighboring business. \nDon’t miss this special milestone—see you there! 🎉
URL:https://iloveov.com/oro-valley-event/sweet-repeats-childrens-resale-boutique-15-year-anniversary-ribbon-cutting/
LOCATION:Sweet Repeats hildren’s Resale Boutique\, 7936 N Oracle Rd\, Oro Valley\, Arizona
CATEGORIES:OV Chamber of Commerce
END:VEVENT
BEGIN:VEVENT
DTSTART;TZID=America/Phoenix:20250206T160000
DTEND;TZID=America/Phoenix:20250206T180000
DTSTAMP:20260422T090453
CREATED:20250201T203856Z
LAST-MODIFIED:20250204T000023Z
UID:10002085-1738857600-1738864800@iloveov.com
SUMMARY:Evening Mixer at Picture Rocks Cooling\, Heating & Plumbing
DESCRIPTION:Help us welcome Picture Rocks Cooling\, Heating & Plumbing to their new location! Join board chair Ron Arenas and the Picture Rocks team for an evening of networking and celebration. \nEnjoy: \n\nOfficial ribbon cutting ceremony\nFreshly grilled hamburgers\nRefreshments\nDoor prizes\nNetworking opportunities\n\nCome congratulate Ron and celebrate this exciting milestone for one of our valued local businesses!
URL:https://iloveov.com/oro-valley-event/evening-mixer-at-picture-rocks-cooling-heating-plumbing/
LOCATION:Picture Rocks Cooling\, Heating & Plumbing\, 422 S. Olsen Ave
CATEGORIES:OV Chamber of Commerce
END:VEVENT
BEGIN:VEVENT
DTSTART;TZID=America/Phoenix:20250128T130000
DTEND;TZID=America/Phoenix:20250128T140000
DTSTAMP:20260422T090453
CREATED:20250106T184918Z
LAST-MODIFIED:20250106T184918Z
UID:10002024-1738069200-1738072800@iloveov.com
SUMMARY:Wisdom Wednesday\, "Vision Boarding for the New Year"
DESCRIPTION:Dive into a world of knowledge and growth at our Wisdom Wednesdays! This Wisdom Wednesday will focus on Vision Boarding for the New Year. Join the Oro Valley Chamber of Commerce to create a vision board filled with the goals that you have for 2025. We’ll see you there!
URL:https://iloveov.com/oro-valley-event/wisdom-wednesday-vision-boarding-for-the-new-year/
LOCATION:Oro Valley Chamber of Commerce\, 1822 E. Innovation Park Drive\, Oro Valley\, 85755\, United States
CATEGORIES:OV Chamber of Commerce
END:VEVENT
BEGIN:VEVENT
DTSTART;TZID=America/Phoenix:20250124T080000
DTEND;TZID=America/Phoenix:20250124T100000
DTSTAMP:20260422T090453
CREATED:20250106T184515Z
LAST-MODIFIED:20250106T184515Z
UID:10002023-1737705600-1737712800@iloveov.com
SUMMARY:Perk Before Work with Mountain View Retirement Living
DESCRIPTION:Join the OV Chamber of Commerce for a morning mixer before you head into the office and get the chance to learn from and grow with other community members. There’s no better way to start your Friday!
URL:https://iloveov.com/oro-valley-event/perk-before-work-with-mountain-view-retirement-living/
LOCATION:Mountain View Retirement Living\, 7900 N La Canada Dr
CATEGORIES:OV Chamber of Commerce
END:VEVENT
BEGIN:VEVENT
DTSTART;TZID=America/Phoenix:20250122T170000
DTEND;TZID=America/Phoenix:20250122T180000
DTSTAMP:20260422T090453
CREATED:20250106T184019Z
LAST-MODIFIED:20250106T184019Z
UID:10002022-1737565200-1737568800@iloveov.com
SUMMARY:Gen Z Committee
DESCRIPTION:Join the Oro Valley Chamber of Commerce for the Gen Z Committee meeting! Are you Gen Z and wanting to make friends and business connections that are your age? Please join us for a fun hour of connection after work. We’ll be making vision boards for the new year as a group. Everyone (under 30) is welcome to attend!
URL:https://iloveov.com/oro-valley-event/gen-z-committee-2/
LOCATION:Oro Valley Chamber of Commerce\, 1822 E. Innovation Park Drive\, Oro Valley\, 85755\, United States
CATEGORIES:OV Chamber of Commerce
END:VEVENT
BEGIN:VEVENT
DTSTART;TZID=America/Phoenix:20250122T160000
DTEND;TZID=America/Phoenix:20250122T180000
DTSTAMP:20260422T090453
CREATED:20250119T183953Z
LAST-MODIFIED:20250119T183954Z
UID:10002034-1737561600-1737568800@iloveov.com
SUMMARY:Roche Tissue Diagnostics 40 Year Anniversary
DESCRIPTION:Celebrate 40 years of diagnostic certainty with Roche Tissue Diagnostics. Kick off this celebration and the B10 grand opening with cocktails\, hors d’oeuvres\, and live music by Zona Libre. Please plan to park in B8/9 and walk over to the celebration.
URL:https://iloveov.com/oro-valley-event/roche-tissue-diagnostics-40-year-anniversary/
LOCATION:Roche Tissue Diagnotics\, 1910 E. Innovation Park Drive\, Oro Valley\, AZ\, 85737\, United States
CATEGORIES:OV Chamber of Commerce
END:VEVENT
BEGIN:VEVENT
DTSTART;TZID=America/Phoenix:20250121T160000
DTEND;TZID=America/Phoenix:20250121T170000
DTSTAMP:20260422T090453
CREATED:20250119T183626Z
LAST-MODIFIED:20250119T183626Z
UID:10002033-1737475200-1737478800@iloveov.com
SUMMARY:Ribbon Cutting for Hydra Brazilian Jiu Jitsu
DESCRIPTION:Join the Oro Valley Chamber of Commerce for a ribbon cutting at Hydra Brazilian Jiu Jitsu. We’ll celebrate the opening of this new business together!
URL:https://iloveov.com/oro-valley-event/ribbon-cutting-for-hydra-brazilian-jiu-jitsu/
LOCATION:10861 N Mavinee Dr. Ste 155
CATEGORIES:OV Chamber of Commerce
END:VEVENT
BEGIN:VEVENT
DTSTART;TZID=America/Phoenix:20241212T170000
DTEND;TZID=America/Phoenix:20241212T190000
DTSTAMP:20260422T090453
CREATED:20241112T180702Z
LAST-MODIFIED:20241112T180703Z
UID:10001870-1734022800-1734030000@iloveov.com
SUMMARY:OV Chamber Member Appreciation Holiday Party
DESCRIPTION:Join the Oro Valley Chamber of Commerce for our annual Holiday Celebration! Our staff and board look forward to thanking our valued members for another great year. \nComplimentary for Chamber Members!
URL:https://iloveov.com/oro-valley-event/ov-chamber-member-appreciation-holiday-party/
LOCATION:Tohono Chul Park\, 7366 N. Paseo Del Norte\, Oro Valley\, AZ\, 85704\, United States
CATEGORIES:OV Chamber of Commerce
END:VEVENT
BEGIN:VEVENT
DTSTART;TZID=America/Phoenix:20241210T160000
DTEND;TZID=America/Phoenix:20241210T180000
DTSTAMP:20260422T090453
CREATED:20241112T180239Z
LAST-MODIFIED:20241112T180239Z
UID:10001869-1733846400-1733853600@iloveov.com
SUMMARY:10 Year Anniversary Ribbon Cutting for Catalina Springs Memory Care
DESCRIPTION:Join the Oro Valley Chamber of Commerce as we celebrate 10 years of Catalina Springs Memory Care! Come help us recognize this milestone achievement at this special celebration.
URL:https://iloveov.com/oro-valley-event/10-year-anniversary-ribbon-cutting-for-catalina-springs-memory-care/
LOCATION:Catalina Springs Memory Care\, 9685 N. Oracle Road\, Oro Valley\, Arizona
CATEGORIES:OV Chamber of Commerce
END:VEVENT
BEGIN:VEVENT
DTSTART;TZID=America/Phoenix:20241210T120000
DTEND;TZID=America/Phoenix:20241210T130000
DTSTAMP:20260422T090453
CREATED:20241201T174003Z
LAST-MODIFIED:20241201T174003Z
UID:10001936-1733832000-1733835600@iloveov.com
SUMMARY:Ribbon Cutting and Grand Opening for Your Opportunity for Better Immunity
DESCRIPTION:Join thr Greater Oro Valley Chamber of Commerce as for the grand opening and ribbbon cutting for Your Opportunity for Better Immunity. We’ll cut the ribbon and enjoy an open house!
URL:https://iloveov.com/oro-valley-event/ribbon-cutting-and-grand-opening-for-your-opportunity-for-better-immunity/
LOCATION:Your Opportunity for Better Immunity\, 1521 E Tangerine Rd Suite #225\, Oro Valley
CATEGORIES:OV Chamber of Commerce
END:VEVENT
BEGIN:VEVENT
DTSTART;TZID=America/Phoenix:20241206T083000
DTEND;TZID=America/Phoenix:20241206T220000
DTSTAMP:20260422T090453
CREATED:20241112T175545Z
LAST-MODIFIED:20241112T175545Z
UID:10001868-1733473800-1733522400@iloveov.com
SUMMARY:Oro Valley Chamber of Commerce New Member Orientation
DESCRIPTION:Join the Oro Valley Chamber of Commerce for New Member Orientation\, a quarterly Chamber gathering and refresher hosted by Gold member the El Conquistador Tucson\, a Hilton Resort. Attendance is limited to 25 guests. Come learn about the Chamber\, refresh your membership\, meet fellow members\, and enjoy complimentary coffee and breakfast bites courtesy of the El Conquistador Tucson.
URL:https://iloveov.com/oro-valley-event/oro-valley-chamber-of-commerce-new-member-orientation/
LOCATION:El Conquistador Tucson\, A Hilton Resort\, 10000 N Oracle Rd\, Oro Valley\, AZ\, 85737\, United States
CATEGORIES:OV Chamber of Commerce
END:VEVENT
BEGIN:VEVENT
DTSTART;TZID=America/Phoenix:20241122T080000
DTEND;TZID=America/Phoenix:20241122T220000
DTSTAMP:20260422T090453
CREATED:20241120T184958Z
LAST-MODIFIED:20241120T184958Z
UID:10001875-1732262400-1732312800@iloveov.com
SUMMARY:Perk Before Work with Acacia IT
DESCRIPTION:oin the Oro Valley Chamber of Commerce for a morning mixer before you head into the office and get the chance to learn from and grow with other community members. There’s no better way to start your Friday!
URL:https://iloveov.com/oro-valley-event/perk-before-work-with-acacia-it-2/
LOCATION:Oro Valley Country Club\, 1300 W. Greenock Drive\, Oro Valley\, Arizona\, 85737
CATEGORIES:OV Chamber of Commerce
END:VEVENT
BEGIN:VEVENT
DTSTART;TZID=America/Phoenix:20241119T173000
DTEND;TZID=America/Phoenix:20241119T193000
DTSTAMP:20260422T090453
CREATED:20241030T211208Z
LAST-MODIFIED:20241030T211209Z
UID:10001834-1732037400-1732044600@iloveov.com
SUMMARY:Evening Mixer with Integrative Touch
DESCRIPTION:Business Mixer Tuesday\nNovember 19\, 2024\n5:30-7:30 PM\nIntegrative Touch\n7493 N. Oracle Road\, Suite 123\nOro Valley \nMix\, mingle and make connections at our monthly after-hours networking event. Enjoy complimentary appetizers and a cash bar while meeting fellow local business leaders. \n$15 Members $25 Non-Members Register at TucsonChamber.org
URL:https://iloveov.com/oro-valley-event/evening-mixer-with-integrative-touch/
LOCATION:Integrative Touch\, 7493 N Oracle Rd\, # 123\, Oro Valley\, AZ\, 85704\, United States
CATEGORIES:OV Chamber of Commerce
END:VEVENT
BEGIN:VEVENT
DTSTART;TZID=America/Phoenix:20241119T080000
DTEND;TZID=America/Phoenix:20241119T090000
DTSTAMP:20260422T090453
CREATED:20241112T174423Z
LAST-MODIFIED:20241112T174424Z
UID:10001866-1732003200-1732006800@iloveov.com
SUMMARY:Retail Theft Round Table
DESCRIPTION:Help Combat Retail Theft: Community Strategy Session \nJoin local business owners to develop practical solutions for preventing and addressing retail theft in our area. Your experience and input will help shape effective protection strategies for our business community.
URL:https://iloveov.com/oro-valley-event/retail-theft-round-table-3/
LOCATION:Town of Oro Valley Council Chambers\, Oro Valley Town Hall\, 11000 N La Cañada Drive\, Oro Valley\, AZ\, 85737\, United States
CATEGORIES:OV Chamber of Commerce
END:VEVENT
BEGIN:VEVENT
DTSTART;TZID=America/Phoenix:20241114T170000
DTEND;TZID=America/Phoenix:20241114T190000
DTSTAMP:20260422T090453
CREATED:20241111T215557Z
LAST-MODIFIED:20241111T215850Z
UID:10001859-1731603600-1731610800@iloveov.com
SUMMARY:OV Chamber Evening Mixer with Integrative Touch
DESCRIPTION:Join the Oro Valley Chamber of Commerce for our November Evening Mixer! Network with local professionals and community leaders while enjoying a relaxed atmosphere. Don’t miss this opportunity to make valuable business connections!
URL:https://iloveov.com/oro-valley-event/ov-chamber-evening-mixer-with-integrative-touch/
LOCATION:Integravtive Touch\, 7493 N Oracle Rd\, Suite 103\, Oro Valley\, Arizona\, 85704
CATEGORIES:OV Chamber of Commerce
END:VEVENT
BEGIN:VEVENT
DTSTART;TZID=America/Phoenix:20241113T170000
DTEND;TZID=America/Phoenix:20241113T180000
DTSTAMP:20260422T090453
CREATED:20241030T210143Z
LAST-MODIFIED:20241030T210236Z
UID:10001833-1731517200-1731520800@iloveov.com
SUMMARY:Gen Z Commitee Meeting
DESCRIPTION:Join the Oro Valley Chamber of Commerce for the next Gen Z Committee meeting! Are you Gen Z and want to make friends and business connections that are your age? Please join us for a fun hour of connection after work. Everyone (under 30) is welcome to attend!
URL:https://iloveov.com/oro-valley-event/gen-z-commitee-meeting/
LOCATION:Oro Valley Country Club\, 1300 W. Greenock Drive\, Oro Valley\, Arizona\, 85737
CATEGORIES:OV Chamber of Commerce
END:VEVENT
BEGIN:VEVENT
DTSTART;TZID=America/Phoenix:20241112T080000
DTEND;TZID=America/Phoenix:20241112T170000
DTSTAMP:20260422T090453
CREATED:20241112T174922Z
LAST-MODIFIED:20241112T174922Z
UID:10001867-1731398400-1731430800@iloveov.com
SUMMARY:Perk Before Work with Acacia IT
DESCRIPTION:Start your Friday right! Network with fellow Oro Valley Chamber of Commerce members at our Morning Mixer before your workday begins. Coffee\, connections\, and conversation await!
URL:https://iloveov.com/oro-valley-event/perk-before-work-with-acacia-it/
LOCATION:Oro Valley Country Club\, 1300 W. Greenock Drive\, Oro Valley\, Arizona\, 85737
CATEGORIES:OV Chamber of Commerce
END:VEVENT
END:VCALENDAR