BEGIN:VCALENDAR
VERSION:2.0
PRODID:-//ILoveOV.com - ECPv6.11.1//NONSGML v1.0//EN
CALSCALE:GREGORIAN
METHOD:PUBLISH
X-WR-CALNAME:ILoveOV.com
X-ORIGINAL-URL:https://iloveov.com
X-WR-CALDESC:Events for ILoveOV.com
REFRESH-INTERVAL;VALUE=DURATION:PT1H
X-Robots-Tag:noindex
X-PUBLISHED-TTL:PT1H
BEGIN:VTIMEZONE
TZID:America/Phoenix
BEGIN:STANDARD
TZOFFSETFROM:-0700
TZOFFSETTO:-0700
TZNAME:MST
DTSTART:20250101T000000
END:STANDARD
END:VTIMEZONE
BEGIN:VEVENT
DTSTART;TZID=America/Phoenix:20260421T083000
DTEND;TZID=America/Phoenix:20260421T100000
DTSTAMP:20260422T060412
CREATED:20260322T180431Z
LAST-MODIFIED:20260322T180548Z
UID:10003526-1776760200-1776765600@iloveov.com
SUMMARY:Nonprofit Collaborative Meeting
DESCRIPTION:The Chamber’s Nonprofit Collaborative meets the second Tuesday of each month at 8:30 a.m.\, with hosting duties rotating among participating nonprofit organizations. Each session includes a guest speaker on a topic relevant to the nonprofit sector\, along with time for networking\, resource sharing\, and open conversation. It’s a practical\, regular touchpoint for nonprofit leaders and community partners to stay connected and strengthen their work across the community.
URL:https://iloveov.com/oro-valley-event/nonprofit-collaborative-meeting-5/
CATEGORIES:OV Chamber of Commerce
END:VEVENT
BEGIN:VEVENT
DTSTART;TZID=America/Phoenix:20260414T143000
DTEND;TZID=America/Phoenix:20260414T160000
DTSTAMP:20260422T060412
CREATED:20260322T180122Z
LAST-MODIFIED:20260322T180122Z
UID:10003525-1776177000-1776182400@iloveov.com
SUMMARY:Senior Services Collaborative Meeting
DESCRIPTION:The Senior Services Collaborative meets monthly to bring together local organizations and service providers who work with older adults. Each session typically features a guest speaker on a relevant topic\, followed by open discussion focused on sharing resources\, addressing challenges\, and strengthening partnerships. It’s a practical opportunity to connect with peers\, exchange ideas\, and work together to improve access to services for seniors across the community.
URL:https://iloveov.com/oro-valley-event/senior-services-collaborative-meeting-3/
LOCATION:Oro Valley Church of the Apostles\, 12111 N La Cholla Blvd
CATEGORIES:OV Chamber of Commerce
END:VEVENT
BEGIN:VEVENT
DTSTART;TZID=America/Phoenix:20260409T160000
DTEND;TZID=America/Phoenix:20260409T180000
DTSTAMP:20260422T060412
CREATED:20260322T175857Z
LAST-MODIFIED:20260322T175858Z
UID:10003524-1775750400-1775757600@iloveov.com
SUMMARY:Evening Mixer with Pima Federal Credit Union
DESCRIPTION:Join the Oro Valley Chamber of Commerce for an evening mixer! Connect with fellow professionals\, entrepreneurs\, and community leaders in a relaxed and welcoming atmosphere. The premier networking event you won’t want to miss!
URL:https://iloveov.com/oro-valley-event/evening-mixer-with-pima-federal-credit-union-2/
LOCATION:Pima Federal Credit Union\, 11025 N Oracle Rd\, Oro Valley\, Arizona\, 85737
CATEGORIES:OV Chamber of Commerce
END:VEVENT
BEGIN:VEVENT
DTSTART;TZID=America/Phoenix:20260327T160000
DTEND;TZID=America/Phoenix:20260327T170000
DTSTAMP:20260422T060412
CREATED:20260322T173729Z
LAST-MODIFIED:20260322T173729Z
UID:10003517-1774627200-1774630800@iloveov.com
SUMMARY:Grand Opening for Happy Joe's Pizza and Ice Cream
DESCRIPTION:Please join the Oro Valley Chamber of Commerce to celebrate the grand opening of Happy Joe’s Pizza and Ice Cream! We’ll honor this new business and check out their space.
URL:https://iloveov.com/oro-valley-event/grand-opening-for-happy-joes-pizza-and-ice-cream/
LOCATION:Happy Joe’s Oro Valley\, 11695 N Oracle Rd
CATEGORIES:OV Chamber of Commerce
END:VEVENT
BEGIN:VEVENT
DTSTART;TZID=America/Phoenix:20260326T073000
DTEND;TZID=America/Phoenix:20260326T223000
DTSTAMP:20260422T060412
CREATED:20260309T170030Z
LAST-MODIFIED:20260309T170030Z
UID:10003475-1774510200-1774564200@iloveov.com
SUMMARY:Annual Meeting & Awards Breakfast
DESCRIPTION:The Oro Valley Chamber of Commerce Annual Meeting and Awards Breakfast takes place Thursday\, March 26\, at the Hilton Tucson El Conquistador Golf and Tennis Resort. The event brings together business leaders\, nonprofit representatives\, and community members to recognize the year’s achievements and honor those who contribute to Oro Valley’s continued growth. \nA nonprofit fair opens at 7:30 a.m.\, offering attendees the opportunity to connect with local organizations. A breakfast buffet is available until 9:00 a.m. Organizers recommend arriving early to allow time for parking\, networking\, and visiting the fair before the program begins. \nSeating is limited. Early bird ticket pricing ends Monday\, March 9\, and ticket sales close Monday\, March 23. Expo booths and sponsorships remain available. For more information\, purchase online or contact Makenna at the Chamber.
URL:https://iloveov.com/oro-valley-event/annual-meeting-awards-breakfast-2/
LOCATION:El Conquistador Tucson\, A Hilton Resort\, 10000 N Oracle Rd\, Oro Valley\, AZ\, 85737\, United States
CATEGORIES:OV Chamber of Commerce
END:VEVENT
BEGIN:VEVENT
DTSTART;TZID=America/Phoenix:20260322T080000
DTEND;TZID=America/Phoenix:20260322T170000
DTSTAMP:20260422T060412
CREATED:20260322T174010Z
LAST-MODIFIED:20260322T174010Z
UID:10003518-1774166400-1774198800@iloveov.com
SUMMARY:Grand Opening for Happy Joe's Pizza and Ice Cream
DESCRIPTION:Every last Friday of the month\, Home Experts Collaborative members come together for a casual evening of good conversation and real connection. It’s low-key by design — a chance to swap ideas\, strengthen relationships\, and simply enjoy the company of people who understand your industry. Families are welcome\, and members are encouraged to bring a spouse\, kids\, or a guest. Everyone orders and pays for their own food and drinks. We do ask that you sign up ahead of time so the restaurant can prepare for the group.
URL:https://iloveov.com/oro-valley-event/grand-opening-for-happy-joes-pizza-and-ice-cream-2/
LOCATION:Fork & Fire\, 11835 N. Oracle Road\, Oro Valley\, Arizona\, 85737
CATEGORIES:OV Chamber of Commerce
END:VEVENT
BEGIN:VEVENT
DTSTART;TZID=America/Phoenix:20260309T080000
DTEND;TZID=America/Phoenix:20260309T170000
DTSTAMP:20260422T060412
CREATED:20260309T152250Z
LAST-MODIFIED:20260309T152250Z
UID:10003474-1773043200-1773075600@iloveov.com
SUMMARY:Nonprofit Collaborative Meeting
DESCRIPTION:This month\, the NonProfit Collaborative meets at the “garage” offices of the Parks and Recreation Department of Oro Valley\, at Steam Pump Ranch\, at 9 am. The topic of discussion will be Donor Cultivation. Bring your ideas and questions for the group!
URL:https://iloveov.com/oro-valley-event/nonprofit-collaborative-meeting-4/
CATEGORIES:OV Chamber of Commerce
END:VEVENT
BEGIN:VEVENT
DTSTART;TZID=America/Phoenix:20260305T160000
DTEND;TZID=America/Phoenix:20260305T180000
DTSTAMP:20260422T060412
CREATED:20260126T191432Z
LAST-MODIFIED:20260126T191506Z
UID:10003303-1772726400-1772733600@iloveov.com
SUMMARY:Evening Mixer with Oro Valley Hospital
DESCRIPTION:Join us for an evening mixer! Connect with fellow professionals\, entrepreneurs\, and community leaders in a relaxed and welcoming atmosphere. The premier networking event you won’t want to miss!
URL:https://iloveov.com/oro-valley-event/evening-mixer-with-oro-valley-hospital-3/
LOCATION:Oro Valley Hospital\, 1551 E. Tangerine Road\, Oro Valley\, AZ\, 85737\, United States
CATEGORIES:OV Chamber of Commerce
END:VEVENT
BEGIN:VEVENT
DTSTART;TZID=America/Phoenix:20260303T153000
DTEND;TZID=America/Phoenix:20260303T173000
DTSTAMP:20260422T060412
CREATED:20260223T224022Z
LAST-MODIFIED:20260223T224153Z
UID:10003416-1772551800-1772559000@iloveov.com
SUMMARY:Urban Wellness Center Ribbon Cutting and Open House
DESCRIPTION:Please join the Oro Valley Chamber of Commerce to celebrate the Urban Wellness Center! We’ll cut a ribbon and then enjoy the open house. See you there!
URL:https://iloveov.com/oro-valley-event/urban-wellness-center-ribbon-cutting-and-open-house/
LOCATION:Urban Wellnes\, 12985 N Oracle Rd. Suite #165\, Oro Valley\, Arizona
CATEGORIES:OV Chamber of Commerce
END:VEVENT
BEGIN:VEVENT
DTSTART;TZID=America/Phoenix:20260302T090000
DTEND;TZID=America/Phoenix:20260302T110000
DTSTAMP:20260422T060412
CREATED:20260209T230758Z
LAST-MODIFIED:20260209T233932Z
UID:10003362-1772442000-1772449200@iloveov.com
SUMMARY:Retail Theft Round Table
DESCRIPTION:All Oro Valley retailers\, store managers\, and loss prevention professionals are welcome and encouraged to attend. \nRegister here
URL:https://iloveov.com/oro-valley-event/retail-theft-round-table-4/
LOCATION:Town of Oro Valley Council Chambers\, Oro Valley Town Hall\, 11000 N La Cañada Drive\, Oro Valley\, AZ\, 85737\, United States
CATEGORIES:OV Chamber of Commerce,OVPD
END:VEVENT
BEGIN:VEVENT
DTSTART;TZID=America/Phoenix:20260227T100000
DTEND;TZID=America/Phoenix:20260227T160000
DTSTAMP:20260422T060412
CREATED:20260126T191018Z
LAST-MODIFIED:20260126T191018Z
UID:10003301-1772186400-1772208000@iloveov.com
SUMMARY:Ribbon Cutting for BMO Oro Valley
DESCRIPTION:Please join us for a ribbon-cutting to celebrate the expansion of the BMO Bank Oro Valley location. There will be an open house from 10-4 with the ribbon at the beginning of the day to kick off the festivities. We’ll see you there!
URL:https://iloveov.com/oro-valley-event/ribbon-cutting-for-bmo-oro-valley/
LOCATION:BMO Oro Valley\, 1171 E Rancho Vistoso Blvd
CATEGORIES:OV Chamber of Commerce
END:VEVENT
BEGIN:VEVENT
DTSTART;TZID=America/Phoenix:20260219T080000
DTEND;TZID=America/Phoenix:20260219T170000
DTSTAMP:20260422T060412
CREATED:20260126T190536Z
LAST-MODIFIED:20260126T190537Z
UID:10003300-1771488000-1771520400@iloveov.com
SUMMARY:Speed Networking Evening Mixer with La Posada at Pusch Ridge
DESCRIPTION:Join us for our first-ever Speed Networking Mixer! Get to know people and exchange information through a fun and engaging process. Please bring at least 10-15 business cards for this event. \nThis event has a limit of 100 attendees. Don’t miss out on the fun and register now!
URL:https://iloveov.com/oro-valley-event/speed-networking-evening-mixer-with-la-posada-at-pusch-ridge/
LOCATION:La Posada at Pusch Ridge\, 11050 N Avenida Posada de Oro
CATEGORIES:OV Chamber of Commerce
END:VEVENT
BEGIN:VEVENT
DTSTART;TZID=America/Phoenix:20260213T083000
DTEND;TZID=America/Phoenix:20260213T100000
DTSTAMP:20260422T060412
CREATED:20260126T190301Z
LAST-MODIFIED:20260126T190301Z
UID:10003299-1770971400-1770976800@iloveov.com
SUMMARY:New Member Orientation
DESCRIPTION:Join us for New Member Orientation\, our quarterly Chamber gathering and refresher! Come\, learn about the Chamber\, refresh your membership\, meet some people\, and enjoy complimentary coffee and breakfast bites.
URL:https://iloveov.com/oro-valley-event/new-member-orientation-5/
LOCATION:Oro Valley Chamber of Commerce\, 1822 E. Innovation Park Drive\, Oro Valley\, 85755\, United States
CATEGORIES:OV Chamber of Commerce
END:VEVENT
BEGIN:VEVENT
DTSTART;TZID=America/Phoenix:20260210T143000
DTEND;TZID=America/Phoenix:20260210T160000
DTSTAMP:20260422T060412
CREATED:20260126T190000Z
LAST-MODIFIED:20260126T190059Z
UID:10003298-1770733800-1770739200@iloveov.com
SUMMARY:Senior Services Collaborative Monthly Meeting
DESCRIPTION:The Senior Services Collaborative Monthly Meeting brings together local organizations and service providers to share resources\, discuss challenges\, and collaborate on solutions. Each meeting features guest speakers on relevant topics and open discussions designed to foster partnerships and improve access to services for seniors. It’s an opportunity to network\, exchange ideas\, and work collectively toward creating a more supportive environment for service providers and senior clients alike.
URL:https://iloveov.com/oro-valley-event/senior-services-collaborative-monthly-meeting-3/
LOCATION:Oro Valley Church of the Apostles\, 12111 N La Cholla Blvd
CATEGORIES:OV Chamber of Commerce
END:VEVENT
BEGIN:VEVENT
DTSTART;TZID=America/Phoenix:20260210T100000
DTEND;TZID=America/Phoenix:20260210T110000
DTSTAMP:20260422T060412
CREATED:20260131T173126Z
LAST-MODIFIED:20260131T173126Z
UID:10003342-1770717600-1770721200@iloveov.com
SUMMARY:RTA Next - Oro Valley Chamber of Commerce
DESCRIPTION:RTA Next Ballots Coming Soon \nThe Pima County Recorder’s Office will begin mailing ballots on Wednesday\, February 11\, for RTA Next—a $2.67 billion\, 20-year transportation plan that would extend the original Regional Transportation Authority program. \nElection Day: Tuesday\, March 10 \nVoters will decide on two propositions: \n\nProposition 418: Approve the new regional transportation plan\nProposition 419: Continue the half-cent sales tax established in 2006\n\nBoth propositions must pass for RTA Next to move forward. \nImportant Dates \n\nMonday\, February 9: Final day to register to vote\nFriday\, February 27: Last day to request a mail ballot\nTuesday\, March 3: Recommended ballot return deadline (one week before Election Day)\n\nBallots can be returned by mail or at early-voting locations. For early-voting sites\, visit recorder.pima.gov. \nHow RTA Next Funds Will Be Allocated \n\nRoadway corridor improvements: $1.42 billion\nTransit: $726 million\nSafety\, ADA\, and active transportation: $254.6 million\nArterial roadway reconstruction: $177.6 million\nWildlife crossings and environmental improvements: $50 million\nSmall business assistance: $10 million\n\nThe Oro Valley Chamber of Commerce supports RTA Next. Learn more at rtanext.com or join us for an information session on Tuesday\, February 10\, at 10 AM at the Chamber office (1822 E. Innovation Park Dr.). All questions welcome.
URL:https://iloveov.com/oro-valley-event/rta-next-oro-valley-chamber-of-commerce/
LOCATION:Oro Valley Chamber of Commerce\, 1822 E. Innovation Park Drive\, Oro Valley\, 85755\, United States
CATEGORIES:OV Chamber of Commerce
END:VEVENT
BEGIN:VEVENT
DTSTART;TZID=America/Phoenix:20260204T080000
DTEND;TZID=America/Phoenix:20260204T170000
DTSTAMP:20260422T060412
CREATED:20260126T185428Z
LAST-MODIFIED:20260126T185428Z
UID:10003297-1770192000-1770224400@iloveov.com
SUMMARY:Wisdom Wednesday\, "Financial Education"
DESCRIPTION:Dive into a world of knowledge and growth at our Wisdom Wednesdays! This is an educational event that’s free for members to encourage continued development. Get help running your business so you’re not just working in it.
URL:https://iloveov.com/oro-valley-event/wisdom-wednesday-financial-education/
LOCATION:Oro Valley Chamber of Commerce\, 1822 E. Innovation Park Drive\, Oro Valley\, 85755\, United States
CATEGORIES:OV Chamber of Commerce
END:VEVENT
BEGIN:VEVENT
DTSTART;TZID=America/Phoenix:20260130T180000
DTEND;TZID=America/Phoenix:20260130T200000
DTSTAMP:20260422T060412
CREATED:20260121T210740Z
LAST-MODIFIED:20260121T210740Z
UID:10003257-1769796000-1769803200@iloveov.com
SUMMARY:Home Experts Collaborative Happy Hour
DESCRIPTION:Join the Oro Valley Chamber of Commerce on the last Friday of each month for a relaxed and engaging get-together with fellow members of the Home Experts Collaborative. This informal event is designed to foster connections\, share insights\, and build lasting relationships in a comfortable\, family-friendly setting. Members are encouraged to bring guests\, including spouses and children. Attendees are responsible for their own food and drinks\, so feel free to order what suits your taste!
URL:https://iloveov.com/oro-valley-event/home-experts-collaborative-happy-hour-4/
LOCATION:Fork & Fire\, 11835 N. Oracle Road\, Oro Valley\, Arizona\, 85737
CATEGORIES:OV Chamber of Commerce
END:VEVENT
BEGIN:VEVENT
DTSTART;TZID=America/Phoenix:20260128T110000
DTEND;TZID=America/Phoenix:20260128T233000
DTSTAMP:20260422T060412
CREATED:20260121T200947Z
LAST-MODIFIED:20260121T200947Z
UID:10003255-1769598000-1769643000@iloveov.com
SUMMARY:Grand Opening and Ribbon Cutting of Oro Valley Coffee Roasting Company
DESCRIPTION:Please join the Oro Valley Chamber of Commerce in celebrating Oro Valley Coffee Roasting Company’s grand opening of their second location within the Oro Valley Hospital. We’ll cut the ribbon\, drink some good coffee\, and be on our way!
URL:https://iloveov.com/oro-valley-event/grand-opening-and-ribbon-cutting-of-oro-valley-coffee-roasting-company/
LOCATION:Oro Valley Hospital\, 1551 E. Tangerine Road\, Oro Valley\, AZ\, 85737\, United States
CATEGORIES:OV Chamber of Commerce
END:VEVENT
BEGIN:VEVENT
DTSTART;TZID=America/Phoenix:20260122T083000
DTEND;TZID=America/Phoenix:20260122T100000
DTSTAMP:20260422T060412
CREATED:20260116T225641Z
LAST-MODIFIED:20260121T200554Z
UID:10003241-1769070600-1769076000@iloveov.com
SUMMARY:Women in Leadership Morning Meetup
DESCRIPTION:Women in Leadership Morning Meetups are relaxed and flexible by design. Come when you can\, stay as long as you’d like\, and don’t worry if you’re running late after school drop-off or a morning meeting. This is open house style—no pressure\, just connection. \nYou’ll find coffee from Stacks Book Club\, sweetened matcha from Bloom Tea\, and light bites ready when you arrive. Each meetup includes a conversation topic designed to spark genuine dialogue with other women in leadership—sharing wins\, challenges\, and building relationships that extend beyond the room. \nThese morning gatherings keep our community connected between larger events\, creating space for the real conversations that matter. \nWomen in Leadership is proudly sponsored by OneAZ Credit Union\, whose support makes these connection opportunities possible.
URL:https://iloveov.com/oro-valley-event/morning-meetup/
LOCATION:Oro Valley Chamber of Commerce\, 1822 E. Innovation Park Drive\, Oro Valley\, 85755\, United States
CATEGORIES:OV Chamber of Commerce
END:VEVENT
BEGIN:VEVENT
DTSTART;TZID=America/Phoenix:20260120T160000
DTEND;TZID=America/Phoenix:20260120T170000
DTSTAMP:20260422T060412
CREATED:20260113T212839Z
LAST-MODIFIED:20260113T212839Z
UID:10003232-1768924800-1768928400@iloveov.com
SUMMARY:Ribbon Cutting for The Motive AZ
DESCRIPTION:Join the Oro Valley Chamber of Commerce to celebrate The Motive AZ’s new location! We’ll cut the ribbon and celebrate this member. We hope to see you there!
URL:https://iloveov.com/oro-valley-event/ribbon-cutting-for-the-motive-az/
LOCATION:The Motive Physical Therapy\, 2530 E. Vistoso Commerce Loop
CATEGORIES:OV Chamber of Commerce
END:VEVENT
BEGIN:VEVENT
DTSTART;TZID=America/Phoenix:20260120T140000
DTEND;TZID=America/Phoenix:20260120T153000
DTSTAMP:20260422T060412
CREATED:20260113T212536Z
LAST-MODIFIED:20260113T212536Z
UID:10003231-1768917600-1768923000@iloveov.com
SUMMARY:Non-Profit Collaborative Meeting
DESCRIPTION:Nonprofit Community Gathering \nJoin fellow nonprofit leaders for a collaborative gathering designed to strengthen our collective impact and build meaningful partnerships across our community. \nThis strategic networking session offers nonprofit organizations the opportunity to connect\, share knowledge\, and explore ways to work together more effectively. Through open dialogue and relationship-building\, participants will: \n\nPresent their organization’s mission\, programs\, and current initiatives\nDiscuss common challenges and potential solutions\nGain a deeper understanding of complementary services in the community\nBuild professional relationships with peer organizations\nIdentify opportunities for collaboration and partnership\nExplore ways to enhance service delivery through coordinated efforts\n\nWhether you’re seeking strategic partners\, looking to avoid service duplication\, or simply want to better understand the nonprofit landscape in our community\, this gathering provides a welcoming space for connection and collaboration. \nTogether\, we can achieve more for the communities we serve.
URL:https://iloveov.com/oro-valley-event/non-profit-collaborative-meeting-2/
LOCATION:Oro Valley Chamber of Commerce\, 1822 E. Innovation Park Drive\, Oro Valley\, 85755\, United States
CATEGORIES:OV Chamber of Commerce
END:VEVENT
BEGIN:VEVENT
DTSTART;TZID=America/Phoenix:20260115T160000
DTEND;TZID=America/Phoenix:20260115T180000
DTSTAMP:20260422T060412
CREATED:20251230T223715Z
LAST-MODIFIED:20251230T223848Z
UID:10003177-1768492800-1768500000@iloveov.com
SUMMARY:Evening Mixer with El Conquistador Tucson\, A Hilton Resort
DESCRIPTION:Join the Oro Valley Chamber of Commerce for an evening mixer! Connect with fellow professionals\, entrepreneurs\, and community leaders in a relaxed and welcoming atmosphere. The premier networking event you won’t want to miss! \nRegister
URL:https://iloveov.com/oro-valley-event/evening-mixer-with-el-conquistador-tucson-a-hilton-resort/
LOCATION:El Conquistador Tucson\, A Hilton Resort\, 10000 N Oracle Rd\, Oro Valley\, AZ\, 85737\, United States
CATEGORIES:OV Chamber of Commerce
END:VEVENT
BEGIN:VEVENT
DTSTART;TZID=America/Phoenix:20251211T170000
DTEND;TZID=America/Phoenix:20251211T190000
DTSTAMP:20260422T060412
CREATED:20251126T155826Z
LAST-MODIFIED:20251126T155826Z
UID:10003001-1765472400-1765479600@iloveov.com
SUMMARY:Member Appreciation Holiday Party 2025
DESCRIPTION:Join the Oro Valley Chamber staff\, board\, and fellow members as we celebrate the season and express our gratitude to our member community. \nThis event is complimentary for all Chamber members. \nWe’re gathering donations for the Amphi Foundation Clothing Bank\, which provides clothing for children in need. New\, unwrapped clothing items are welcome\, with pants for all ages being the greatest need. We aim to help fulfill requests from the Amphi Foundation’s Wish Page\, accessible through the link below. You may either arrange direct delivery to the Foundation or bring your donation to the event.
URL:https://iloveov.com/oro-valley-event/member-appreciation-holiday-party-2025/
LOCATION:Tohono Chul Park\, 7366 N. Paseo Del Norte\, Oro Valley\, AZ\, 85704\, United States
CATEGORIES:OV Chamber of Commerce
END:VEVENT
BEGIN:VEVENT
DTSTART;TZID=America/Phoenix:20251119T170000
DTEND;TZID=America/Phoenix:20251119T180000
DTSTAMP:20260422T060412
CREATED:20251104T223745Z
LAST-MODIFIED:20251104T223745Z
UID:10002904-1763571600-1763575200@iloveov.com
SUMMARY:Gen Z Committee Meeting
DESCRIPTION:Please join the Oro Valley Chamber of Commerce for the Gen Z Committee meeting! Are you Gen Z and looking to make friends and business connections your age? Please join us for a fun hour of connection after work. Everyone (under 30) is welcome to attend!
URL:https://iloveov.com/oro-valley-event/gen-z-committee-meeting-5/
LOCATION:Oro Valley Chamber of Commerce\, 1822 E. Innovation Park Drive\, Oro Valley\, 85755\, United States
CATEGORIES:OV Chamber of Commerce
END:VEVENT
BEGIN:VEVENT
DTSTART;TZID=America/Phoenix:20251113T170000
DTEND;TZID=America/Phoenix:20251113T190000
DTSTAMP:20260422T060412
CREATED:20251104T221736Z
LAST-MODIFIED:20251104T221756Z
UID:10002893-1763053200-1763060400@iloveov.com
SUMMARY:Evening Mixer with Sangha Yoga
DESCRIPTION:November Evening Mixer-OV Chamber of Commerce \nConnect with local professionals\, entrepreneurs\, and community leaders in a relaxed\, welcoming setting. Join us for an evening of meaningful networking and conversation—it’s the perfect opportunity to expand your connections and engage with the business community!
URL:https://iloveov.com/oro-valley-event/evening-mixer-with-sangha-yoga/
LOCATION:Sangha Yoga\, 1880 E Tangerine Rd. Unit 110\, Oro Valley\, Arizona\, 85737
CATEGORIES:OV Chamber of Commerce
END:VEVENT
BEGIN:VEVENT
DTSTART;TZID=America/Phoenix:20251111T163000
DTEND;TZID=America/Phoenix:20251111T180000
DTSTAMP:20260422T060412
CREATED:20251104T220922Z
LAST-MODIFIED:20251104T220922Z
UID:10002890-1762878600-1762884000@iloveov.com
SUMMARY:Senior Services Collaborative Meeting
DESCRIPTION:Senior Services Collaborative Monthly Meeting \nConnect with local organizations and service providers dedicated to supporting seniors in our community. These monthly gatherings create a space for sharing resources\, addressing common challenges\, and developing collaborative solutions. \nEach meeting features guest speakers on timely topics\, followed by open discussions designed to strengthen partnerships and expand access to senior services. Whether you’re looking to network\, exchange ideas\, or work together to better serve seniors\, this collaborative offers a supportive environment for providers committed to making a difference.
URL:https://iloveov.com/oro-valley-event/senior-services-collaborative-meeting-2/
LOCATION:Oro Valley Church of the Apostles\, 12111 N La Cholla Blvd
CATEGORIES:OV Chamber of Commerce
END:VEVENT
BEGIN:VEVENT
DTSTART;TZID=America/Phoenix:20251107T080000
DTEND;TZID=America/Phoenix:20251107T100000
DTSTAMP:20260422T060412
CREATED:20251104T213452Z
LAST-MODIFIED:20251104T213742Z
UID:10002883-1762502400-1762509600@iloveov.com
SUMMARY:Perk Before Work with La Posada at Pusch Ridge
DESCRIPTION:Kickstart Your Friday with the Oro Valley Chamber of Commerce! \nJoin the Oro Valley Chamber of Commerce for a morning mixer and connect with fellow business professionals before your workday begins. Network\, learn\, and grow alongside other community members while we tour and celebrate the beautiful new campus at La Posada at Pusch Ridge. It’s the perfect way to energize your Friday morning!
URL:https://iloveov.com/oro-valley-event/perk-before-work-with-la-posada-at-pusch-ridge/
LOCATION:La Posado at Pusch Ridge\, 11050 N. Avenida Posada de Oro\, Oro Valley\, Arizona\, 85737
CATEGORIES:OV Chamber of Commerce
END:VEVENT
BEGIN:VEVENT
DTSTART;TZID=America/Phoenix:20251106T100000
DTEND;TZID=America/Phoenix:20251106T140000
DTSTAMP:20260422T060412
CREATED:20251104T212531Z
LAST-MODIFIED:20251104T212531Z
UID:10002878-1762423200-1762437600@iloveov.com
SUMMARY:Northwest Senior Resource Gathering
DESCRIPTION:Your Complete Resource Hub for Medicare\, Health\, Legal\, and Financial Guidance \nConnect with fellow seniors and caregivers while discovering local resources designed to support you. \nEvent Highlights: \n\nFree lunch for the first 100 attendees\, courtesy of Blacktop Grill\nGrand prize drawing for a 2-night stay at El Conquistador Tucson\, A Hilton Resort\nLive jazz entertainment by Joe Bourne\, Oro Valley’s premier jazz performer\nMultiple door prizes throughout the event
URL:https://iloveov.com/oro-valley-event/northwest-senior-resource-gathering/
LOCATION:Oro Valley Church of the Apostles\, 12111 N La Cholla Blvd
CATEGORIES:OV Chamber of Commerce
END:VEVENT
BEGIN:VEVENT
DTSTART;TZID=America/Phoenix:20251030T090000
DTEND;TZID=America/Phoenix:20251030T130000
DTSTAMP:20260422T060412
CREATED:20250904T212317Z
LAST-MODIFIED:20251101T090912Z
UID:10002771-1761814800-1761829200@iloveov.com
SUMMARY:2025 State of the Town Oro Valley
DESCRIPTION:On Thursday\, October 30th\, the Oro Valley Chamber of Commerce hosts the 2025 Oro Valley State of the Town at El Conquistador Tucson\, a Hilton Resort.
URL:https://iloveov.com/oro-valley-event/2025-state-of-the-town-oro-valley/
LOCATION:El Conquistador Tucson\, A Hilton Resort\, 10000 N Oracle Rd\, Oro Valley\, AZ\, 85737\, United States
CATEGORIES:Community Events,OV Chamber of Commerce
END:VEVENT
BEGIN:VEVENT
DTSTART;TZID=America/Phoenix:20250916T140000
DTEND;TZID=America/Phoenix:20250916T160000
DTSTAMP:20260422T060412
CREATED:20250909T184959Z
LAST-MODIFIED:20251101T090911Z
UID:10002785-1758031200-1758038400@iloveov.com
SUMMARY:Non-Profit Collaborative Meeting
DESCRIPTION:Optimizing Your Google Business Profile for Nonprofits \nJoin Jane Shurtleff as she guides us through maximizing your organization’s online presence with Google Business Profiles. This free\, user-friendly tool helps nonprofits increase their visibility in search results and connect with more community members who need their services. \nDuring this session\, you’ll discover how to: \n\nSet up a compelling Google Business Profile from scratch\nOptimize your profile to attract the right audience\nMonitor and measure your profile’s performance\n\nJane brings hands-on expertise as the Communications and Programs Chair for the Rotary Club of Oro Valley\, having successfully created Google Business Profiles for both her local club and the broader Southern Arizona Rotary District 5500. \nA Collaborative Gathering for Nonprofit Excellence \nThis special convening brings together dedicated nonprofit organizations committed to strengthening our collective impact in the community. Our time together will focus on building meaningful connections and sharing valuable resources. \nWhat to Expect: \n\nMission Sharing: Present your organization’s core purpose and key programs\nChallenge Discussion: Open dialogue about common obstacles and creative solutions\nCross-Learning: Gain insights into diverse approaches across the nonprofit sector\nStrategic Networking: Build relationships that can lead to impactful partnerships\nService Enhancement: Explore opportunities to expand and improve community offerings through collaboration\n\nThis gathering represents our shared commitment to supporting one another while better serving those who depend on our work.
URL:https://iloveov.com/oro-valley-event/non-profit-collaborative-meeting/
LOCATION:Oro Valley Church of the Apostles\, 12111 N La Cholla Blvd
CATEGORIES:OV Chamber of Commerce
END:VEVENT
END:VCALENDAR