BEGIN:VCALENDAR
VERSION:2.0
PRODID:-//ILoveOV.com - ECPv6.11.1//NONSGML v1.0//EN
CALSCALE:GREGORIAN
METHOD:PUBLISH
X-WR-CALNAME:ILoveOV.com
X-ORIGINAL-URL:https://iloveov.com
X-WR-CALDESC:Events for ILoveOV.com
REFRESH-INTERVAL;VALUE=DURATION:PT1H
X-Robots-Tag:noindex
X-PUBLISHED-TTL:PT1H
BEGIN:VTIMEZONE
TZID:America/Phoenix
BEGIN:STANDARD
TZOFFSETFROM:-0700
TZOFFSETTO:-0700
TZNAME:MST
DTSTART:20230101T000000
END:STANDARD
END:VTIMEZONE
BEGIN:VEVENT
DTSTART;TZID=America/Phoenix:20231124T133000
DTEND;TZID=America/Phoenix:20231124T133000
DTSTAMP:20260422T193453
CREATED:20231109T194546Z
LAST-MODIFIED:20231109T203901Z
UID:10001230-1700832600-1700832600@iloveov.com
SUMMARY:The Hoppy Vine - Happy Birthday
DESCRIPTION:Join The Hoppy Vine for their first birthday/anniversary. \nLive Music\, Food\, and Prizes. \nLizzy: 1:30-3:30 pm \nLittle House of Funk: 4-6 pm \nShannon Wiancko: 7-8:30 pm
URL:https://iloveov.com/oro-valley-event/the-hoppy-vine-happy-birthday/
LOCATION:The Hoppy Vine\, 12125 N Oracle Rd\, #137\, Oro Valley\, Arizona\, 85737
CATEGORIES:Community Events
END:VEVENT
END:VCALENDAR