BEGIN:VCALENDAR
VERSION:2.0
PRODID:-//ILoveOV.com - ECPv6.11.1//NONSGML v1.0//EN
CALSCALE:GREGORIAN
METHOD:PUBLISH
X-ORIGINAL-URL:https://iloveov.com
X-WR-CALDESC:Events for ILoveOV.com
REFRESH-INTERVAL;VALUE=DURATION:PT1H
X-Robots-Tag:noindex
X-PUBLISHED-TTL:PT1H
BEGIN:VTIMEZONE
TZID:America/Phoenix
BEGIN:STANDARD
TZOFFSETFROM:-0700
TZOFFSETTO:-0700
TZNAME:MST
DTSTART:20250101T000000
END:STANDARD
END:VTIMEZONE
BEGIN:VEVENT
DTSTART;TZID=America/Phoenix:20251113T090000
DTEND;TZID=America/Phoenix:20251113T140000
DTSTAMP:20260420T030620
CREATED:20250810T171942Z
LAST-MODIFIED:20251101T090929Z
UID:10002656-1763024400-1763042400@iloveov.com
SUMMARY:3rd Annual Turkey Drive to benefit the Salvation Army
DESCRIPTION:This November\, the Vallee Gold Team\, Nova Home Loans\, and Premiere Title will host our 3rd Annual Turkey Drive to benefit the Salvation Army—and this year\, our mission is bigger than ever. \nLast year\, with the help of our community\, we fed over 1\,000 families in need. This year\, we’ve set our sights on feeding 10\,000 families. It’s an ambitious goal\, but one we believe Tucson can rally behind. \nThis will be a frozen turkey donation drive\, with the Salvation Army on site with a large refrigerated truck to store donations. For those who prefer\, there will also be a secure option to donate funds toward turkey purchases.
URL:https://iloveov.com/oro-valley-event/3rd-annual-turkey-drive-to-benefit-the-salvation-army/
LOCATION:Nova Home Loans\, 6893 North Oracle\,#121
END:VEVENT
END:VCALENDAR