BEGIN:VCALENDAR
VERSION:2.0
PRODID:-//ILoveOV.com - ECPv6.11.1//NONSGML v1.0//EN
CALSCALE:GREGORIAN
METHOD:PUBLISH
X-ORIGINAL-URL:https://iloveov.com
X-WR-CALDESC:Events for ILoveOV.com
REFRESH-INTERVAL;VALUE=DURATION:PT1H
X-Robots-Tag:noindex
X-PUBLISHED-TTL:PT1H
BEGIN:VTIMEZONE
TZID:America/Phoenix
BEGIN:STANDARD
TZOFFSETFROM:-0700
TZOFFSETTO:-0700
TZNAME:MST
DTSTART:20240101T000000
END:STANDARD
END:VTIMEZONE
BEGIN:VEVENT
DTSTART;TZID=America/Phoenix:20250212T150000
DTEND;TZID=America/Phoenix:20250212T170000
DTSTAMP:20260420T013627
CREATED:20250107T222438Z
LAST-MODIFIED:20250107T222439Z
UID:10002026-1739372400-1739379600@iloveov.com
SUMMARY:Legal Tips for your First Two Years in Business
DESCRIPTION:Starting a business often means tackling a long list of tasks\, many of which might be completely new to you. Navigating the legal aspects can feel particularly overwhelming\, but we’re here to help! \nJoin us for a free workshop featuring Mike Boreale of Boreale Law\, PLC\, as he shares valuable legal tips and insights to set you on the right path. \nSign Up Here
URL:https://iloveov.com/oro-valley-event/legal-tips-for-your-first-two-years-in-business/
LOCATION:Town of Oro Valley Council Chambers\, Oro Valley Town Hall\, 11000 N La Cañada Drive\, Oro Valley\, AZ\, 85737\, United States
CATEGORIES:Economic Development - Town of Oro Valley
END:VEVENT
BEGIN:VEVENT
DTSTART;TZID=America/Phoenix:20240228T150000
DTEND;TZID=America/Phoenix:20240228T170000
DTSTAMP:20260420T013627
CREATED:20240119T205105Z
LAST-MODIFIED:20240119T205214Z
UID:10001282-1709132400-1709139600@iloveov.com
SUMMARY:Legal Landscape: Your Guide to Attorney Collaboration
DESCRIPTION:Chris Ambrosio offers some insight on how to work with an attorney and a legal framework for startups to know what questions to ask. \nRegister Here.
URL:https://iloveov.com/oro-valley-event/legal-landscape-your-guide-to-attorney-collaboration/
LOCATION:Oro Valley Town Hall\, 11000 N. La Canada Drive\, Oro Valley\, AZ\, 85737\, United States
CATEGORIES:Town Events
END:VEVENT
END:VCALENDAR