BEGIN:VCALENDAR
VERSION:2.0
PRODID:-//ILoveOV.com - ECPv6.11.1//NONSGML v1.0//EN
CALSCALE:GREGORIAN
METHOD:PUBLISH
X-WR-CALNAME:ILoveOV.com
X-ORIGINAL-URL:https://iloveov.com
X-WR-CALDESC:Events for ILoveOV.com
REFRESH-INTERVAL;VALUE=DURATION:PT1H
X-Robots-Tag:noindex
X-PUBLISHED-TTL:PT1H
BEGIN:VTIMEZONE
TZID:America/Phoenix
BEGIN:STANDARD
TZOFFSETFROM:-0700
TZOFFSETTO:-0700
TZNAME:MST
DTSTART:20240101T000000
END:STANDARD
END:VTIMEZONE
BEGIN:VEVENT
DTSTART;TZID=America/Phoenix:20240505T170000
DTEND;TZID=America/Phoenix:20240505T210000
DTSTAMP:20260423T043648
CREATED:20240429T181758Z
LAST-MODIFIED:20240429T181758Z
UID:10001470-1714928400-1714942800@iloveov.com
SUMMARY:The Hoppy Vine Tacos and Beer Cinco De Mayo Celebration
DESCRIPTION:Welcome to The Hoppy Vine!  Open since 2021 in the Oro Valley Market Place\, we serve a variety of craft beers\, wines\, and non-alcoholic beverages.  We are kid and dog-friendly and love to share our space with family and friends.  Our dream is to create an environment where everyone can stop by and enjoy a refreshment of their liking.
URL:https://iloveov.com/oro-valley-event/the-hoppy-vine-tacos-and-beer-cinco-de-mayo-celebration/
LOCATION:The Hoppy Vine\, 12125 N Oracle Rd\, #137\, Oro Valley\, Arizona\, 85737
END:VEVENT
BEGIN:VEVENT
DTSTART;TZID=America/Phoenix:20240503T170000
DTEND;TZID=America/Phoenix:20240503T200000
DTSTAMP:20260423T043648
CREATED:20240503T192553Z
LAST-MODIFIED:20240503T192823Z
UID:10001497-1714755600-1714766400@iloveov.com
SUMMARY:The Hoppy Vine - Cow Pig Food Truck
DESCRIPTION:Welcome to The Hoppy Vine!  Open since 2021 in the Oro Valley Market Place\, we serve a variety of craft beers\, wines\, and non-alcoholic beverages.  We are kid and dog-friendly and love to share our space with family and friends.  Our dream is to create an environment where everyone can stop by and enjoy a refreshment of their liking.
URL:https://iloveov.com/oro-valley-event/the-hoppy-vine-cow-pig-food-truck/
LOCATION:The Hoppy Vine\, 12125 N Oracle Rd\, #137\, Oro Valley\, Arizona\, 85737
END:VEVENT
BEGIN:VEVENT
DTSTART;TZID=America/Phoenix:20240502T183000
DTEND;TZID=America/Phoenix:20240502T210000
DTSTAMP:20260423T043648
CREATED:20240429T181029Z
LAST-MODIFIED:20240429T181029Z
UID:10001464-1714674600-1714683600@iloveov.com
SUMMARY:The Hoppy Vine - Musical Bingo
DESCRIPTION:Welcome to The Hoppy Vine!  Open since 2021 in the Oro Valley Market Place\, we serve a variety of craft beers\, wines\, and non-alcoholic beverages.  We are kid and dog-friendly and love to share our space with family and friends.  Our dream is to create an environment where everyone can stop by and enjoy a refreshment of their liking.
URL:https://iloveov.com/oro-valley-event/the-hoppy-vine-musical-bingo-3/2024-05-02/
LOCATION:The Hoppy Vine\, 12125 N Oracle Rd\, #137\, Oro Valley\, Arizona\, 85737
END:VEVENT
BEGIN:VEVENT
DTSTART;TZID=America/Phoenix:20240501T180000
DTEND;TZID=America/Phoenix:20240501T200000
DTSTAMP:20260423T043648
CREATED:20240429T181427Z
LAST-MODIFIED:20240429T181427Z
UID:10001469-1714586400-1714593600@iloveov.com
SUMMARY:The Hoppy Vine - Game Night
DESCRIPTION:Welcome to The Hoppy Vine!  Open since 2021 in the Oro Valley Market Place\, we serve a variety of craft beers\, wines\, and non-alcoholic beverages.  We are kid and dog-friendly and love to share our space with family and friends.  Our dream is to create an environment where everyone can stop by and enjoy a refreshment of their liking.
URL:https://iloveov.com/oro-valley-event/the-hoppy-vine-game-night/
LOCATION:The Hoppy Vine\, 12125 N Oracle Rd\, #137\, Oro Valley\, Arizona\, 85737
END:VEVENT
BEGIN:VEVENT
DTSTART;TZID=America/Phoenix:20240429T180000
DTEND;TZID=America/Phoenix:20240429T200000
DTSTAMP:20260423T043648
CREATED:20240307T214249Z
LAST-MODIFIED:20240307T214338Z
UID:10001358-1714413600-1714420800@iloveov.com
SUMMARY:The Hoppy Vine - David Argentati - Live Music
DESCRIPTION:Welcome to The Hoppy Vine!  Open since 2021 in the Oro Valley Market Place\, we serve a variety of craft beers\, wines\, and non-alcoholic beverages.  We are kid and dog-friendly and love to share our space with family and friends.  Our dream is to create an environment where everyone can stop by and enjoy a refreshment of their liking. \nDavid Argentati – Live Music
URL:https://iloveov.com/oro-valley-event/the-hoppy-vine-david-argentati-live-music/
LOCATION:The Hoppy Vine\, 12125 N Oracle Rd\, #137\, Oro Valley\, Arizona\, 85737
CATEGORIES:Live Music
END:VEVENT
BEGIN:VEVENT
DTSTART;TZID=America/Phoenix:20240425T183000
DTEND;TZID=America/Phoenix:20240425T210000
DTSTAMP:20260423T043648
CREATED:20240328T222350Z
LAST-MODIFIED:20240328T222456Z
UID:10001392-1714069800-1714078800@iloveov.com
SUMMARY:The Hoppy Vine - Musical Bingo
DESCRIPTION:Welcome to The Hoppy Vine!  Open since 2021 in the Oro Valley Market Place\, we serve a variety of craft beers\, wines\, and non-alcoholic beverages.  We are kid and dog-friendly and love to share our space with family and friends.  Our dream is to create an environment where everyone can stop by and enjoy a refreshment of their liking.
URL:https://iloveov.com/oro-valley-event/the-hoppy-vine-musical-bingo-2/2024-04-25/
LOCATION:The Hoppy Vine\, 12125 N Oracle Rd\, #137\, Oro Valley\, Arizona\, 85737
CATEGORIES:Live Music
END:VEVENT
BEGIN:VEVENT
DTSTART;TZID=America/Phoenix:20240419T170000
DTEND;TZID=America/Phoenix:20240419T200000
DTSTAMP:20260423T043648
CREATED:20240328T221201Z
LAST-MODIFIED:20240328T221201Z
UID:10001383-1713546000-1713556800@iloveov.com
SUMMARY:Hoppy Vine - Blacktop Grill Food Truck
DESCRIPTION:Welcome to The Hoppy Vine!  Open since 2021 in the Oro Valley Market Place\, we serve a variety of craft beers\, wines\, and non-alcoholic beverages.  We are kid and dog-friendly and love to share our space with family and friends.  Our dream is to create an environment where everyone can stop by and enjoy a refreshment of their liking.
URL:https://iloveov.com/oro-valley-event/hoppy-vine-blacktop-grill-food-truck/
LOCATION:The Hoppy Vine\, 12125 N Oracle Rd\, #137\, Oro Valley\, Arizona\, 85737
END:VEVENT
BEGIN:VEVENT
DTSTART;TZID=America/Phoenix:20240418T183000
DTEND;TZID=America/Phoenix:20240418T210000
DTSTAMP:20260423T043648
CREATED:20240328T222350Z
LAST-MODIFIED:20240328T222456Z
UID:10001391-1713465000-1713474000@iloveov.com
SUMMARY:The Hoppy Vine - Musical Bingo
DESCRIPTION:Welcome to The Hoppy Vine!  Open since 2021 in the Oro Valley Market Place\, we serve a variety of craft beers\, wines\, and non-alcoholic beverages.  We are kid and dog-friendly and love to share our space with family and friends.  Our dream is to create an environment where everyone can stop by and enjoy a refreshment of their liking.
URL:https://iloveov.com/oro-valley-event/the-hoppy-vine-musical-bingo-2/2024-04-18/
LOCATION:The Hoppy Vine\, 12125 N Oracle Rd\, #137\, Oro Valley\, Arizona\, 85737
CATEGORIES:Live Music
END:VEVENT
BEGIN:VEVENT
DTSTART;TZID=America/Phoenix:20240416T183000
DTEND;TZID=America/Phoenix:20240416T210000
DTSTAMP:20260423T043648
CREATED:20240328T222126Z
LAST-MODIFIED:20240328T222126Z
UID:10001388-1713292200-1713301200@iloveov.com
SUMMARY:The Hoppy Vine - Trivia
DESCRIPTION:Welcome to The Hoppy Vine!  Open since 2021 in the Oro Valley Market Place\, we serve a variety of craft beers\, wines\, and non-alcoholic beverages.  We are kid and dog-friendly and love to share our space with family and friends.  Our dream is to create an environment where everyone can stop by and enjoy a refreshment of their liking.
URL:https://iloveov.com/oro-valley-event/the-hoppy-vine-trivia-2/2024-04-16/
LOCATION:The Hoppy Vine\, 12125 N Oracle Rd\, #137\, Oro Valley\, Arizona\, 85737
END:VEVENT
BEGIN:VEVENT
DTSTART;TZID=America/Phoenix:20240414T140000
DTEND;TZID=America/Phoenix:20240414T170000
DTSTAMP:20260423T043648
CREATED:20240328T221018Z
LAST-MODIFIED:20240328T221018Z
UID:10001382-1713103200-1713114000@iloveov.com
SUMMARY:Hoppy Vine - Paint and Sip
DESCRIPTION:Welcome to The Hoppy Vine!  Open since 2021 in the Oro Valley Market Place\, we serve a variety of craft beers\, wines\, and non-alcoholic beverages.  We are kid and dog-friendly and love to share our space with family and friends.  Our dream is to create an environment where everyone can stop by and enjoy a refreshment of their liking.
URL:https://iloveov.com/oro-valley-event/hoppy-vine-paint-and-sip/
LOCATION:The Hoppy Vine\, 12125 N Oracle Rd\, #137\, Oro Valley\, Arizona\, 85737
END:VEVENT
BEGIN:VEVENT
DTSTART;TZID=America/Phoenix:20240412T180000
DTEND;TZID=America/Phoenix:20240412T200000
DTSTAMP:20260423T043648
CREATED:20240328T220828Z
LAST-MODIFIED:20240328T220828Z
UID:10001381-1712944800-1712952000@iloveov.com
SUMMARY:Hoppy Vine - Live Music\, Little House of Funk
DESCRIPTION:Welcome to The Hoppy Vine!  Open since 2021 in the Oro Valley Market Place\, we serve a variety of craft beers\, wines\, and non-alcoholic beverages.  We are kid and dog-friendly and love to share our space with family and friends.  Our dream is to create an environment where everyone can stop by and enjoy a refreshment of their liking.
URL:https://iloveov.com/oro-valley-event/hoppy-vine-live-music-little-house-of-funk/
LOCATION:The Hoppy Vine\, 12125 N Oracle Rd\, #137\, Oro Valley\, Arizona\, 85737
CATEGORIES:Live Music
END:VEVENT
BEGIN:VEVENT
DTSTART;TZID=America/Phoenix:20240411T183000
DTEND;TZID=America/Phoenix:20240411T210000
DTSTAMP:20260423T043648
CREATED:20240328T222350Z
LAST-MODIFIED:20240328T222456Z
UID:10001390-1712860200-1712869200@iloveov.com
SUMMARY:The Hoppy Vine - Musical Bingo
DESCRIPTION:Welcome to The Hoppy Vine!  Open since 2021 in the Oro Valley Market Place\, we serve a variety of craft beers\, wines\, and non-alcoholic beverages.  We are kid and dog-friendly and love to share our space with family and friends.  Our dream is to create an environment where everyone can stop by and enjoy a refreshment of their liking.
URL:https://iloveov.com/oro-valley-event/the-hoppy-vine-musical-bingo-2/2024-04-11/
LOCATION:The Hoppy Vine\, 12125 N Oracle Rd\, #137\, Oro Valley\, Arizona\, 85737
CATEGORIES:Live Music
END:VEVENT
BEGIN:VEVENT
DTSTART;TZID=America/Phoenix:20240409T183000
DTEND;TZID=America/Phoenix:20240409T210000
DTSTAMP:20260423T043648
CREATED:20240328T222126Z
LAST-MODIFIED:20240328T222126Z
UID:10001387-1712687400-1712696400@iloveov.com
SUMMARY:The Hoppy Vine - Trivia
DESCRIPTION:Welcome to The Hoppy Vine!  Open since 2021 in the Oro Valley Market Place\, we serve a variety of craft beers\, wines\, and non-alcoholic beverages.  We are kid and dog-friendly and love to share our space with family and friends.  Our dream is to create an environment where everyone can stop by and enjoy a refreshment of their liking.
URL:https://iloveov.com/oro-valley-event/the-hoppy-vine-trivia-2/2024-04-09/
LOCATION:The Hoppy Vine\, 12125 N Oracle Rd\, #137\, Oro Valley\, Arizona\, 85737
END:VEVENT
BEGIN:VEVENT
DTSTART;TZID=America/Phoenix:20240407T160000
DTEND;TZID=America/Phoenix:20240407T200000
DTSTAMP:20260423T043648
CREATED:20240328T220549Z
LAST-MODIFIED:20240328T220549Z
UID:10001380-1712505600-1712520000@iloveov.com
SUMMARY:Hoppy Vine - Karaoke
DESCRIPTION:Welcome to The Hoppy Vine!  Open since 2021 in the Oro Valley Market Place\, we serve a variety of craft beers\, wines\, and non-alcoholic beverages.  We are kid and dog-friendly and love to share our space with family and friends.  Our dream is to create an environment where everyone can stop by and enjoy a refreshment of their liking.
URL:https://iloveov.com/oro-valley-event/hoppy-vine-karaoke/
LOCATION:The Hoppy Vine\, 12125 N Oracle Rd\, #137\, Oro Valley\, Arizona\, 85737
CATEGORIES:Live Music
END:VEVENT
BEGIN:VEVENT
DTSTART;TZID=America/Phoenix:20240404T183000
DTEND;TZID=America/Phoenix:20240404T210000
DTSTAMP:20260423T043648
CREATED:20240328T222350Z
LAST-MODIFIED:20240328T222456Z
UID:10001393-1712255400-1712264400@iloveov.com
SUMMARY:The Hoppy Vine - Musical Bingo
DESCRIPTION:Welcome to The Hoppy Vine!  Open since 2021 in the Oro Valley Market Place\, we serve a variety of craft beers\, wines\, and non-alcoholic beverages.  We are kid and dog-friendly and love to share our space with family and friends.  Our dream is to create an environment where everyone can stop by and enjoy a refreshment of their liking.
URL:https://iloveov.com/oro-valley-event/the-hoppy-vine-musical-bingo-2/2024-04-04/
LOCATION:The Hoppy Vine\, 12125 N Oracle Rd\, #137\, Oro Valley\, Arizona\, 85737
CATEGORIES:Live Music
END:VEVENT
BEGIN:VEVENT
DTSTART;TZID=America/Phoenix:20240402T183000
DTEND;TZID=America/Phoenix:20240402T210000
DTSTAMP:20260423T043648
CREATED:20240328T222126Z
LAST-MODIFIED:20240328T222126Z
UID:10001386-1712082600-1712091600@iloveov.com
SUMMARY:The Hoppy Vine - Trivia
DESCRIPTION:Welcome to The Hoppy Vine!  Open since 2021 in the Oro Valley Market Place\, we serve a variety of craft beers\, wines\, and non-alcoholic beverages.  We are kid and dog-friendly and love to share our space with family and friends.  Our dream is to create an environment where everyone can stop by and enjoy a refreshment of their liking.
URL:https://iloveov.com/oro-valley-event/the-hoppy-vine-trivia-2/2024-04-02/
LOCATION:The Hoppy Vine\, 12125 N Oracle Rd\, #137\, Oro Valley\, Arizona\, 85737
END:VEVENT
BEGIN:VEVENT
DTSTART;TZID=America/Phoenix:20240328T183000
DTEND;TZID=America/Phoenix:20240328T210000
DTSTAMP:20260423T043648
CREATED:20240307T215158Z
LAST-MODIFIED:20240307T215158Z
UID:10001365-1711650600-1711659600@iloveov.com
SUMMARY:The Hoppy Vine - Musical Bingo
DESCRIPTION:Welcome to The Hoppy Vine!  Open since 2021 in the Oro Valley Market Place\, we serve a variety of craft beers\, wines\, and non-alcoholic beverages.  We are kid and dog-friendly and love to share our space with family and friends.  Our dream is to create an environment where everyone can stop by and enjoy a refreshment of their liking.
URL:https://iloveov.com/oro-valley-event/the-hoppy-vine-musical-bingo/2024-03-28/
LOCATION:The Hoppy Vine\, 12125 N Oracle Rd\, #137\, Oro Valley\, Arizona\, 85737
CATEGORIES:Live Music
END:VEVENT
BEGIN:VEVENT
DTSTART;TZID=America/Phoenix:20240328T140000
DTEND;TZID=America/Phoenix:20240328T170000
DTSTAMP:20260423T043648
CREATED:20240328T221655Z
LAST-MODIFIED:20240328T221655Z
UID:10001385-1711634400-1711645200@iloveov.com
SUMMARY:The Hoppy Grill - Paint and Sip
DESCRIPTION:Welcome to The Hoppy Vine!  Open since 2021 in the Oro Valley Market Place\, we serve a variety of craft beers\, wines\, and non-alcoholic beverages.  We are kid and dog-friendly and love to share our space with family and friends.  Our dream is to create an environment where everyone can stop by and enjoy a refreshment of their liking.
URL:https://iloveov.com/oro-valley-event/the-hoppy-grill-paint-and-sip/
LOCATION:The Hoppy Vine\, 12125 N Oracle Rd\, #137\, Oro Valley\, Arizona\, 85737
END:VEVENT
BEGIN:VEVENT
DTSTART;TZID=America/Phoenix:20240328T080000
DTEND;TZID=America/Phoenix:20240328T170000
DTSTAMP:20260423T043648
CREATED:20240328T221327Z
LAST-MODIFIED:20240328T221327Z
UID:10001384-1711612800-1711645200@iloveov.com
SUMMARY:The Hoppy Grill - Live Music\, Paul Opocensky Project
DESCRIPTION:Welcome to The Hoppy Vine!  Open since 2021 in the Oro Valley Market Place\, we serve a variety of craft beers\, wines\, and non-alcoholic beverages.  We are kid and dog-friendly and love to share our space with family and friends.  Our dream is to create an environment where everyone can stop by and enjoy a refreshment of their liking.
URL:https://iloveov.com/oro-valley-event/the-hoppy-grill-live-music-paul-opocensky-project/
LOCATION:The Hoppy Vine\, 12125 N Oracle Rd\, #137\, Oro Valley\, Arizona\, 85737
CATEGORIES:Live Music
END:VEVENT
BEGIN:VEVENT
DTSTART;TZID=America/Phoenix:20240326T063000
DTEND;TZID=America/Phoenix:20240326T210000
DTSTAMP:20260423T043648
CREATED:20240307T214804Z
LAST-MODIFIED:20240307T214804Z
UID:10001361-1711434600-1711486800@iloveov.com
SUMMARY:The Hoppy Vine - Trivia
DESCRIPTION:Welcome to The Hoppy Vine!  Open since 2021 in the Oro Valley Market Place\, we serve a variety of craft beers\, wines\, and non-alcoholic beverages.  We are kid and dog-friendly and love to share our space with family and friends.  Our dream is to create an environment where everyone can stop by and enjoy a refreshment of their liking. \n 
URL:https://iloveov.com/oro-valley-event/the-hoppy-vine-trivia/2024-03-26/
LOCATION:The Hoppy Vine\, 12125 N Oracle Rd\, #137\, Oro Valley\, Arizona\, 85737
END:VEVENT
BEGIN:VEVENT
DTSTART;TZID=America/Phoenix:20240324T140000
DTEND;TZID=America/Phoenix:20240324T170000
DTSTAMP:20260423T043648
CREATED:20240307T212245Z
LAST-MODIFIED:20240307T212245Z
UID:10001353-1711288800-1711299600@iloveov.com
SUMMARY:The Hoppy Vine - Paint and Sip
DESCRIPTION:Welcome to The Hoppy Vine!  Open since 2021 in the Oro Valley Market Place\, we serve a variety of craft beers\, wines\, and non-alcoholic beverages.  We are kid and dog-friendly and love to share our space with family and friends.  Our dream is to create an environment where everyone can stop by and enjoy a refreshment of their liking.
URL:https://iloveov.com/oro-valley-event/the-hoppy-vine-paint-and-sip/2024-03-24/
LOCATION:The Hoppy Vine\, 12125 N Oracle Rd\, #137\, Oro Valley\, Arizona\, 85737
END:VEVENT
BEGIN:VEVENT
DTSTART;TZID=America/Phoenix:20240322T180000
DTEND;TZID=America/Phoenix:20240322T200000
DTSTAMP:20260423T043648
CREATED:20240307T214039Z
LAST-MODIFIED:20240307T214039Z
UID:10001357-1711130400-1711137600@iloveov.com
SUMMARY:The Hoppy Vine - Paul Opocensky Project - Live Music
DESCRIPTION:Welcome to The Hoppy Vine!  Open since 2021 in the Oro Valley Market Place\, we serve a variety of craft beers\, wines\, and non-alcoholic beverages.  We are kid and dog-friendly and love to share our space with family and friends.  Our dream is to create an environment where everyone can stop by and enjoy a refreshment of their liking. \nPaul Opocensky Project – Live Music
URL:https://iloveov.com/oro-valley-event/the-hoppy-vine-paul-opocensky-project-live-music/
LOCATION:The Hoppy Vine\, 12125 N Oracle Rd\, #137\, Oro Valley\, Arizona\, 85737
CATEGORIES:Live Music
END:VEVENT
BEGIN:VEVENT
DTSTART;TZID=America/Phoenix:20240321T183000
DTEND;TZID=America/Phoenix:20240321T210000
DTSTAMP:20260423T043648
CREATED:20240307T215158Z
LAST-MODIFIED:20240307T215158Z
UID:10001364-1711045800-1711054800@iloveov.com
SUMMARY:The Hoppy Vine - Musical Bingo
DESCRIPTION:Welcome to The Hoppy Vine!  Open since 2021 in the Oro Valley Market Place\, we serve a variety of craft beers\, wines\, and non-alcoholic beverages.  We are kid and dog-friendly and love to share our space with family and friends.  Our dream is to create an environment where everyone can stop by and enjoy a refreshment of their liking.
URL:https://iloveov.com/oro-valley-event/the-hoppy-vine-musical-bingo/2024-03-21/
LOCATION:The Hoppy Vine\, 12125 N Oracle Rd\, #137\, Oro Valley\, Arizona\, 85737
CATEGORIES:Live Music
END:VEVENT
BEGIN:VEVENT
DTSTART;TZID=America/Phoenix:20240319T063000
DTEND;TZID=America/Phoenix:20240319T210000
DTSTAMP:20260423T043648
CREATED:20240307T214804Z
LAST-MODIFIED:20240307T214804Z
UID:10001360-1710829800-1710882000@iloveov.com
SUMMARY:The Hoppy Vine - Trivia
DESCRIPTION:Welcome to The Hoppy Vine!  Open since 2021 in the Oro Valley Market Place\, we serve a variety of craft beers\, wines\, and non-alcoholic beverages.  We are kid and dog-friendly and love to share our space with family and friends.  Our dream is to create an environment where everyone can stop by and enjoy a refreshment of their liking. \n 
URL:https://iloveov.com/oro-valley-event/the-hoppy-vine-trivia/2024-03-19/
LOCATION:The Hoppy Vine\, 12125 N Oracle Rd\, #137\, Oro Valley\, Arizona\, 85737
END:VEVENT
BEGIN:VEVENT
DTSTART;TZID=America/Phoenix:20240316T120000
DTEND;TZID=America/Phoenix:20240316T190000
DTSTAMP:20260423T043648
CREATED:20240307T213756Z
LAST-MODIFIED:20240307T213756Z
UID:10001356-1710590400-1710615600@iloveov.com
SUMMARY:The Hoppy Vine - St. Patrick's Day - Live Music
DESCRIPTION:Welcome to The Hoppy Vine!  Open since 2021 in the Oro Valley Market Place\, we serve a variety of craft beers\, wines\, and non-alcoholic beverages.  We are kid and dog-friendly and love to share our space with family and friends.  Our dream is to create an environment where everyone can stop by and enjoy a refreshment of their liking. \nSt. Patrick’s Day Party and the Tune Monkeys (Live Music) 2 to 5 and Ease Cookz starting at 1 p.m.
URL:https://iloveov.com/oro-valley-event/the-hoppy-vine-st-patricks-day-live-music/
LOCATION:The Hoppy Vine\, 12125 N Oracle Rd\, #137\, Oro Valley\, Arizona\, 85737
CATEGORIES:Live Music
END:VEVENT
BEGIN:VEVENT
DTSTART;TZID=America/Phoenix:20240315T170000
DTEND;TZID=America/Phoenix:20240315T200000
DTSTAMP:20260423T043648
CREATED:20240307T213052Z
LAST-MODIFIED:20240307T213052Z
UID:10001355-1710522000-1710532800@iloveov.com
SUMMARY:The Hoppy Vine - Blacktop Food Truck
DESCRIPTION:Welcome to The Hoppy Vine!  Open since 2021 in the Oro Valley Market Place\, we serve a variety of craft beers\, wines\, and non-alcoholic beverages.  We are kid and dog-friendly and love to share our space with family and friends.  Our dream is to create an environment where everyone can stop by and enjoy a refreshment of their liking. \nBlacktop Food Truck
URL:https://iloveov.com/oro-valley-event/the-hoppy-vine-blacktop-food-truck/
LOCATION:The Hoppy Vine\, 12125 N Oracle Rd\, #137\, Oro Valley\, Arizona\, 85737
END:VEVENT
BEGIN:VEVENT
DTSTART;TZID=America/Phoenix:20240314T183000
DTEND;TZID=America/Phoenix:20240314T210000
DTSTAMP:20260423T043648
CREATED:20240307T215158Z
LAST-MODIFIED:20240307T215158Z
UID:10001363-1710441000-1710450000@iloveov.com
SUMMARY:The Hoppy Vine - Musical Bingo
DESCRIPTION:Welcome to The Hoppy Vine!  Open since 2021 in the Oro Valley Market Place\, we serve a variety of craft beers\, wines\, and non-alcoholic beverages.  We are kid and dog-friendly and love to share our space with family and friends.  Our dream is to create an environment where everyone can stop by and enjoy a refreshment of their liking.
URL:https://iloveov.com/oro-valley-event/the-hoppy-vine-musical-bingo/2024-03-14/
LOCATION:The Hoppy Vine\, 12125 N Oracle Rd\, #137\, Oro Valley\, Arizona\, 85737
CATEGORIES:Live Music
END:VEVENT
BEGIN:VEVENT
DTSTART;TZID=America/Phoenix:20240314T140000
DTEND;TZID=America/Phoenix:20240314T210000
DTSTAMP:20260423T043648
CREATED:20240307T212706Z
LAST-MODIFIED:20240307T215727Z
UID:10001354-1710424800-1710450000@iloveov.com
SUMMARY:The Hoppy Vine - Pint and a Pie
DESCRIPTION:Welcome to The Hoppy Vine!  Open since 2021 in the Oro Valley Market Place\, we serve a variety of craft beers\, wines\, and non-alcoholic beverages.  We are kid and dog-friendly and love to share our space with family and friends.  Our dream is to create an environment where everyone can stop by and enjoy a refreshment of their liking. \nPint and a Pie – National Pie Day
URL:https://iloveov.com/oro-valley-event/the-hoppy-vine-paint-and-a-pie/
LOCATION:The Hoppy Vine\, 12125 N Oracle Rd\, #137\, Oro Valley\, Arizona\, 85737
END:VEVENT
BEGIN:VEVENT
DTSTART;TZID=America/Phoenix:20240312T063000
DTEND;TZID=America/Phoenix:20240312T210000
DTSTAMP:20260423T043648
CREATED:20240307T214804Z
LAST-MODIFIED:20240307T214804Z
UID:10001359-1710225000-1710277200@iloveov.com
SUMMARY:The Hoppy Vine - Trivia
DESCRIPTION:Welcome to The Hoppy Vine!  Open since 2021 in the Oro Valley Market Place\, we serve a variety of craft beers\, wines\, and non-alcoholic beverages.  We are kid and dog-friendly and love to share our space with family and friends.  Our dream is to create an environment where everyone can stop by and enjoy a refreshment of their liking. \n 
URL:https://iloveov.com/oro-valley-event/the-hoppy-vine-trivia/2024-03-12/
LOCATION:The Hoppy Vine\, 12125 N Oracle Rd\, #137\, Oro Valley\, Arizona\, 85737
END:VEVENT
BEGIN:VEVENT
DTSTART;TZID=America/Phoenix:20240310T140000
DTEND;TZID=America/Phoenix:20240310T170000
DTSTAMP:20260423T043648
CREATED:20240307T212245Z
LAST-MODIFIED:20240307T212245Z
UID:10001352-1710079200-1710090000@iloveov.com
SUMMARY:The Hoppy Vine - Paint and Sip
DESCRIPTION:Welcome to The Hoppy Vine!  Open since 2021 in the Oro Valley Market Place\, we serve a variety of craft beers\, wines\, and non-alcoholic beverages.  We are kid and dog-friendly and love to share our space with family and friends.  Our dream is to create an environment where everyone can stop by and enjoy a refreshment of their liking.
URL:https://iloveov.com/oro-valley-event/the-hoppy-vine-paint-and-sip/2024-03-10/
LOCATION:The Hoppy Vine\, 12125 N Oracle Rd\, #137\, Oro Valley\, Arizona\, 85737
END:VEVENT
END:VCALENDAR