BEGIN:VCALENDAR
VERSION:2.0
PRODID:-//ILoveOV.com - ECPv6.11.1//NONSGML v1.0//EN
CALSCALE:GREGORIAN
METHOD:PUBLISH
X-ORIGINAL-URL:https://iloveov.com
X-WR-CALDESC:Events for ILoveOV.com
REFRESH-INTERVAL;VALUE=DURATION:PT1H
X-Robots-Tag:noindex
X-PUBLISHED-TTL:PT1H
BEGIN:VTIMEZONE
TZID:America/Phoenix
BEGIN:STANDARD
TZOFFSETFROM:-0700
TZOFFSETTO:-0700
TZNAME:MST
DTSTART:20240101T000000
END:STANDARD
END:VTIMEZONE
BEGIN:VEVENT
DTSTART;TZID=America/Phoenix:20241003T183000
DTEND;TZID=America/Phoenix:20241003T210000
DTSTAMP:20260422T231850
CREATED:20240928T171857Z
LAST-MODIFIED:20240928T171857Z
UID:10001770-1727980200-1727989200@iloveov.com
SUMMARY:The Hoppy Vine - Musical Bingo and Sonoran Dogs with Atease Cookz Food Truck
DESCRIPTION:Welcome to The Hoppy Vine!  Open since 2021 in the Oro Valley Market Place\, we serve a variety of craft beers\, wines\, and non-alcoholic beverages.  We are kid and dog-friendly and love to share our space with family and friends.  Our dream is to create an environment where everyone can stop by and enjoy a refreshment of their liking. \nJoin us from 6:30-9:00 pm as DJ Trivia uses music to close your bingo cards.
URL:https://iloveov.com/oro-valley-event/the-hoppy-vine-musical-bingo-and-sonoran-dogs-with-atease-cookz-food-truck/2024-10-03/
LOCATION:The Hoppy Vine\, 12125 N Oracle Rd\, #137\, Oro Valley\, Arizona\, 85737
CATEGORIES:Live Music
END:VEVENT
BEGIN:VEVENT
DTSTART;TZID=America/Phoenix:20241002T180000
DTEND;TZID=America/Phoenix:20241002T200000
DTSTAMP:20260422T231850
CREATED:20240928T160023Z
LAST-MODIFIED:20240928T160112Z
UID:10001753-1727892000-1727899200@iloveov.com
SUMMARY:The Hoppy Vine - Faceme Portraits
DESCRIPTION:Welcome to The Hoppy Vine!  Open since 2021 in the Oro Valley Market Place\, we serve a variety of craft beers\, wines\, and non-alcoholic beverages.  We are kid and dog-friendly and love to share our space with family and friends.  Our dream is to create an environment where everyone can stop by and enjoy a refreshment of their liking. \nFaceme Portraits \nHere is another fun opportunity to laugh and enjoy each other’s company while drawing your partner – no experience needed.  $40 a couple.  Click here for tickets.
URL:https://iloveov.com/oro-valley-event/the-hoppy-vine-faceme-portraits-2/
END:VEVENT
BEGIN:VEVENT
DTSTART;TZID=America/Phoenix:20241002T140000
DTEND;TZID=America/Phoenix:20241002T210000
DTSTAMP:20260422T231850
CREATED:20240928T171237Z
LAST-MODIFIED:20240928T171237Z
UID:10001765-1727877600-1727902800@iloveov.com
SUMMARY:The Hoppy Vine - Wine Not Wednesday with Wine specials all-day
DESCRIPTION:Welcome to The Hoppy Vine!  Open since 2021 in the Oro Valley Market Place\, we serve a variety of craft beers\, wines\, and non-alcoholic beverages.  We are kid and dog-friendly and love to share our space with family and friends.  Our dream is to create an environment where everyone can stop by and enjoy a refreshment of their liking. \nJoin us all day for Wine Not Wednesdays.  Get rid of the mid-week stressors with 15% off all bottles all day and no corkage fee on bottles bought and enjoyed at the bar. Plus\, we have $2 off all glasses of wine during Happy Hour and special pricing on charcuterie boards when paired with a wine bottle.
URL:https://iloveov.com/oro-valley-event/the-hoppy-vine-wine-not-wednesday-with-wine-specials-all-day/2024-10-02/
LOCATION:The Hoppy Vine\, 12125 N Oracle Rd\, #137\, Oro Valley\, Arizona\, 85737
END:VEVENT
BEGIN:VEVENT
DTSTART;TZID=America/Phoenix:20241001T183000
DTEND;TZID=America/Phoenix:20241001T210000
DTSTAMP:20260422T231850
CREATED:20240928T170640Z
LAST-MODIFIED:20240928T170640Z
UID:10001760-1727807400-1727816400@iloveov.com
SUMMARY:The Hoppy Vine - Tacos and Trivia with Atease Cookz Food Truck
DESCRIPTION:Welcome to The Hoppy Vine!  Open since 2021 in the Oro Valley Market Place\, we serve a variety of craft beers\, wines\, and non-alcoholic beverages.  We are kid and dog-friendly and love to share our space with family and friends.  Our dream is to create an environment where everyone can stop by and enjoy a refreshment of their liking. \nJoin us 6:30-9:00 pm for a fun\, live\, interactive trivia game involving you\, your team\, and other teams.  Plus a LIVE DJ!
URL:https://iloveov.com/oro-valley-event/the-hoppy-vine-tacos-and-trivia-with-atease-cookz-food-truck/2024-10-01/
LOCATION:The Hoppy Vine\, 12125 N Oracle Rd\, #137\, Oro Valley\, Arizona\, 85737
CATEGORIES:Live Music
END:VEVENT
BEGIN:VEVENT
DTSTART;TZID=America/Phoenix:20240927T180000
DTEND;TZID=America/Phoenix:20240927T200000
DTSTAMP:20260422T231850
CREATED:20240830T171011Z
LAST-MODIFIED:20240830T171011Z
UID:10001725-1727460000-1727467200@iloveov.com
SUMMARY:The Hoppy Vine - Silk and Soul/Muncheez Food Truck
DESCRIPTION:Welcome to The Hoppy Vine!  Open since 2021 in the Oro Valley Market Place\, we serve a variety of craft beers\, wines\, and non-alcoholic beverages.  We are kid and dog-friendly and love to share our space with family and friends.  Our dream is to create an environment where everyone can stop by and enjoy a refreshment of their liking. \nLive Music by Silk and Soul and Muncheez Food Truck
URL:https://iloveov.com/oro-valley-event/the-hoppy-vine-silk-and-soul-muncheez-food-truck/
LOCATION:The Hoppy Vine\, 12125 N Oracle Rd\, #137\, Oro Valley\, Arizona\, 85737
CATEGORIES:Live Music
END:VEVENT
BEGIN:VEVENT
DTSTART;TZID=America/Phoenix:20240926T183000
DTEND;TZID=America/Phoenix:20240926T210000
DTSTAMP:20260422T231850
CREATED:20240830T162748Z
LAST-MODIFIED:20240830T162748Z
UID:10001715-1727375400-1727384400@iloveov.com
SUMMARY:The Hoppy Vine - Musical Bingo
DESCRIPTION:Welcome to The Hoppy Vine!  Open since 2021 in the Oro Valley Market Place\, we serve a variety of craft beers\, wines\, and non-alcoholic beverages.  We are kid and dog-friendly and love to share our space with family and friends.  Our dream is to create an environment where everyone can stop by and enjoy a refreshment of their liking. \nFrom 6:30-9:00 pm as DJ Trivia uses music to close your bingo cards.
URL:https://iloveov.com/oro-valley-event/the-hoppy-vine-musical-bingo-5/2024-09-26/
LOCATION:The Hoppy Vine\, 12125 N Oracle Rd\, #137\, Oro Valley\, Arizona\, 85737
CATEGORIES:Live Music
END:VEVENT
BEGIN:VEVENT
DTSTART;TZID=America/Phoenix:20240925T140000
DTEND;TZID=America/Phoenix:20240925T210000
DTSTAMP:20260422T231850
CREATED:20240830T161318Z
LAST-MODIFIED:20240830T162145Z
UID:10001711-1727272800-1727298000@iloveov.com
SUMMARY:The Hoppy Vine - Wine Not Wednesday
DESCRIPTION:Welcome to The Hoppy Vine!  Open since 2021 in the Oro Valley Market Place\, we serve a variety of craft beers\, wines\, and non-alcoholic beverages.  We are kid and dog-friendly and love to share our space with family and friends.  Our dream is to create an environment where everyone can stop by and enjoy a refreshment of their liking. \nWine and Drink Specials all day \nJoin us all day for Wine Not Wednesdays.  Get rid of the mid-week stressors with 15% off all bottles all day and no corkage fee on bottles bought and enjoyed at the bar. \n$2 off all glasses of wine during Happy Hour and special pricing on charcuterie boards when paired with a wine bottle.
URL:https://iloveov.com/oro-valley-event/the-hoppy-vine-wine-not-wednesday/2024-09-25/
LOCATION:The Hoppy Vine\, 12125 N Oracle Rd\, #137\, Oro Valley\, Arizona\, 85737
END:VEVENT
BEGIN:VEVENT
DTSTART;TZID=America/Phoenix:20240924T183000
DTEND;TZID=America/Phoenix:20240924T210000
DTSTAMP:20260422T231850
CREATED:20240830T160500Z
LAST-MODIFIED:20240830T160515Z
UID:10001707-1727202600-1727211600@iloveov.com
SUMMARY:The Hoppy Vine - Trivia
DESCRIPTION:Welcome to The Hoppy Vine!  Open since 2021 in the Oro Valley Market Place\, we serve a variety of craft beers\, wines\, and non-alcoholic beverages.  We are kid and dog-friendly and love to share our space with family and friends.  Our dream is to create an environment where everyone can stop by and enjoy a refreshment of their liking.
URL:https://iloveov.com/oro-valley-event/the-hoppy-vine-trivia-5/2024-09-24/
LOCATION:The Hoppy Vine\, 12125 N Oracle Rd\, #137\, Oro Valley\, Arizona\, 85737
CATEGORIES:Live Music
END:VEVENT
BEGIN:VEVENT
DTSTART;TZID=America/Phoenix:20240921T120000
DTEND;TZID=America/Phoenix:20240921T220000
DTSTAMP:20260422T231850
CREATED:20240830T170526Z
LAST-MODIFIED:20240830T170526Z
UID:10001724-1726920000-1726956000@iloveov.com
SUMMARY:The Hoppy Vine - Oktoberfest
DESCRIPTION:Welcome to The Hoppy Vine!  Open since 2021 in the Oro Valley Market Place\, we serve a variety of craft beers\, wines\, and non-alcoholic beverages.  We are kid and dog-friendly and love to share our space with family and friends.  Our dream is to create an environment where everyone can stop by and enjoy a refreshment of their liking. \nOktoberfest – All Day
URL:https://iloveov.com/oro-valley-event/the-hoppy-vine-oktoberfest/
LOCATION:The Hoppy Vine\, 12125 N Oracle Rd\, #137\, Oro Valley\, Arizona\, 85737
END:VEVENT
BEGIN:VEVENT
DTSTART;TZID=America/Phoenix:20240920T180000
DTEND;TZID=America/Phoenix:20240920T200000
DTSTAMP:20260422T231850
CREATED:20240830T170202Z
LAST-MODIFIED:20240830T170202Z
UID:10001723-1726855200-1726862400@iloveov.com
SUMMARY:The Hoppy Vine - Live Music Little House of Funk
DESCRIPTION:Welcome to The Hoppy Vine!  Open since 2021 in the Oro Valley Market Place\, we serve a variety of craft beers\, wines\, and non-alcoholic beverages.  We are kid and dog-friendly and love to share our space with family and friends.  Our dream is to create an environment where everyone can stop by and enjoy a refreshment of their liking. \nLive Music Little House of Funk
URL:https://iloveov.com/oro-valley-event/the-hoppy-vine-live-music-little-house-of-funk-2/
LOCATION:The Hoppy Vine\, 12125 N Oracle Rd\, #137\, Oro Valley\, Arizona\, 85737
CATEGORIES:Live Music
END:VEVENT
BEGIN:VEVENT
DTSTART;TZID=America/Phoenix:20240919T183000
DTEND;TZID=America/Phoenix:20240919T210000
DTSTAMP:20260422T231850
CREATED:20240830T162748Z
LAST-MODIFIED:20240830T162748Z
UID:10001714-1726770600-1726779600@iloveov.com
SUMMARY:The Hoppy Vine - Musical Bingo
DESCRIPTION:Welcome to The Hoppy Vine!  Open since 2021 in the Oro Valley Market Place\, we serve a variety of craft beers\, wines\, and non-alcoholic beverages.  We are kid and dog-friendly and love to share our space with family and friends.  Our dream is to create an environment where everyone can stop by and enjoy a refreshment of their liking. \nFrom 6:30-9:00 pm as DJ Trivia uses music to close your bingo cards.
URL:https://iloveov.com/oro-valley-event/the-hoppy-vine-musical-bingo-5/2024-09-19/
LOCATION:The Hoppy Vine\, 12125 N Oracle Rd\, #137\, Oro Valley\, Arizona\, 85737
CATEGORIES:Live Music
END:VEVENT
BEGIN:VEVENT
DTSTART;TZID=America/Phoenix:20240918T140000
DTEND;TZID=America/Phoenix:20240918T210000
DTSTAMP:20260422T231850
CREATED:20240830T161318Z
LAST-MODIFIED:20240830T162145Z
UID:10001710-1726668000-1726693200@iloveov.com
SUMMARY:The Hoppy Vine - Wine Not Wednesday
DESCRIPTION:Welcome to The Hoppy Vine!  Open since 2021 in the Oro Valley Market Place\, we serve a variety of craft beers\, wines\, and non-alcoholic beverages.  We are kid and dog-friendly and love to share our space with family and friends.  Our dream is to create an environment where everyone can stop by and enjoy a refreshment of their liking. \nWine and Drink Specials all day \nJoin us all day for Wine Not Wednesdays.  Get rid of the mid-week stressors with 15% off all bottles all day and no corkage fee on bottles bought and enjoyed at the bar. \n$2 off all glasses of wine during Happy Hour and special pricing on charcuterie boards when paired with a wine bottle.
URL:https://iloveov.com/oro-valley-event/the-hoppy-vine-wine-not-wednesday/2024-09-18/
LOCATION:The Hoppy Vine\, 12125 N Oracle Rd\, #137\, Oro Valley\, Arizona\, 85737
END:VEVENT
BEGIN:VEVENT
DTSTART;TZID=America/Phoenix:20240917T183000
DTEND;TZID=America/Phoenix:20240917T210000
DTSTAMP:20260422T231850
CREATED:20240830T160500Z
LAST-MODIFIED:20240830T160515Z
UID:10001706-1726597800-1726606800@iloveov.com
SUMMARY:The Hoppy Vine - Trivia
DESCRIPTION:Welcome to The Hoppy Vine!  Open since 2021 in the Oro Valley Market Place\, we serve a variety of craft beers\, wines\, and non-alcoholic beverages.  We are kid and dog-friendly and love to share our space with family and friends.  Our dream is to create an environment where everyone can stop by and enjoy a refreshment of their liking.
URL:https://iloveov.com/oro-valley-event/the-hoppy-vine-trivia-5/2024-09-17/
LOCATION:The Hoppy Vine\, 12125 N Oracle Rd\, #137\, Oro Valley\, Arizona\, 85737
CATEGORIES:Live Music
END:VEVENT
BEGIN:VEVENT
DTSTART;TZID=America/Phoenix:20240915T150000
DTEND;TZID=America/Phoenix:20240915T170000
DTSTAMP:20260422T231850
CREATED:20240830T165756Z
LAST-MODIFIED:20240830T165756Z
UID:10001722-1726412400-1726419600@iloveov.com
SUMMARY:The Hoppy Vine - Board & Brush Workshop
DESCRIPTION:Welcome to The Hoppy Vine!  Open since 2021 in the Oro Valley Market Place\, we serve a variety of craft beers\, wines\, and non-alcoholic beverages.  We are kid and dog-friendly and love to share our space with family and friends.  Our dream is to create an environment where everyone can stop by and enjoy a refreshment of their liking. \nBoard & Brush is coming back to The Hoppy Vine.  The first event was so good we are doing it again.  Join us from 3-5 pm to build your very own woodworking project.  For more details or to sign up Click Here.
URL:https://iloveov.com/oro-valley-event/the-hoppy-vine-board-brush-workshop/
LOCATION:The Hoppy Vine\, 12125 N Oracle Rd\, #137\, Oro Valley\, Arizona\, 85737
END:VEVENT
BEGIN:VEVENT
DTSTART;TZID=America/Phoenix:20240913T180000
DTEND;TZID=America/Phoenix:20240913T200000
DTSTAMP:20260422T231850
CREATED:20240830T165322Z
LAST-MODIFIED:20240830T171300Z
UID:10001721-1726250400-1726257600@iloveov.com
SUMMARY:The Hoppy Vine - Live Music by Rafe and Aria
DESCRIPTION:Welcome to The Hoppy Vine!  Open since 2021 in the Oro Valley Market Place\, we serve a variety of craft beers\, wines\, and non-alcoholic beverages.  We are kid and dog-friendly and love to share our space with family and friends.  Our dream is to create an environment where everyone can stop by and enjoy a refreshment of their liking. \nListen to Rafe and Aria as they play the sounds of soul\, R&B\, and jazz.
URL:https://iloveov.com/oro-valley-event/the-hoppy-vine-live-music-by-rafe-and-aria/
LOCATION:The Hoppy Vine\, 12125 N Oracle Rd\, #137\, Oro Valley\, Arizona\, 85737
CATEGORIES:Live Music
END:VEVENT
BEGIN:VEVENT
DTSTART;TZID=America/Phoenix:20240912T183000
DTEND;TZID=America/Phoenix:20240912T210000
DTSTAMP:20260422T231850
CREATED:20240830T162748Z
LAST-MODIFIED:20240830T162748Z
UID:10001713-1726165800-1726174800@iloveov.com
SUMMARY:The Hoppy Vine - Musical Bingo
DESCRIPTION:Welcome to The Hoppy Vine!  Open since 2021 in the Oro Valley Market Place\, we serve a variety of craft beers\, wines\, and non-alcoholic beverages.  We are kid and dog-friendly and love to share our space with family and friends.  Our dream is to create an environment where everyone can stop by and enjoy a refreshment of their liking. \nFrom 6:30-9:00 pm as DJ Trivia uses music to close your bingo cards.
URL:https://iloveov.com/oro-valley-event/the-hoppy-vine-musical-bingo-5/2024-09-12/
LOCATION:The Hoppy Vine\, 12125 N Oracle Rd\, #137\, Oro Valley\, Arizona\, 85737
CATEGORIES:Live Music
END:VEVENT
BEGIN:VEVENT
DTSTART;TZID=America/Phoenix:20240911T140000
DTEND;TZID=America/Phoenix:20240911T210000
DTSTAMP:20260422T231850
CREATED:20240830T161318Z
LAST-MODIFIED:20240830T162145Z
UID:10001709-1726063200-1726088400@iloveov.com
SUMMARY:The Hoppy Vine - Wine Not Wednesday
DESCRIPTION:Welcome to The Hoppy Vine!  Open since 2021 in the Oro Valley Market Place\, we serve a variety of craft beers\, wines\, and non-alcoholic beverages.  We are kid and dog-friendly and love to share our space with family and friends.  Our dream is to create an environment where everyone can stop by and enjoy a refreshment of their liking. \nWine and Drink Specials all day \nJoin us all day for Wine Not Wednesdays.  Get rid of the mid-week stressors with 15% off all bottles all day and no corkage fee on bottles bought and enjoyed at the bar. \n$2 off all glasses of wine during Happy Hour and special pricing on charcuterie boards when paired with a wine bottle.
URL:https://iloveov.com/oro-valley-event/the-hoppy-vine-wine-not-wednesday/2024-09-11/
LOCATION:The Hoppy Vine\, 12125 N Oracle Rd\, #137\, Oro Valley\, Arizona\, 85737
END:VEVENT
BEGIN:VEVENT
DTSTART;TZID=America/Phoenix:20240910T183000
DTEND;TZID=America/Phoenix:20240910T210000
DTSTAMP:20260422T231850
CREATED:20240830T160500Z
LAST-MODIFIED:20240830T160515Z
UID:10001705-1725993000-1726002000@iloveov.com
SUMMARY:The Hoppy Vine - Trivia
DESCRIPTION:Welcome to The Hoppy Vine!  Open since 2021 in the Oro Valley Market Place\, we serve a variety of craft beers\, wines\, and non-alcoholic beverages.  We are kid and dog-friendly and love to share our space with family and friends.  Our dream is to create an environment where everyone can stop by and enjoy a refreshment of their liking.
URL:https://iloveov.com/oro-valley-event/the-hoppy-vine-trivia-5/2024-09-10/
LOCATION:The Hoppy Vine\, 12125 N Oracle Rd\, #137\, Oro Valley\, Arizona\, 85737
CATEGORIES:Live Music
END:VEVENT
BEGIN:VEVENT
DTSTART;TZID=America/Phoenix:20240908T170000
DTEND;TZID=America/Phoenix:20240908T190000
DTSTAMP:20260422T231850
CREATED:20240830T164857Z
LAST-MODIFIED:20240830T164947Z
UID:10001719-1725814800-1725822000@iloveov.com
SUMMARY:The Hoppy Vine - Live Music by Steve Bragg
DESCRIPTION:Welcome to The Hoppy Vine!  Open since 2021 in the Oro Valley Market Place\, we serve a variety of craft beers\, wines\, and non-alcoholic beverages.  We are kid and dog-friendly and love to share our space with family and friends.  Our dream is to create an environment where everyone can stop by and enjoy a refreshment of their liking. \nLive Music – Steve Bragg
URL:https://iloveov.com/oro-valley-event/the-hoppy-vine-steve-bragg/
LOCATION:The Hoppy Vine\, 12125 N Oracle Rd\, #137\, Oro Valley\, Arizona\, 85737
CATEGORIES:Live Music
END:VEVENT
BEGIN:VEVENT
DTSTART;TZID=America/Phoenix:20240906T180000
DTEND;TZID=America/Phoenix:20240906T200000
DTSTAMP:20260422T231850
CREATED:20240830T164431Z
LAST-MODIFIED:20240830T164431Z
UID:10001718-1725645600-1725652800@iloveov.com
SUMMARY:The Hoppy Vine - Morty's Backyard BBQ Food Truck
DESCRIPTION:Welcome to The Hoppy Vine!  Open since 2021 in the Oro Valley Market Place\, we serve a variety of craft beers\, wines\, and non-alc\noholic beverages.  We are kid and dog-friendly and love to share our space with family and friends.  Our dream is to create an environment where everyone can stop by and enjoy a refreshment of their liking. \nMorty’s Backyard BBQ Food Truck
URL:https://iloveov.com/oro-valley-event/the-hoppy-vine-mortys-backyard-bbq-food-truck/
LOCATION:The Hoppy Vine\, 12125 N Oracle Rd\, #137\, Oro Valley\, Arizona\, 85737
END:VEVENT
BEGIN:VEVENT
DTSTART;TZID=America/Phoenix:20240906T180000
DTEND;TZID=America/Phoenix:20240906T200000
DTSTAMP:20260422T231850
CREATED:20240830T164041Z
LAST-MODIFIED:20240830T164041Z
UID:10001717-1725645600-1725652800@iloveov.com
SUMMARY:The Hoppy Vine - David Argentati
DESCRIPTION:Welcome to The Hoppy Vine!  Open since 2021 in the Oro Valley Market Place\, we serve a variety of craft beers\, wines\, and non-alcoholic beverages.  We are kid and dog-friendly and love to share our space with family and friends.  Our dream is to create an environment where everyone can stop by and enjoy a refreshment of their liking. \nLive Music – David Argentati
URL:https://iloveov.com/oro-valley-event/the-hoppy-vine-david-argentati/
LOCATION:The Hoppy Vine\, 12125 N Oracle Rd\, #137\, Oro Valley\, Arizona\, 85737
CATEGORIES:Live Music
END:VEVENT
BEGIN:VEVENT
DTSTART;TZID=America/Phoenix:20240905T183000
DTEND;TZID=America/Phoenix:20240905T210000
DTSTAMP:20260422T231850
CREATED:20240830T162748Z
LAST-MODIFIED:20240830T162748Z
UID:10001712-1725561000-1725570000@iloveov.com
SUMMARY:The Hoppy Vine - Musical Bingo
DESCRIPTION:Welcome to The Hoppy Vine!  Open since 2021 in the Oro Valley Market Place\, we serve a variety of craft beers\, wines\, and non-alcoholic beverages.  We are kid and dog-friendly and love to share our space with family and friends.  Our dream is to create an environment where everyone can stop by and enjoy a refreshment of their liking. \nFrom 6:30-9:00 pm as DJ Trivia uses music to close your bingo cards.
URL:https://iloveov.com/oro-valley-event/the-hoppy-vine-musical-bingo-5/2024-09-05/
LOCATION:The Hoppy Vine\, 12125 N Oracle Rd\, #137\, Oro Valley\, Arizona\, 85737
CATEGORIES:Live Music
END:VEVENT
BEGIN:VEVENT
DTSTART;TZID=America/Phoenix:20240904T140000
DTEND;TZID=America/Phoenix:20240904T210000
DTSTAMP:20260422T231850
CREATED:20240830T161318Z
LAST-MODIFIED:20240830T162145Z
UID:10001708-1725458400-1725483600@iloveov.com
SUMMARY:The Hoppy Vine - Wine Not Wednesday
DESCRIPTION:Welcome to The Hoppy Vine!  Open since 2021 in the Oro Valley Market Place\, we serve a variety of craft beers\, wines\, and non-alcoholic beverages.  We are kid and dog-friendly and love to share our space with family and friends.  Our dream is to create an environment where everyone can stop by and enjoy a refreshment of their liking. \nWine and Drink Specials all day \nJoin us all day for Wine Not Wednesdays.  Get rid of the mid-week stressors with 15% off all bottles all day and no corkage fee on bottles bought and enjoyed at the bar. \n$2 off all glasses of wine during Happy Hour and special pricing on charcuterie boards when paired with a wine bottle.
URL:https://iloveov.com/oro-valley-event/the-hoppy-vine-wine-not-wednesday/2024-09-04/
LOCATION:The Hoppy Vine\, 12125 N Oracle Rd\, #137\, Oro Valley\, Arizona\, 85737
END:VEVENT
BEGIN:VEVENT
DTSTART;TZID=America/Phoenix:20240903T183000
DTEND;TZID=America/Phoenix:20240903T210000
DTSTAMP:20260422T231850
CREATED:20240830T160500Z
LAST-MODIFIED:20240830T160515Z
UID:10001704-1725388200-1725397200@iloveov.com
SUMMARY:The Hoppy Vine - Trivia
DESCRIPTION:Welcome to The Hoppy Vine!  Open since 2021 in the Oro Valley Market Place\, we serve a variety of craft beers\, wines\, and non-alcoholic beverages.  We are kid and dog-friendly and love to share our space with family and friends.  Our dream is to create an environment where everyone can stop by and enjoy a refreshment of their liking.
URL:https://iloveov.com/oro-valley-event/the-hoppy-vine-trivia-5/2024-09-03/
LOCATION:The Hoppy Vine\, 12125 N Oracle Rd\, #137\, Oro Valley\, Arizona\, 85737
CATEGORIES:Live Music
END:VEVENT
BEGIN:VEVENT
DTSTART;TZID=America/Phoenix:20240901T160000
DTEND;TZID=America/Phoenix:20240901T200000
DTSTAMP:20260422T231850
CREATED:20240830T155817Z
LAST-MODIFIED:20240830T155827Z
UID:10001703-1725206400-1725220800@iloveov.com
SUMMARY:The Hoppy Vine - Karoke
DESCRIPTION:Welcome to The Hoppy Vine!  Open since 2021 in the Oro Valley Market Place\, we serve a variety of craft beers\, wines\, and non-alcoholic beverages.  We are kid and dog-friendly and love to share our space with family and friends.  Our dream is to create an environment where everyone can stop by and enjoy a refreshment of their liking.
URL:https://iloveov.com/oro-valley-event/the-hoppy-vine-karoke-2/
LOCATION:The Hoppy Vine\, 12125 N Oracle Rd\, #137\, Oro Valley\, Arizona\, 85737
CATEGORIES:Live Music
END:VEVENT
BEGIN:VEVENT
DTSTART;TZID=America/Phoenix:20240830T180000
DTEND;TZID=America/Phoenix:20240830T200000
DTSTAMP:20260422T231850
CREATED:20240730T215251Z
LAST-MODIFIED:20240730T215251Z
UID:10001648-1725040800-1725048000@iloveov.com
SUMMARY:The Hoppy Vine - Paul Opocensky Project
DESCRIPTION:Welcome to The Hoppy Vine!  Open since 2021 in the Oro Valley Market Place\, we serve a variety of craft beers\, wines\, and non-alcoholic beverages.  We are kid and dog-friendly and love to share our space with family and friends.  Our dream is to create an environment where everyone can stop by and enjoy a refreshment of their liking.
URL:https://iloveov.com/oro-valley-event/the-hoppy-vine-paul-opocensky-project/
LOCATION:The Hoppy Vine\, 12125 N Oracle Rd\, #137\, Oro Valley\, Arizona\, 85737
CATEGORIES:Live Music
END:VEVENT
BEGIN:VEVENT
DTSTART;TZID=America/Phoenix:20240829T183000
DTEND;TZID=America/Phoenix:20240829T210000
DTSTAMP:20260422T231850
CREATED:20240730T220221Z
LAST-MODIFIED:20240730T220221Z
UID:10001654-1724956200-1724965200@iloveov.com
SUMMARY:The Hoppy Vine - Musical Bingo
DESCRIPTION:Welcome to The Hoppy Vine!  Open since 2021 in the Oro Valley Market Place\, we serve a variety of craft beers\, wines\, and non-alcoholic beverages.  We are kid and dog-friendly and love to share our space with family and friends.  Our dream is to create an environment where everyone can stop by and enjoy a refreshment of their liking.
URL:https://iloveov.com/oro-valley-event/the-hoppy-vine-musical-bingo-4/2024-08-29/
LOCATION:The Hoppy Vine\, 12125 N Oracle Rd\, #137\, Oro Valley\, Arizona\, 85737
END:VEVENT
BEGIN:VEVENT
DTSTART;TZID=America/Phoenix:20240824T200000
DTEND;TZID=America/Phoenix:20240824T220000
DTSTAMP:20260422T231850
CREATED:20240730T214216Z
LAST-MODIFIED:20240730T214216Z
UID:10001646-1724529600-1724536800@iloveov.com
SUMMARY:The Hoppy Vine - Comedy Night
DESCRIPTION:Welcome to The Hoppy Vine!  Open since 2021 in the Oro Valley Market Place\, we serve a variety of craft beers\, wines\, and non-alcoholic beverages.  We are kid and dog-friendly and love to share our space with family and friends.  Our dream is to create an environment where everyone can stop by and enjoy a refreshment of their liking.
URL:https://iloveov.com/oro-valley-event/the-hoppy-vine-comedy-night/
LOCATION:The Hoppy Vine\, 12125 N Oracle Rd\, #137\, Oro Valley\, Arizona\, 85737
END:VEVENT
BEGIN:VEVENT
DTSTART;TZID=America/Phoenix:20240822T183000
DTEND;TZID=America/Phoenix:20240822T210000
DTSTAMP:20260422T231850
CREATED:20240730T220221Z
LAST-MODIFIED:20240730T220221Z
UID:10001653-1724351400-1724360400@iloveov.com
SUMMARY:The Hoppy Vine - Musical Bingo
DESCRIPTION:Welcome to The Hoppy Vine!  Open since 2021 in the Oro Valley Market Place\, we serve a variety of craft beers\, wines\, and non-alcoholic beverages.  We are kid and dog-friendly and love to share our space with family and friends.  Our dream is to create an environment where everyone can stop by and enjoy a refreshment of their liking.
URL:https://iloveov.com/oro-valley-event/the-hoppy-vine-musical-bingo-4/2024-08-22/
LOCATION:The Hoppy Vine\, 12125 N Oracle Rd\, #137\, Oro Valley\, Arizona\, 85737
END:VEVENT
BEGIN:VEVENT
DTSTART;TZID=America/Phoenix:20240818T153000
DTEND;TZID=America/Phoenix:20240818T170000
DTSTAMP:20260422T231850
CREATED:20240730T213809Z
LAST-MODIFIED:20240730T213809Z
UID:10001645-1723995000-1724000400@iloveov.com
SUMMARY:The Hoppy Vine - FaceMe Portraits
DESCRIPTION:Welcome to The Hoppy Vine!  Open since 2021 in the Oro Valley Market Place\, we serve a variety of craft beers\, wines\, and non-alcoholic beverages.  We are kid and dog-friendly and love to share our space with family and friends.  Our dream is to create an environment where everyone can stop by and enjoy a refreshment of their liking. \nLooking for something fun to do with a partner?  Join us and learn how to draw your partner in a fun and relaxing way with FaceMe Portraits.
URL:https://iloveov.com/oro-valley-event/the-hoppy-vine-faceme-portraits/
LOCATION:The Hoppy Vine\, 12125 N Oracle Rd\, #137\, Oro Valley\, Arizona\, 85737
END:VEVENT
END:VCALENDAR