BEGIN:VCALENDAR
VERSION:2.0
PRODID:-//ILoveOV.com - ECPv6.11.1//NONSGML v1.0//EN
CALSCALE:GREGORIAN
METHOD:PUBLISH
X-ORIGINAL-URL:https://iloveov.com
X-WR-CALDESC:Events for ILoveOV.com
REFRESH-INTERVAL;VALUE=DURATION:PT1H
X-Robots-Tag:noindex
X-PUBLISHED-TTL:PT1H
BEGIN:VTIMEZONE
TZID:America/Phoenix
BEGIN:STANDARD
TZOFFSETFROM:-0700
TZOFFSETTO:-0700
TZNAME:MST
DTSTART:20240101T000000
END:STANDARD
END:VTIMEZONE
BEGIN:VEVENT
DTSTART;TZID=America/Phoenix:20241103T160000
DTEND;TZID=America/Phoenix:20241103T200000
DTSTAMP:20260422T220158
CREATED:20241029T202507Z
LAST-MODIFIED:20241029T202507Z
UID:10001805-1730649600-1730664000@iloveov.com
SUMMARY:The Hoppy Vine - Karaoke
DESCRIPTION:Welcome to The Hoppy Vine!  Open since 2021 in the Oro Valley Market Place\, we serve a variety of craft beers\, wines\, and non-alcoholic beverages.  We are kid and dog-friendly and love to share our space with family and friends.  Our dream is to create an environment where everyone can stop by and enjoy a refreshment of their liking.
URL:https://iloveov.com/oro-valley-event/the-hoppy-vine-karaoke-4/
LOCATION:The Hoppy Vine\, 12125 N Oracle Rd\, #137\, Oro Valley\, Arizona\, 85737
CATEGORIES:Live Music
END:VEVENT
BEGIN:VEVENT
DTSTART;TZID=America/Phoenix:20241101T180000
DTEND;TZID=America/Phoenix:20241101T200000
DTSTAMP:20260422T220158
CREATED:20241029T202245Z
LAST-MODIFIED:20241029T202245Z
UID:10001804-1730484000-1730491200@iloveov.com
SUMMARY:The Hoppy Vine - Live Music with Michael Holper
DESCRIPTION:Welcome to The Hoppy Vine!  Open since 2021 in the Oro Valley Market Place\, we serve a variety of craft beers\, wines\, and non-alcoholic beverages.  We are kid and dog-friendly and love to share our space with family and friends.  Our dream is to create an environment where everyone can stop by and enjoy a refreshment of their liking. \nCome listen to Mike Holper’s acoustic guitar sounds from 6-8 p.m. He will play everything from classic rock to country.
URL:https://iloveov.com/oro-valley-event/the-hoppy-vine-live-music-with-michael-holper/
LOCATION:The Hoppy Vine\, 12125 N Oracle Rd\, #137\, Oro Valley\, Arizona\, 85737
CATEGORIES:Live Music
END:VEVENT
BEGIN:VEVENT
DTSTART;TZID=America/Phoenix:20241031T183000
DTEND;TZID=America/Phoenix:20241031T210000
DTSTAMP:20260422T220158
CREATED:20240928T171857Z
LAST-MODIFIED:20240928T171857Z
UID:10001774-1730399400-1730408400@iloveov.com
SUMMARY:The Hoppy Vine - Musical Bingo and Sonoran Dogs with Atease Cookz Food Truck
DESCRIPTION:Welcome to The Hoppy Vine!  Open since 2021 in the Oro Valley Market Place\, we serve a variety of craft beers\, wines\, and non-alcoholic beverages.  We are kid and dog-friendly and love to share our space with family and friends.  Our dream is to create an environment where everyone can stop by and enjoy a refreshment of their liking. \nJoin us from 6:30-9:00 pm as DJ Trivia uses music to close your bingo cards.
URL:https://iloveov.com/oro-valley-event/the-hoppy-vine-musical-bingo-and-sonoran-dogs-with-atease-cookz-food-truck/2024-10-31/
LOCATION:The Hoppy Vine\, 12125 N Oracle Rd\, #137\, Oro Valley\, Arizona\, 85737
CATEGORIES:Live Music
END:VEVENT
BEGIN:VEVENT
DTSTART;TZID=America/Phoenix:20241030T140000
DTEND;TZID=America/Phoenix:20241030T210000
DTSTAMP:20260422T220158
CREATED:20240928T171237Z
LAST-MODIFIED:20240928T171237Z
UID:10001769-1730296800-1730322000@iloveov.com
SUMMARY:The Hoppy Vine - Wine Not Wednesday with Wine specials all-day
DESCRIPTION:Welcome to The Hoppy Vine!  Open since 2021 in the Oro Valley Market Place\, we serve a variety of craft beers\, wines\, and non-alcoholic beverages.  We are kid and dog-friendly and love to share our space with family and friends.  Our dream is to create an environment where everyone can stop by and enjoy a refreshment of their liking. \nJoin us all day for Wine Not Wednesdays.  Get rid of the mid-week stressors with 15% off all bottles all day and no corkage fee on bottles bought and enjoyed at the bar. Plus\, we have $2 off all glasses of wine during Happy Hour and special pricing on charcuterie boards when paired with a wine bottle.
URL:https://iloveov.com/oro-valley-event/the-hoppy-vine-wine-not-wednesday-with-wine-specials-all-day/2024-10-30/
LOCATION:The Hoppy Vine\, 12125 N Oracle Rd\, #137\, Oro Valley\, Arizona\, 85737
END:VEVENT
BEGIN:VEVENT
DTSTART;TZID=America/Phoenix:20241029T183000
DTEND;TZID=America/Phoenix:20241029T210000
DTSTAMP:20260422T220158
CREATED:20240928T170640Z
LAST-MODIFIED:20240928T170640Z
UID:10001764-1730226600-1730235600@iloveov.com
SUMMARY:The Hoppy Vine - Tacos and Trivia with Atease Cookz Food Truck
DESCRIPTION:Welcome to The Hoppy Vine!  Open since 2021 in the Oro Valley Market Place\, we serve a variety of craft beers\, wines\, and non-alcoholic beverages.  We are kid and dog-friendly and love to share our space with family and friends.  Our dream is to create an environment where everyone can stop by and enjoy a refreshment of their liking. \nJoin us 6:30-9:00 pm for a fun\, live\, interactive trivia game involving you\, your team\, and other teams.  Plus a LIVE DJ!
URL:https://iloveov.com/oro-valley-event/the-hoppy-vine-tacos-and-trivia-with-atease-cookz-food-truck/2024-10-29/
LOCATION:The Hoppy Vine\, 12125 N Oracle Rd\, #137\, Oro Valley\, Arizona\, 85737
CATEGORIES:Live Music
END:VEVENT
BEGIN:VEVENT
DTSTART;TZID=America/Phoenix:20241026T180000
DTEND;TZID=America/Phoenix:20241026T200000
DTSTAMP:20260422T220158
CREATED:20240928T163345Z
LAST-MODIFIED:20240928T165721Z
UID:10001759-1729965600-1729972800@iloveov.com
SUMMARY:The Hoppy Vine - Chloe
DESCRIPTION:Welcome to The Hoppy Vine!  Open since 2021 in the Oro Valley Market Place\, we serve a variety of craft beers\, wines\, and non-alcoholic beverages.  We are kid and dog-friendly and love to share our space with family and friends.  Our dream is to create an environment where everyone can stop by and enjoy a refreshment of their liking. \nWe have a new music artist.  Come listen to the sounds of Chloe from 6-8 pm.  You can listen to some of her music on her YouTube channel. https://youtu.be/C6bWM7PN6Nw?si=atFipStOC18QqNWj
URL:https://iloveov.com/oro-valley-event/the-hoppy-vine-board-and-brush-workshop-2/
LOCATION:The Hoppy Vine\, 12125 N Oracle Rd\, #137\, Oro Valley\, Arizona\, 85737
CATEGORIES:Live Music
END:VEVENT
BEGIN:VEVENT
DTSTART;TZID=America/Phoenix:20241024T183000
DTEND;TZID=America/Phoenix:20241024T210000
DTSTAMP:20260422T220158
CREATED:20240928T171857Z
LAST-MODIFIED:20240928T171857Z
UID:10001773-1729794600-1729803600@iloveov.com
SUMMARY:The Hoppy Vine - Musical Bingo and Sonoran Dogs with Atease Cookz Food Truck
DESCRIPTION:Welcome to The Hoppy Vine!  Open since 2021 in the Oro Valley Market Place\, we serve a variety of craft beers\, wines\, and non-alcoholic beverages.  We are kid and dog-friendly and love to share our space with family and friends.  Our dream is to create an environment where everyone can stop by and enjoy a refreshment of their liking. \nJoin us from 6:30-9:00 pm as DJ Trivia uses music to close your bingo cards.
URL:https://iloveov.com/oro-valley-event/the-hoppy-vine-musical-bingo-and-sonoran-dogs-with-atease-cookz-food-truck/2024-10-24/
LOCATION:The Hoppy Vine\, 12125 N Oracle Rd\, #137\, Oro Valley\, Arizona\, 85737
CATEGORIES:Live Music
END:VEVENT
BEGIN:VEVENT
DTSTART;TZID=America/Phoenix:20241023T140000
DTEND;TZID=America/Phoenix:20241023T210000
DTSTAMP:20260422T220158
CREATED:20240928T171237Z
LAST-MODIFIED:20240928T171237Z
UID:10001768-1729692000-1729717200@iloveov.com
SUMMARY:The Hoppy Vine - Wine Not Wednesday with Wine specials all-day
DESCRIPTION:Welcome to The Hoppy Vine!  Open since 2021 in the Oro Valley Market Place\, we serve a variety of craft beers\, wines\, and non-alcoholic beverages.  We are kid and dog-friendly and love to share our space with family and friends.  Our dream is to create an environment where everyone can stop by and enjoy a refreshment of their liking. \nJoin us all day for Wine Not Wednesdays.  Get rid of the mid-week stressors with 15% off all bottles all day and no corkage fee on bottles bought and enjoyed at the bar. Plus\, we have $2 off all glasses of wine during Happy Hour and special pricing on charcuterie boards when paired with a wine bottle.
URL:https://iloveov.com/oro-valley-event/the-hoppy-vine-wine-not-wednesday-with-wine-specials-all-day/2024-10-23/
LOCATION:The Hoppy Vine\, 12125 N Oracle Rd\, #137\, Oro Valley\, Arizona\, 85737
END:VEVENT
BEGIN:VEVENT
DTSTART;TZID=America/Phoenix:20241022T183000
DTEND;TZID=America/Phoenix:20241022T210000
DTSTAMP:20260422T220158
CREATED:20240928T170640Z
LAST-MODIFIED:20240928T170640Z
UID:10001763-1729621800-1729630800@iloveov.com
SUMMARY:The Hoppy Vine - Tacos and Trivia with Atease Cookz Food Truck
DESCRIPTION:Welcome to The Hoppy Vine!  Open since 2021 in the Oro Valley Market Place\, we serve a variety of craft beers\, wines\, and non-alcoholic beverages.  We are kid and dog-friendly and love to share our space with family and friends.  Our dream is to create an environment where everyone can stop by and enjoy a refreshment of their liking. \nJoin us 6:30-9:00 pm for a fun\, live\, interactive trivia game involving you\, your team\, and other teams.  Plus a LIVE DJ!
URL:https://iloveov.com/oro-valley-event/the-hoppy-vine-tacos-and-trivia-with-atease-cookz-food-truck/2024-10-22/
LOCATION:The Hoppy Vine\, 12125 N Oracle Rd\, #137\, Oro Valley\, Arizona\, 85737
CATEGORIES:Live Music
END:VEVENT
BEGIN:VEVENT
DTSTART;TZID=America/Phoenix:20241020T150000
DTEND;TZID=America/Phoenix:20241020T170000
DTSTAMP:20260422T220158
CREATED:20240928T163105Z
LAST-MODIFIED:20240928T163105Z
UID:10001758-1729436400-1729443600@iloveov.com
SUMMARY:The Hoppy Vine - Board and Brush Workshop
DESCRIPTION:Welcome to The Hoppy Vine!  Open since 2021 in the Oro Valley Market Place\, we serve a variety of craft beers\, wines\, and non-alcoholic beverages.  We are kid and dog-friendly and love to share our space with family and friends.  Our dream is to create an environment where everyone can stop by and enjoy a refreshment of their liking.
URL:https://iloveov.com/oro-valley-event/the-hoppy-vine-board-and-brush-workshop/
LOCATION:The Hoppy Vine\, 12125 N Oracle Rd\, #137\, Oro Valley\, Arizona\, 85737
END:VEVENT
BEGIN:VEVENT
DTSTART;TZID=America/Phoenix:20241018T180000
DTEND;TZID=America/Phoenix:20241018T200000
DTSTAMP:20260422T220158
CREATED:20240928T162508Z
LAST-MODIFIED:20240928T162726Z
UID:10001757-1729274400-1729281600@iloveov.com
SUMMARY:The Hoppy Vine - Mr. Boogie Woogie
DESCRIPTION:Welcome to The Hoppy Vine!  Open since 2021 in the Oro Valley Market Place\, we serve a variety of craft beers\, wines\, and non-alcoholic beverages.  We are kid and dog-friendly and love to share our space with family and friends.  Our dream is to create an environment where everyone can stop by and enjoy a refreshment of their liking. \nMr. Boogie Woogie is back at the Hoppy Vine! Join us 6-8 pm for some hard-drivin’\, old school\, New Orleans style Rhythm and Blues. Click here to listen to some of his music and follow him on all social media platforms.
URL:https://iloveov.com/oro-valley-event/the-hoppy-vine-mr-boogie-woogie/
LOCATION:The Hoppy Vine\, 12125 N Oracle Rd\, #137\, Oro Valley\, Arizona\, 85737
CATEGORIES:Live Music
END:VEVENT
BEGIN:VEVENT
DTSTART;TZID=America/Phoenix:20241017T183000
DTEND;TZID=America/Phoenix:20241017T210000
DTSTAMP:20260422T220158
CREATED:20240928T171857Z
LAST-MODIFIED:20240928T171857Z
UID:10001772-1729189800-1729198800@iloveov.com
SUMMARY:The Hoppy Vine - Musical Bingo and Sonoran Dogs with Atease Cookz Food Truck
DESCRIPTION:Welcome to The Hoppy Vine!  Open since 2021 in the Oro Valley Market Place\, we serve a variety of craft beers\, wines\, and non-alcoholic beverages.  We are kid and dog-friendly and love to share our space with family and friends.  Our dream is to create an environment where everyone can stop by and enjoy a refreshment of their liking. \nJoin us from 6:30-9:00 pm as DJ Trivia uses music to close your bingo cards.
URL:https://iloveov.com/oro-valley-event/the-hoppy-vine-musical-bingo-and-sonoran-dogs-with-atease-cookz-food-truck/2024-10-17/
LOCATION:The Hoppy Vine\, 12125 N Oracle Rd\, #137\, Oro Valley\, Arizona\, 85737
CATEGORIES:Live Music
END:VEVENT
BEGIN:VEVENT
DTSTART;TZID=America/Phoenix:20241016T140000
DTEND;TZID=America/Phoenix:20241016T210000
DTSTAMP:20260422T220158
CREATED:20240928T171237Z
LAST-MODIFIED:20240928T171237Z
UID:10001767-1729087200-1729112400@iloveov.com
SUMMARY:The Hoppy Vine - Wine Not Wednesday with Wine specials all-day
DESCRIPTION:Welcome to The Hoppy Vine!  Open since 2021 in the Oro Valley Market Place\, we serve a variety of craft beers\, wines\, and non-alcoholic beverages.  We are kid and dog-friendly and love to share our space with family and friends.  Our dream is to create an environment where everyone can stop by and enjoy a refreshment of their liking. \nJoin us all day for Wine Not Wednesdays.  Get rid of the mid-week stressors with 15% off all bottles all day and no corkage fee on bottles bought and enjoyed at the bar. Plus\, we have $2 off all glasses of wine during Happy Hour and special pricing on charcuterie boards when paired with a wine bottle.
URL:https://iloveov.com/oro-valley-event/the-hoppy-vine-wine-not-wednesday-with-wine-specials-all-day/2024-10-16/
LOCATION:The Hoppy Vine\, 12125 N Oracle Rd\, #137\, Oro Valley\, Arizona\, 85737
END:VEVENT
BEGIN:VEVENT
DTSTART;TZID=America/Phoenix:20241015T183000
DTEND;TZID=America/Phoenix:20241015T210000
DTSTAMP:20260422T220158
CREATED:20240928T170640Z
LAST-MODIFIED:20240928T170640Z
UID:10001762-1729017000-1729026000@iloveov.com
SUMMARY:The Hoppy Vine - Tacos and Trivia with Atease Cookz Food Truck
DESCRIPTION:Welcome to The Hoppy Vine!  Open since 2021 in the Oro Valley Market Place\, we serve a variety of craft beers\, wines\, and non-alcoholic beverages.  We are kid and dog-friendly and love to share our space with family and friends.  Our dream is to create an environment where everyone can stop by and enjoy a refreshment of their liking. \nJoin us 6:30-9:00 pm for a fun\, live\, interactive trivia game involving you\, your team\, and other teams.  Plus a LIVE DJ!
URL:https://iloveov.com/oro-valley-event/the-hoppy-vine-tacos-and-trivia-with-atease-cookz-food-truck/2024-10-15/
LOCATION:The Hoppy Vine\, 12125 N Oracle Rd\, #137\, Oro Valley\, Arizona\, 85737
CATEGORIES:Live Music
END:VEVENT
BEGIN:VEVENT
DTSTART;TZID=America/Phoenix:20241011T180000
DTEND;TZID=America/Phoenix:20241011T200000
DTSTAMP:20260422T220158
CREATED:20240928T161836Z
LAST-MODIFIED:20240928T161836Z
UID:10001756-1728669600-1728676800@iloveov.com
SUMMARY:The Hoppy Vine - David Argentati
DESCRIPTION:Welcome to The Hoppy Vine!  Open since 2021 in the Oro Valley Market Place\, we serve a variety of craft beers\, wines\, and non-alcoholic beverages.  We are kid and dog-friendly and love to share our space with family and friends.  Our dream is to create an environment where everyone can stop by and enjoy a refreshment of their liking. \nJoin us for live music performed by David Argentati from 6-8 pm.  You can find him @david_argentati on social media
URL:https://iloveov.com/oro-valley-event/the-hoppy-vine-david-argentati-2/
LOCATION:The Hoppy Vine\, 12125 N Oracle Rd\, #137\, Oro Valley\, Arizona\, 85737
CATEGORIES:Live Music
END:VEVENT
BEGIN:VEVENT
DTSTART;TZID=America/Phoenix:20241010T183000
DTEND;TZID=America/Phoenix:20241010T210000
DTSTAMP:20260422T220158
CREATED:20240928T171857Z
LAST-MODIFIED:20240928T171857Z
UID:10001771-1728585000-1728594000@iloveov.com
SUMMARY:The Hoppy Vine - Musical Bingo and Sonoran Dogs with Atease Cookz Food Truck
DESCRIPTION:Welcome to The Hoppy Vine!  Open since 2021 in the Oro Valley Market Place\, we serve a variety of craft beers\, wines\, and non-alcoholic beverages.  We are kid and dog-friendly and love to share our space with family and friends.  Our dream is to create an environment where everyone can stop by and enjoy a refreshment of their liking. \nJoin us from 6:30-9:00 pm as DJ Trivia uses music to close your bingo cards.
URL:https://iloveov.com/oro-valley-event/the-hoppy-vine-musical-bingo-and-sonoran-dogs-with-atease-cookz-food-truck/2024-10-10/
LOCATION:The Hoppy Vine\, 12125 N Oracle Rd\, #137\, Oro Valley\, Arizona\, 85737
CATEGORIES:Live Music
END:VEVENT
BEGIN:VEVENT
DTSTART;TZID=America/Phoenix:20241009T140000
DTEND;TZID=America/Phoenix:20241009T210000
DTSTAMP:20260422T220158
CREATED:20240928T171237Z
LAST-MODIFIED:20240928T171237Z
UID:10001766-1728482400-1728507600@iloveov.com
SUMMARY:The Hoppy Vine - Wine Not Wednesday with Wine specials all-day
DESCRIPTION:Welcome to The Hoppy Vine!  Open since 2021 in the Oro Valley Market Place\, we serve a variety of craft beers\, wines\, and non-alcoholic beverages.  We are kid and dog-friendly and love to share our space with family and friends.  Our dream is to create an environment where everyone can stop by and enjoy a refreshment of their liking. \nJoin us all day for Wine Not Wednesdays.  Get rid of the mid-week stressors with 15% off all bottles all day and no corkage fee on bottles bought and enjoyed at the bar. Plus\, we have $2 off all glasses of wine during Happy Hour and special pricing on charcuterie boards when paired with a wine bottle.
URL:https://iloveov.com/oro-valley-event/the-hoppy-vine-wine-not-wednesday-with-wine-specials-all-day/2024-10-09/
LOCATION:The Hoppy Vine\, 12125 N Oracle Rd\, #137\, Oro Valley\, Arizona\, 85737
END:VEVENT
BEGIN:VEVENT
DTSTART;TZID=America/Phoenix:20241008T183000
DTEND;TZID=America/Phoenix:20241008T210000
DTSTAMP:20260422T220158
CREATED:20240928T170640Z
LAST-MODIFIED:20240928T170640Z
UID:10001761-1728412200-1728421200@iloveov.com
SUMMARY:The Hoppy Vine - Tacos and Trivia with Atease Cookz Food Truck
DESCRIPTION:Welcome to The Hoppy Vine!  Open since 2021 in the Oro Valley Market Place\, we serve a variety of craft beers\, wines\, and non-alcoholic beverages.  We are kid and dog-friendly and love to share our space with family and friends.  Our dream is to create an environment where everyone can stop by and enjoy a refreshment of their liking. \nJoin us 6:30-9:00 pm for a fun\, live\, interactive trivia game involving you\, your team\, and other teams.  Plus a LIVE DJ!
URL:https://iloveov.com/oro-valley-event/the-hoppy-vine-tacos-and-trivia-with-atease-cookz-food-truck/2024-10-08/
LOCATION:The Hoppy Vine\, 12125 N Oracle Rd\, #137\, Oro Valley\, Arizona\, 85737
CATEGORIES:Live Music
END:VEVENT
BEGIN:VEVENT
DTSTART;TZID=America/Phoenix:20241006T180000
DTEND;TZID=America/Phoenix:20241006T200000
DTSTAMP:20260422T220158
CREATED:20240928T161324Z
LAST-MODIFIED:20240928T161324Z
UID:10001755-1728237600-1728244800@iloveov.com
SUMMARY:The Hoppy Vine - Karaoke
DESCRIPTION:Welcome to The Hoppy Vine!  Open since 2021 in the Oro Valley Market Place\, we serve a variety of craft beers\, wines\, and non-alcoholic beverages.  We are kid and dog-friendly and love to share our space with family and friends.  Our dream is to create an environment where everyone can stop by and enjoy a refreshment of their liking.
URL:https://iloveov.com/oro-valley-event/the-hoppy-vine-karaoke-3/
LOCATION:The Hoppy Vine\, 12125 N Oracle Rd\, #137\, Oro Valley\, Arizona\, 85737
CATEGORIES:Live Music
END:VEVENT
BEGIN:VEVENT
DTSTART;TZID=America/Phoenix:20241004T180000
DTEND;TZID=America/Phoenix:20241004T200000
DTSTAMP:20260422T220158
CREATED:20240928T161021Z
LAST-MODIFIED:20240928T161021Z
UID:10001754-1728064800-1728072000@iloveov.com
SUMMARY:The Hoppy Vine - Lizzie
DESCRIPTION:Welcome to The Hoppy Vine!  Open since 2021 in the Oro Valley Market Place\, we serve a variety of craft beers\, wines\, and non-alcoholic beverages.  We are kid and dog-friendly and love to share our space with family and friends.  Our dream is to create an environment where everyone can stop by and enjoy a refreshment of their liking.
URL:https://iloveov.com/oro-valley-event/the-hoppy-vine-lizzie-3/
LOCATION:The Hoppy Vine\, 12125 N Oracle Rd\, #137\, Oro Valley\, Arizona\, 85737
CATEGORIES:Live Music
END:VEVENT
BEGIN:VEVENT
DTSTART;TZID=America/Phoenix:20241003T183000
DTEND;TZID=America/Phoenix:20241003T210000
DTSTAMP:20260422T220158
CREATED:20240928T171857Z
LAST-MODIFIED:20240928T171857Z
UID:10001770-1727980200-1727989200@iloveov.com
SUMMARY:The Hoppy Vine - Musical Bingo and Sonoran Dogs with Atease Cookz Food Truck
DESCRIPTION:Welcome to The Hoppy Vine!  Open since 2021 in the Oro Valley Market Place\, we serve a variety of craft beers\, wines\, and non-alcoholic beverages.  We are kid and dog-friendly and love to share our space with family and friends.  Our dream is to create an environment where everyone can stop by and enjoy a refreshment of their liking. \nJoin us from 6:30-9:00 pm as DJ Trivia uses music to close your bingo cards.
URL:https://iloveov.com/oro-valley-event/the-hoppy-vine-musical-bingo-and-sonoran-dogs-with-atease-cookz-food-truck/2024-10-03/
LOCATION:The Hoppy Vine\, 12125 N Oracle Rd\, #137\, Oro Valley\, Arizona\, 85737
CATEGORIES:Live Music
END:VEVENT
BEGIN:VEVENT
DTSTART;TZID=America/Phoenix:20241002T180000
DTEND;TZID=America/Phoenix:20241002T200000
DTSTAMP:20260422T220158
CREATED:20240928T160023Z
LAST-MODIFIED:20240928T160112Z
UID:10001753-1727892000-1727899200@iloveov.com
SUMMARY:The Hoppy Vine - Faceme Portraits
DESCRIPTION:Welcome to The Hoppy Vine!  Open since 2021 in the Oro Valley Market Place\, we serve a variety of craft beers\, wines\, and non-alcoholic beverages.  We are kid and dog-friendly and love to share our space with family and friends.  Our dream is to create an environment where everyone can stop by and enjoy a refreshment of their liking. \nFaceme Portraits \nHere is another fun opportunity to laugh and enjoy each other’s company while drawing your partner – no experience needed.  $40 a couple.  Click here for tickets.
URL:https://iloveov.com/oro-valley-event/the-hoppy-vine-faceme-portraits-2/
END:VEVENT
BEGIN:VEVENT
DTSTART;TZID=America/Phoenix:20241002T140000
DTEND;TZID=America/Phoenix:20241002T210000
DTSTAMP:20260422T220158
CREATED:20240928T171237Z
LAST-MODIFIED:20240928T171237Z
UID:10001765-1727877600-1727902800@iloveov.com
SUMMARY:The Hoppy Vine - Wine Not Wednesday with Wine specials all-day
DESCRIPTION:Welcome to The Hoppy Vine!  Open since 2021 in the Oro Valley Market Place\, we serve a variety of craft beers\, wines\, and non-alcoholic beverages.  We are kid and dog-friendly and love to share our space with family and friends.  Our dream is to create an environment where everyone can stop by and enjoy a refreshment of their liking. \nJoin us all day for Wine Not Wednesdays.  Get rid of the mid-week stressors with 15% off all bottles all day and no corkage fee on bottles bought and enjoyed at the bar. Plus\, we have $2 off all glasses of wine during Happy Hour and special pricing on charcuterie boards when paired with a wine bottle.
URL:https://iloveov.com/oro-valley-event/the-hoppy-vine-wine-not-wednesday-with-wine-specials-all-day/2024-10-02/
LOCATION:The Hoppy Vine\, 12125 N Oracle Rd\, #137\, Oro Valley\, Arizona\, 85737
END:VEVENT
BEGIN:VEVENT
DTSTART;TZID=America/Phoenix:20241001T183000
DTEND;TZID=America/Phoenix:20241001T210000
DTSTAMP:20260422T220158
CREATED:20240928T170640Z
LAST-MODIFIED:20240928T170640Z
UID:10001760-1727807400-1727816400@iloveov.com
SUMMARY:The Hoppy Vine - Tacos and Trivia with Atease Cookz Food Truck
DESCRIPTION:Welcome to The Hoppy Vine!  Open since 2021 in the Oro Valley Market Place\, we serve a variety of craft beers\, wines\, and non-alcoholic beverages.  We are kid and dog-friendly and love to share our space with family and friends.  Our dream is to create an environment where everyone can stop by and enjoy a refreshment of their liking. \nJoin us 6:30-9:00 pm for a fun\, live\, interactive trivia game involving you\, your team\, and other teams.  Plus a LIVE DJ!
URL:https://iloveov.com/oro-valley-event/the-hoppy-vine-tacos-and-trivia-with-atease-cookz-food-truck/2024-10-01/
LOCATION:The Hoppy Vine\, 12125 N Oracle Rd\, #137\, Oro Valley\, Arizona\, 85737
CATEGORIES:Live Music
END:VEVENT
BEGIN:VEVENT
DTSTART;TZID=America/Phoenix:20240927T180000
DTEND;TZID=America/Phoenix:20240927T200000
DTSTAMP:20260422T220158
CREATED:20240830T171011Z
LAST-MODIFIED:20240830T171011Z
UID:10001725-1727460000-1727467200@iloveov.com
SUMMARY:The Hoppy Vine - Silk and Soul/Muncheez Food Truck
DESCRIPTION:Welcome to The Hoppy Vine!  Open since 2021 in the Oro Valley Market Place\, we serve a variety of craft beers\, wines\, and non-alcoholic beverages.  We are kid and dog-friendly and love to share our space with family and friends.  Our dream is to create an environment where everyone can stop by and enjoy a refreshment of their liking. \nLive Music by Silk and Soul and Muncheez Food Truck
URL:https://iloveov.com/oro-valley-event/the-hoppy-vine-silk-and-soul-muncheez-food-truck/
LOCATION:The Hoppy Vine\, 12125 N Oracle Rd\, #137\, Oro Valley\, Arizona\, 85737
CATEGORIES:Live Music
END:VEVENT
BEGIN:VEVENT
DTSTART;TZID=America/Phoenix:20240926T183000
DTEND;TZID=America/Phoenix:20240926T210000
DTSTAMP:20260422T220158
CREATED:20240830T162748Z
LAST-MODIFIED:20240830T162748Z
UID:10001715-1727375400-1727384400@iloveov.com
SUMMARY:The Hoppy Vine - Musical Bingo
DESCRIPTION:Welcome to The Hoppy Vine!  Open since 2021 in the Oro Valley Market Place\, we serve a variety of craft beers\, wines\, and non-alcoholic beverages.  We are kid and dog-friendly and love to share our space with family and friends.  Our dream is to create an environment where everyone can stop by and enjoy a refreshment of their liking. \nFrom 6:30-9:00 pm as DJ Trivia uses music to close your bingo cards.
URL:https://iloveov.com/oro-valley-event/the-hoppy-vine-musical-bingo-5/2024-09-26/
LOCATION:The Hoppy Vine\, 12125 N Oracle Rd\, #137\, Oro Valley\, Arizona\, 85737
CATEGORIES:Live Music
END:VEVENT
BEGIN:VEVENT
DTSTART;TZID=America/Phoenix:20240925T140000
DTEND;TZID=America/Phoenix:20240925T210000
DTSTAMP:20260422T220158
CREATED:20240830T161318Z
LAST-MODIFIED:20240830T162145Z
UID:10001711-1727272800-1727298000@iloveov.com
SUMMARY:The Hoppy Vine - Wine Not Wednesday
DESCRIPTION:Welcome to The Hoppy Vine!  Open since 2021 in the Oro Valley Market Place\, we serve a variety of craft beers\, wines\, and non-alcoholic beverages.  We are kid and dog-friendly and love to share our space with family and friends.  Our dream is to create an environment where everyone can stop by and enjoy a refreshment of their liking. \nWine and Drink Specials all day \nJoin us all day for Wine Not Wednesdays.  Get rid of the mid-week stressors with 15% off all bottles all day and no corkage fee on bottles bought and enjoyed at the bar. \n$2 off all glasses of wine during Happy Hour and special pricing on charcuterie boards when paired with a wine bottle.
URL:https://iloveov.com/oro-valley-event/the-hoppy-vine-wine-not-wednesday/2024-09-25/
LOCATION:The Hoppy Vine\, 12125 N Oracle Rd\, #137\, Oro Valley\, Arizona\, 85737
END:VEVENT
BEGIN:VEVENT
DTSTART;TZID=America/Phoenix:20240924T183000
DTEND;TZID=America/Phoenix:20240924T210000
DTSTAMP:20260422T220158
CREATED:20240830T160500Z
LAST-MODIFIED:20240830T160515Z
UID:10001707-1727202600-1727211600@iloveov.com
SUMMARY:The Hoppy Vine - Trivia
DESCRIPTION:Welcome to The Hoppy Vine!  Open since 2021 in the Oro Valley Market Place\, we serve a variety of craft beers\, wines\, and non-alcoholic beverages.  We are kid and dog-friendly and love to share our space with family and friends.  Our dream is to create an environment where everyone can stop by and enjoy a refreshment of their liking.
URL:https://iloveov.com/oro-valley-event/the-hoppy-vine-trivia-5/2024-09-24/
LOCATION:The Hoppy Vine\, 12125 N Oracle Rd\, #137\, Oro Valley\, Arizona\, 85737
CATEGORIES:Live Music
END:VEVENT
BEGIN:VEVENT
DTSTART;TZID=America/Phoenix:20240921T120000
DTEND;TZID=America/Phoenix:20240921T220000
DTSTAMP:20260422T220158
CREATED:20240830T170526Z
LAST-MODIFIED:20240830T170526Z
UID:10001724-1726920000-1726956000@iloveov.com
SUMMARY:The Hoppy Vine - Oktoberfest
DESCRIPTION:Welcome to The Hoppy Vine!  Open since 2021 in the Oro Valley Market Place\, we serve a variety of craft beers\, wines\, and non-alcoholic beverages.  We are kid and dog-friendly and love to share our space with family and friends.  Our dream is to create an environment where everyone can stop by and enjoy a refreshment of their liking. \nOktoberfest – All Day
URL:https://iloveov.com/oro-valley-event/the-hoppy-vine-oktoberfest/
LOCATION:The Hoppy Vine\, 12125 N Oracle Rd\, #137\, Oro Valley\, Arizona\, 85737
END:VEVENT
BEGIN:VEVENT
DTSTART;TZID=America/Phoenix:20240920T180000
DTEND;TZID=America/Phoenix:20240920T200000
DTSTAMP:20260422T220158
CREATED:20240830T170202Z
LAST-MODIFIED:20240830T170202Z
UID:10001723-1726855200-1726862400@iloveov.com
SUMMARY:The Hoppy Vine - Live Music Little House of Funk
DESCRIPTION:Welcome to The Hoppy Vine!  Open since 2021 in the Oro Valley Market Place\, we serve a variety of craft beers\, wines\, and non-alcoholic beverages.  We are kid and dog-friendly and love to share our space with family and friends.  Our dream is to create an environment where everyone can stop by and enjoy a refreshment of their liking. \nLive Music Little House of Funk
URL:https://iloveov.com/oro-valley-event/the-hoppy-vine-live-music-little-house-of-funk-2/
LOCATION:The Hoppy Vine\, 12125 N Oracle Rd\, #137\, Oro Valley\, Arizona\, 85737
CATEGORIES:Live Music
END:VEVENT
END:VCALENDAR