BEGIN:VCALENDAR
VERSION:2.0
PRODID:-//ILoveOV.com - ECPv6.11.1//NONSGML v1.0//EN
CALSCALE:GREGORIAN
METHOD:PUBLISH
X-ORIGINAL-URL:https://iloveov.com
X-WR-CALDESC:Events for ILoveOV.com
REFRESH-INTERVAL;VALUE=DURATION:PT1H
X-Robots-Tag:noindex
X-PUBLISHED-TTL:PT1H
BEGIN:VTIMEZONE
TZID:America/Phoenix
BEGIN:STANDARD
TZOFFSETFROM:-0700
TZOFFSETTO:-0700
TZNAME:MST
DTSTART:20250101T000000
END:STANDARD
END:VTIMEZONE
BEGIN:VEVENT
DTSTART;TZID=America/Phoenix:20250316T160000
DTEND;TZID=America/Phoenix:20250316T200000
DTSTAMP:20260422T163248
CREATED:20250227T212130Z
LAST-MODIFIED:20250227T212130Z
UID:10002164-1742140800-1742155200@iloveov.com
SUMMARY:The Hoppy Vine - Karaoke
DESCRIPTION:Welcome to The Hoppy Vine!  Open since 2021 in the Oro Valley Market Place\, we serve a variety of craft beers\, wines\, and non-alcoholic beverages.  We are kid and dog-friendly and love to share our space with family and friends.  Our dream is to create an environment where everyone can stop by and enjoy a refreshment of their liking. \n 
URL:https://iloveov.com/oro-valley-event/the-hoppy-vine-karaoke-6/2025-03-16/
LOCATION:The Hoppy Vine\, 12125 N Oracle Rd\, #137\, Oro Valley\, Arizona\, 85737
CATEGORIES:Live Music
END:VEVENT
BEGIN:VEVENT
DTSTART;TZID=America/Phoenix:20250315T100000
DTEND;TZID=America/Phoenix:20250315T200000
DTSTAMP:20260422T163248
CREATED:20250227T211557Z
LAST-MODIFIED:20250227T211557Z
UID:10002161-1742032800-1742068800@iloveov.com
SUMMARY:The Hoppy Vine - The Shanties
DESCRIPTION:Welcome to The Hoppy Vine!  Open since 2021 in the Oro Valley Market Place\, we serve a variety of craft beers\, wines\, and non-alcoholic beverages.  We are kid and dog-friendly and love to share our space with family and friends.  Our dream is to create an environment where everyone can stop by and enjoy a refreshment of their liking. \nSome fun and traditional Irish Music to create a good time during our St Patty’s Day Party.
URL:https://iloveov.com/oro-valley-event/the-hoppy-vine-the-shanties/
LOCATION:The Hoppy Vine\, 12125 N Oracle Rd\, #137\, Oro Valley\, Arizona\, 85737
CATEGORIES:Live Music
END:VEVENT
BEGIN:VEVENT
DTSTART;TZID=America/Phoenix:20250314T180000
DTEND;TZID=America/Phoenix:20250314T200000
DTSTAMP:20260422T163248
CREATED:20250227T210440Z
LAST-MODIFIED:20250227T210452Z
UID:10002158-1741975200-1741982400@iloveov.com
SUMMARY:The Hoppy Vine -Mr. Boogie Woogie
DESCRIPTION:Welcome to The Hoppy Vine!  Open since 2021 in the Oro Valley Market Place\, we serve a variety of craft beers\, wines\, and non-alcoholic beverages.  We are kid and dog-friendly and love to share our space with family and friends.  Our dream is to create an environment where everyone can stop by and enjoy a refreshment of their liking \nGreat weather with great music from Mr. Boogie Woogie! Join us 6-8 pm for some hard-drivin”\, old school\, New Orleans style Rhythm and Blues.
URL:https://iloveov.com/oro-valley-event/the-hoppy-vine-mr-boogie-woogie-4/
LOCATION:The Hoppy Vine\, 12125 N Oracle Rd\, #137\, Oro Valley\, Arizona\, 85737
CATEGORIES:Live Music
END:VEVENT
BEGIN:VEVENT
DTSTART;TZID=America/Phoenix:20250313T173000
DTEND;TZID=America/Phoenix:20250313T200000
DTSTAMP:20260422T163248
CREATED:20250227T205730Z
LAST-MODIFIED:20250227T205730Z
UID:10002154-1741887000-1741896000@iloveov.com
SUMMARY:The Hoppy Vine - Atease Cooks Food Trucks - Musical Bingo
DESCRIPTION:Welcome to The Hoppy Vine!  Open since 2021 in the Oro Valley Market Place\, we serve a variety of craft beers\, wines\, and non-alcoholic beverages.  We are kid and dog-friendly and love to share our space with family and friends.  Our dream is to create an environment where everyone can stop by and enjoy a refreshment of their liking. \nAtease Cooks Food Trucks – Musical Bingo
URL:https://iloveov.com/oro-valley-event/the-hoppy-vine-atease-cooks-food-trucks-musical-bingo/2025-03-13/
LOCATION:The Hoppy Vine\, 12125 N Oracle Rd\, #137\, Oro Valley\, Arizona\, 85737
CATEGORIES:Live Music
END:VEVENT
BEGIN:VEVENT
DTSTART;TZID=America/Phoenix:20250312T140000
DTEND;TZID=America/Phoenix:20250312T210000
DTSTAMP:20260422T163248
CREATED:20250227T205146Z
LAST-MODIFIED:20250227T205146Z
UID:10002150-1741788000-1741813200@iloveov.com
SUMMARY:The Hoppy Vine - Wine Not Wednesday
DESCRIPTION:Welcome to The Hoppy Vine!  Open since 2021 in the Oro Valley Market Place\, we serve a variety of craft beers\, wines\, and non-alcoholic beverages.  We are kid and dog-friendly and love to share our space with family and friends.  Our dream is to create an environment where everyone can stop by and enjoy a refreshment of their liking. \nCome unwind with us all day for Wine Not Wednesdays! Shake off the mid-week stress with 15% off all bottles\, plus no corkage fee on bottles purchased and enjoyed at the bar. Enjoy $2 off all wine glasses during Happy Hour and take advantage of special pricing on charcuterie boards when paired with a bottle of wine.
URL:https://iloveov.com/oro-valley-event/the-hoppy-vine-wine-not-wednesday-4/2025-03-12/
LOCATION:The Hoppy Vine\, 12125 N Oracle Rd\, #137\, Oro Valley\, Arizona\, 85737
END:VEVENT
BEGIN:VEVENT
DTSTART;TZID=America/Phoenix:20250311T173000
DTEND;TZID=America/Phoenix:20250311T200000
DTSTAMP:20260422T163248
CREATED:20250227T204607Z
LAST-MODIFIED:20250227T204607Z
UID:10002146-1741714200-1741723200@iloveov.com
SUMMARY:The Hoppy Vine - Atease & Taco Tuesday
DESCRIPTION:Welcome to The Hoppy Vine!  Open since 2021 in the Oro Valley Market Place\, we serve a variety of craft beers\, wines\, and non-alcoholic beverages.  We are kid and dog-friendly and love to share our space with family and friends.  Our dream is to create an environment where everyone can stop by and enjoy a refreshment of their liking. \nAtease Cooks Food Truck 5:30 pm to 8:00 pm\nTaco Tuesday and Musical Trivia
URL:https://iloveov.com/oro-valley-event/the-hoppy-vine-atease-taco-tuesday/2025-03-11/
LOCATION:The Hoppy Vine\, 12125 N Oracle Rd\, #137\, Oro Valley\, Arizona\, 85737
CATEGORIES:Live Music
END:VEVENT
BEGIN:VEVENT
DTSTART;TZID=America/Phoenix:20250307T180000
DTEND;TZID=America/Phoenix:20250307T200000
DTSTAMP:20260422T163248
CREATED:20250227T210136Z
LAST-MODIFIED:20250227T210136Z
UID:10002157-1741370400-1741377600@iloveov.com
SUMMARY:The Hoppy Vine - Silk and Soul
DESCRIPTION:Welcome to The Hoppy Vine!  Open since 2021 in the Oro Valley Market Place\, we serve a variety of craft beers\, wines\, and non-alcoholic beverages.  We are kid and dog-friendly and love to share our space with family and friends.  Our dream is to create an environment where everyone can stop by and enjoy a refreshment of their liking. \nListen to the smooth sounds of Silk and Soul from 6-8 pm.  Mark and Arlette are high school sweethearts who love entertaining audiences together.  With a great mix of Motown and R&B\, you are going to enjoy every moment of this performance.
URL:https://iloveov.com/oro-valley-event/the-hoppy-vine-silk-and-soul/
LOCATION:The Hoppy Vine\, 12125 N Oracle Rd\, #137\, Oro Valley\, Arizona\, 85737
CATEGORIES:Live Music
END:VEVENT
BEGIN:VEVENT
DTSTART;TZID=America/Phoenix:20250306T173000
DTEND;TZID=America/Phoenix:20250306T210000
DTSTAMP:20260422T163248
CREATED:20250227T205730Z
LAST-MODIFIED:20250227T205730Z
UID:10002153-1741282200-1741294800@iloveov.com
SUMMARY:The Hoppy Vine - Atease Cooks Food Trucks - Musical Bingo
DESCRIPTION:Welcome to The Hoppy Vine!  Open since 2021 in the Oro Valley Market Place\, we serve a variety of craft beers\, wines\, and non-alcoholic beverages.  We are kid and dog-friendly and love to share our space with family and friends.  Our dream is to create an environment where everyone can stop by and enjoy a refreshment of their liking. \nAtease Cooks Food Trucks – Musical Bingo
URL:https://iloveov.com/oro-valley-event/the-hoppy-vine-atease-cooks-food-trucks-musical-bingo/2025-03-06/
LOCATION:The Hoppy Vine\, 12125 N Oracle Rd\, #137\, Oro Valley\, Arizona\, 85737
CATEGORIES:Live Music
END:VEVENT
BEGIN:VEVENT
DTSTART;TZID=America/Phoenix:20250305T140000
DTEND;TZID=America/Phoenix:20250305T210000
DTSTAMP:20260422T163248
CREATED:20250227T205146Z
LAST-MODIFIED:20250227T205146Z
UID:10002149-1741183200-1741208400@iloveov.com
SUMMARY:The Hoppy Vine - Wine Not Wednesday
DESCRIPTION:Welcome to The Hoppy Vine!  Open since 2021 in the Oro Valley Market Place\, we serve a variety of craft beers\, wines\, and non-alcoholic beverages.  We are kid and dog-friendly and love to share our space with family and friends.  Our dream is to create an environment where everyone can stop by and enjoy a refreshment of their liking. \nCome unwind with us all day for Wine Not Wednesdays! Shake off the mid-week stress with 15% off all bottles\, plus no corkage fee on bottles purchased and enjoyed at the bar. Enjoy $2 off all wine glasses during Happy Hour and take advantage of special pricing on charcuterie boards when paired with a bottle of wine.
URL:https://iloveov.com/oro-valley-event/the-hoppy-vine-wine-not-wednesday-4/2025-03-05/
LOCATION:The Hoppy Vine\, 12125 N Oracle Rd\, #137\, Oro Valley\, Arizona\, 85737
END:VEVENT
BEGIN:VEVENT
DTSTART;TZID=America/Phoenix:20250304T173000
DTEND;TZID=America/Phoenix:20250304T200000
DTSTAMP:20260422T163248
CREATED:20250227T204607Z
LAST-MODIFIED:20250227T204607Z
UID:10002145-1741109400-1741118400@iloveov.com
SUMMARY:The Hoppy Vine - Atease & Taco Tuesday
DESCRIPTION:Welcome to The Hoppy Vine!  Open since 2021 in the Oro Valley Market Place\, we serve a variety of craft beers\, wines\, and non-alcoholic beverages.  We are kid and dog-friendly and love to share our space with family and friends.  Our dream is to create an environment where everyone can stop by and enjoy a refreshment of their liking. \nAtease Cooks Food Truck 5:30 pm to 8:00 pm\nTaco Tuesday and Musical Trivia
URL:https://iloveov.com/oro-valley-event/the-hoppy-vine-atease-taco-tuesday/2025-03-04/
LOCATION:The Hoppy Vine\, 12125 N Oracle Rd\, #137\, Oro Valley\, Arizona\, 85737
CATEGORIES:Live Music
END:VEVENT
BEGIN:VEVENT
DTSTART;TZID=America/Phoenix:20250302T160000
DTEND;TZID=America/Phoenix:20250302T200000
DTSTAMP:20260422T163248
CREATED:20250227T212130Z
LAST-MODIFIED:20250227T212130Z
UID:10002163-1740931200-1740945600@iloveov.com
SUMMARY:The Hoppy Vine - Karaoke
DESCRIPTION:Welcome to The Hoppy Vine!  Open since 2021 in the Oro Valley Market Place\, we serve a variety of craft beers\, wines\, and non-alcoholic beverages.  We are kid and dog-friendly and love to share our space with family and friends.  Our dream is to create an environment where everyone can stop by and enjoy a refreshment of their liking. \n 
URL:https://iloveov.com/oro-valley-event/the-hoppy-vine-karaoke-6/2025-03-02/
LOCATION:The Hoppy Vine\, 12125 N Oracle Rd\, #137\, Oro Valley\, Arizona\, 85737
CATEGORIES:Live Music
END:VEVENT
BEGIN:VEVENT
DTSTART;TZID=America/Phoenix:20250228T080000
DTEND;TZID=America/Phoenix:20250228T170000
DTSTAMP:20260422T163248
CREATED:20250201T203202Z
LAST-MODIFIED:20250201T203202Z
UID:10002084-1740729600-1740762000@iloveov.com
SUMMARY:The Hoppy Vine - Little House of Funk
DESCRIPTION:Welcome to The Hoppy Vine!  Open since 2021 in the Oro Valley Market Place\, we serve a variety of craft beers\, wines\, and non-alcoholic beverages.  We are kid and dog-friendly and love to share our space with family and friends.  Our dream is to create an environment where everyone can stop by and enjoy a refreshment of their liking. \nLittle House of Funk 6:00 to 8:00
URL:https://iloveov.com/oro-valley-event/the-hoppy-vine-little-house-of-funk-3/
LOCATION:The Hoppy Vine\, 12125 N Oracle Rd\, #137\, Oro Valley\, Arizona\, 85737
CATEGORIES:Live Music
END:VEVENT
BEGIN:VEVENT
DTSTART;TZID=America/Phoenix:20250227T173000
DTEND;TZID=America/Phoenix:20250227T210000
DTSTAMP:20260422T163248
CREATED:20250201T202821Z
LAST-MODIFIED:20250201T202821Z
UID:10002083-1740677400-1740690000@iloveov.com
SUMMARY:The Hoppy Vine - Musical Bingo and Ensenada Street Food
DESCRIPTION:Welcome to The Hoppy Vine!  Open since 2021 in the Oro Valley Market Place\, we serve a variety of craft beers\, wines\, and non-alcoholic beverages.  We are kid and dog-friendly and love to share our space with family and friends.  Our dream is to create an environment where everyone can stop by and enjoy a refreshment of their liking. \nEnsenada Street Food  5:30 to 8:00 \nMusical Bingo 6;30 to 9:00
URL:https://iloveov.com/oro-valley-event/the-hoppy-vine-musical-bingo-and-ensenada-street-food/
LOCATION:The Hoppy Vine\, 12125 N Oracle Rd\, #137\, Oro Valley\, Arizona\, 85737
CATEGORIES:Live Music
END:VEVENT
BEGIN:VEVENT
DTSTART;TZID=America/Phoenix:20250226T080000
DTEND;TZID=America/Phoenix:20250226T170000
DTSTAMP:20260422T163248
CREATED:20250130T232932Z
LAST-MODIFIED:20250130T233336Z
UID:10002070-1740556800-1740589200@iloveov.com
SUMMARY:The Hoppy Vine - Wine Not Wednesday
DESCRIPTION:Welcome to The Hoppy Vine!  Open since 2021 in the Oro Valley Market Place\, we serve a variety of craft beers\, wines\, and non-alcoholic beverages.  We are kid and dog-friendly and love to share our space with family and friends.  Our dream is to create an environment where everyone can stop by and enjoy a refreshment of their liking. \nAll-day Wine Specials.  15% off all bottles of wine\,  $2 off during Happy Hour\, Charcuterie Board and Wine specials
URL:https://iloveov.com/oro-valley-event/the-hoppy-vine-wine-not-wednesday-3/2025-02-26/
LOCATION:The Hoppy Vine\, 12125 N Oracle Rd\, #137\, Oro Valley\, Arizona\, 85737
END:VEVENT
BEGIN:VEVENT
DTSTART;TZID=America/Phoenix:20250225T180000
DTEND;TZID=America/Phoenix:20250225T210000
DTSTAMP:20260422T163248
CREATED:20250130T222840Z
LAST-MODIFIED:20250130T223010Z
UID:10002066-1740506400-1740517200@iloveov.com
SUMMARY:Musical Trivia and AtEase Cookz for Taco Tuesday
DESCRIPTION:Welcome to The Hoppy Vine!  Open since 2021 in the Oro Valley Market Place\, we serve a variety of craft beers\, wines\, and non-alcoholic beverages.  We are kid and dog-friendly and love to share our space with family and friends.  Our dream is to create an environment where everyone can stop by and enjoy a refreshment of their liking. \n  \n 
URL:https://iloveov.com/oro-valley-event/musical-trivia-and-atease-cookz-for-taco-tuesday-2/2025-02-25/
LOCATION:The Hoppy Vine\, 12125 N Oracle Rd\, #137\, Oro Valley\, Arizona\, 85737
CATEGORIES:Live Music
END:VEVENT
BEGIN:VEVENT
DTSTART;TZID=America/Phoenix:20250225T053000
DTEND;TZID=America/Phoenix:20250225T210000
DTSTAMP:20260422T163248
CREATED:20250201T180725Z
LAST-MODIFIED:20250201T180725Z
UID:10002075-1740461400-1740517200@iloveov.com
SUMMARY:The Hoppy Vine - Musical Bingo and  AtEase Cooks
DESCRIPTION:Welcome to The Hoppy Vine!  Open since 2021 in the Oro Valley Market Place\, we serve a variety of craft beers\, wines\, and non-alcoholic beverages.  We are kid and dog-friendly and love to share our space with family and friends.  Our dream is to create an environment where everyone can stop by and enjoy a refreshment of their liking. \nAtease Cooks Food Truck 5:30 to 8:00 \nMusical Trivia 6:30 to 9:00
URL:https://iloveov.com/oro-valley-event/the-hoppy-vine-musical-bingo-and-atease-cooks/2025-02-25/
LOCATION:The Hoppy Vine\, 12125 N Oracle Rd\, #137\, Oro Valley\, Arizona\, 85737
CATEGORIES:Live Music
END:VEVENT
BEGIN:VEVENT
DTSTART;TZID=America/Phoenix:20250221T180000
DTEND;TZID=America/Phoenix:20250221T200000
DTSTAMP:20260422T163248
CREATED:20250201T202351Z
LAST-MODIFIED:20250201T202351Z
UID:10002082-1740160800-1740168000@iloveov.com
SUMMARY:The Hoppy Vine - Rafe & Aria
DESCRIPTION:Welcome to The Hoppy Vine!  Open since 2021 in the Oro Valley Market Place\, we serve a variety of craft beers\, wines\, and non-alcoholic beverages.  We are kid and dog-friendly and love to share our space with family and friends.  Our dream is to create an environment where everyone can stop by and enjoy a refreshment of their liking. \nRafe & Aria 6:00 to 8:00
URL:https://iloveov.com/oro-valley-event/the-hoppy-vine-rafe-aria/
LOCATION:The Hoppy Vine\, 12125 N Oracle Rd\, #137\, Oro Valley\, Arizona\, 85737
CATEGORIES:Live Music
END:VEVENT
BEGIN:VEVENT
DTSTART;TZID=America/Phoenix:20250220T080000
DTEND;TZID=America/Phoenix:20250220T170000
DTSTAMP:20260422T163248
CREATED:20250201T181925Z
LAST-MODIFIED:20250201T181925Z
UID:10002078-1740038400-1740070800@iloveov.com
SUMMARY:The Hoppy Vine - Musical Bingo and AtEase Cookz Sonoran Dogs
DESCRIPTION:Welcome to The Hoppy Vine!  Open since 2021 in the Oro Valley Market Place\, we serve a variety of craft beers\, wines\, and non-alcoholic beverages.  We are kid and dog-friendly and love to share our space with family and friends.  Our dream is to create an environment where everyone can stop by and enjoy a refreshment of their liking. \nMusical Bingo 6:30 to 9:00
URL:https://iloveov.com/oro-valley-event/the-hoppy-vine-musical-bingo-and-atease-cookz-sonoran-dogs-2/2025-02-20/
LOCATION:The Hoppy Vine\, 12125 N Oracle Rd\, #137\, Oro Valley\, Arizona\, 85737
CATEGORIES:Live Music
END:VEVENT
BEGIN:VEVENT
DTSTART;TZID=America/Phoenix:20250219T080000
DTEND;TZID=America/Phoenix:20250219T170000
DTSTAMP:20260422T163248
CREATED:20250130T232932Z
LAST-MODIFIED:20250130T233336Z
UID:10002069-1739952000-1739984400@iloveov.com
SUMMARY:The Hoppy Vine - Wine Not Wednesday
DESCRIPTION:Welcome to The Hoppy Vine!  Open since 2021 in the Oro Valley Market Place\, we serve a variety of craft beers\, wines\, and non-alcoholic beverages.  We are kid and dog-friendly and love to share our space with family and friends.  Our dream is to create an environment where everyone can stop by and enjoy a refreshment of their liking. \nAll-day Wine Specials.  15% off all bottles of wine\,  $2 off during Happy Hour\, Charcuterie Board and Wine specials
URL:https://iloveov.com/oro-valley-event/the-hoppy-vine-wine-not-wednesday-3/2025-02-19/
LOCATION:The Hoppy Vine\, 12125 N Oracle Rd\, #137\, Oro Valley\, Arizona\, 85737
END:VEVENT
BEGIN:VEVENT
DTSTART;TZID=America/Phoenix:20250218T180000
DTEND;TZID=America/Phoenix:20250218T210000
DTSTAMP:20260422T163248
CREATED:20250130T222840Z
LAST-MODIFIED:20250130T223010Z
UID:10002065-1739901600-1739912400@iloveov.com
SUMMARY:Musical Trivia and AtEase Cookz for Taco Tuesday
DESCRIPTION:Welcome to The Hoppy Vine!  Open since 2021 in the Oro Valley Market Place\, we serve a variety of craft beers\, wines\, and non-alcoholic beverages.  We are kid and dog-friendly and love to share our space with family and friends.  Our dream is to create an environment where everyone can stop by and enjoy a refreshment of their liking. \n  \n 
URL:https://iloveov.com/oro-valley-event/musical-trivia-and-atease-cookz-for-taco-tuesday-2/2025-02-18/
LOCATION:The Hoppy Vine\, 12125 N Oracle Rd\, #137\, Oro Valley\, Arizona\, 85737
CATEGORIES:Live Music
END:VEVENT
BEGIN:VEVENT
DTSTART;TZID=America/Phoenix:20250218T053000
DTEND;TZID=America/Phoenix:20250218T210000
DTSTAMP:20260422T163248
CREATED:20250201T180725Z
LAST-MODIFIED:20250201T180725Z
UID:10002074-1739856600-1739912400@iloveov.com
SUMMARY:The Hoppy Vine - Musical Bingo and  AtEase Cooks
DESCRIPTION:Welcome to The Hoppy Vine!  Open since 2021 in the Oro Valley Market Place\, we serve a variety of craft beers\, wines\, and non-alcoholic beverages.  We are kid and dog-friendly and love to share our space with family and friends.  Our dream is to create an environment where everyone can stop by and enjoy a refreshment of their liking. \nAtease Cooks Food Truck 5:30 to 8:00 \nMusical Trivia 6:30 to 9:00
URL:https://iloveov.com/oro-valley-event/the-hoppy-vine-musical-bingo-and-atease-cooks/2025-02-18/
LOCATION:The Hoppy Vine\, 12125 N Oracle Rd\, #137\, Oro Valley\, Arizona\, 85737
CATEGORIES:Live Music
END:VEVENT
BEGIN:VEVENT
DTSTART;TZID=America/Phoenix:20250216T150000
DTEND;TZID=America/Phoenix:20250216T200000
DTSTAMP:20260422T163248
CREATED:20250130T222016Z
LAST-MODIFIED:20250130T222205Z
UID:10002062-1739718000-1739736000@iloveov.com
SUMMARY:The Hoppy Vine - Karoke - Board and Brush
DESCRIPTION:Welcome to The Hoppy Vine!  Open since 2021 in the Oro Valley Market Place\, we serve a variety of craft beers\, wines\, and non-alcoholic beverages.  We are kid and dog-friendly and love to share our space with family and friends.  Our dream is to create an environment where everyone can stop by and enjoy a refreshment of their liking. \nKaraoke 5:00 til 8:00 \nBoard and Brush Workshop and Lala Links Jeweltry 3:00 – 5:00
URL:https://iloveov.com/oro-valley-event/the-hoppy-vine-karoke-board-and-brush/
LOCATION:The Hoppy Vine\, 12125 N Oracle Rd\, #137\, Oro Valley\, Arizona\, 85737
CATEGORIES:Live Music
END:VEVENT
BEGIN:VEVENT
DTSTART;TZID=America/Phoenix:20250216T150000
DTEND;TZID=America/Phoenix:20250216T170000
DTSTAMP:20260422T163248
CREATED:20250201T183832Z
LAST-MODIFIED:20250201T183832Z
UID:10002081-1739718000-1739725200@iloveov.com
SUMMARY:The Hoppy Vine - Board and Brush Workshop and Lala Links Jewelry
DESCRIPTION:Welcome to The Hoppy Vine!  Open since 2021 in the Oro Valley Market Place\, we serve a variety of craft beers\, wines\, and non-alcoholic beverages.  We are kid and dog-friendly and love to share our space with family and friends.  Our dream is to create an environment where everyone can stop by and enjoy a refreshment of their liking. \nDo something special with that someone special as B&B brings Valentine’s Day projects to the bar.  Click here to sign up and see the projects available.
URL:https://iloveov.com/oro-valley-event/the-hoppy-vine-board-and-brush-workshop-and-lala-links-jewelry/
LOCATION:The Hoppy Vine\, 12125 N Oracle Rd\, #137\, Oro Valley\, Arizona\, 85737
END:VEVENT
BEGIN:VEVENT
DTSTART;TZID=America/Phoenix:20250214T180000
DTEND;TZID=America/Phoenix:20250214T200000
DTSTAMP:20260422T163248
CREATED:20250201T182555Z
LAST-MODIFIED:20250201T182555Z
UID:10002079-1739556000-1739563200@iloveov.com
SUMMARY:The Hoppy Vine - Valentine's Day Special
DESCRIPTION:Welcome to The Hoppy Vine!  Open since 2021 in the Oro Valley Market Place\, we serve a variety of craft beers\, wines\, and non-alcoholic beverages.  We are kid and dog-friendly and love to share our space with family and friends.  Our dream is to create an environment where everyone can stop by and enjoy a refreshment of their liking. \nWe will be hosting a special evening for a limited amount of couples.  We will have a four-course meal\, each course specially paired with different wines.  We will also have the lovely piano sounds of Wendy Landon.
URL:https://iloveov.com/oro-valley-event/the-hoppy-vine-valentines-day-special/
LOCATION:The Hoppy Vine\, 12125 N Oracle Rd\, #137\, Oro Valley\, Arizona\, 85737
CATEGORIES:Live Music
END:VEVENT
BEGIN:VEVENT
DTSTART;TZID=America/Phoenix:20250213T080000
DTEND;TZID=America/Phoenix:20250213T170000
DTSTAMP:20260422T163248
CREATED:20250201T181925Z
LAST-MODIFIED:20250201T181925Z
UID:10002077-1739433600-1739466000@iloveov.com
SUMMARY:The Hoppy Vine - Musical Bingo and AtEase Cookz Sonoran Dogs
DESCRIPTION:Welcome to The Hoppy Vine!  Open since 2021 in the Oro Valley Market Place\, we serve a variety of craft beers\, wines\, and non-alcoholic beverages.  We are kid and dog-friendly and love to share our space with family and friends.  Our dream is to create an environment where everyone can stop by and enjoy a refreshment of their liking. \nMusical Bingo 6:30 to 9:00
URL:https://iloveov.com/oro-valley-event/the-hoppy-vine-musical-bingo-and-atease-cookz-sonoran-dogs-2/2025-02-13/
LOCATION:The Hoppy Vine\, 12125 N Oracle Rd\, #137\, Oro Valley\, Arizona\, 85737
CATEGORIES:Live Music
END:VEVENT
BEGIN:VEVENT
DTSTART;TZID=America/Phoenix:20250212T080000
DTEND;TZID=America/Phoenix:20250212T170000
DTSTAMP:20260422T163248
CREATED:20250130T232932Z
LAST-MODIFIED:20250130T233336Z
UID:10002068-1739347200-1739379600@iloveov.com
SUMMARY:The Hoppy Vine - Wine Not Wednesday
DESCRIPTION:Welcome to The Hoppy Vine!  Open since 2021 in the Oro Valley Market Place\, we serve a variety of craft beers\, wines\, and non-alcoholic beverages.  We are kid and dog-friendly and love to share our space with family and friends.  Our dream is to create an environment where everyone can stop by and enjoy a refreshment of their liking. \nAll-day Wine Specials.  15% off all bottles of wine\,  $2 off during Happy Hour\, Charcuterie Board and Wine specials
URL:https://iloveov.com/oro-valley-event/the-hoppy-vine-wine-not-wednesday-3/2025-02-12/
LOCATION:The Hoppy Vine\, 12125 N Oracle Rd\, #137\, Oro Valley\, Arizona\, 85737
END:VEVENT
BEGIN:VEVENT
DTSTART;TZID=America/Phoenix:20250211T180000
DTEND;TZID=America/Phoenix:20250211T210000
DTSTAMP:20260422T163248
CREATED:20250130T222840Z
LAST-MODIFIED:20250130T223010Z
UID:10002064-1739296800-1739307600@iloveov.com
SUMMARY:Musical Trivia and AtEase Cookz for Taco Tuesday
DESCRIPTION:Welcome to The Hoppy Vine!  Open since 2021 in the Oro Valley Market Place\, we serve a variety of craft beers\, wines\, and non-alcoholic beverages.  We are kid and dog-friendly and love to share our space with family and friends.  Our dream is to create an environment where everyone can stop by and enjoy a refreshment of their liking. \n  \n 
URL:https://iloveov.com/oro-valley-event/musical-trivia-and-atease-cookz-for-taco-tuesday-2/2025-02-11/
LOCATION:The Hoppy Vine\, 12125 N Oracle Rd\, #137\, Oro Valley\, Arizona\, 85737
CATEGORIES:Live Music
END:VEVENT
BEGIN:VEVENT
DTSTART;TZID=America/Phoenix:20250211T053000
DTEND;TZID=America/Phoenix:20250211T210000
DTSTAMP:20260422T163248
CREATED:20250201T180725Z
LAST-MODIFIED:20250201T180725Z
UID:10002073-1739251800-1739307600@iloveov.com
SUMMARY:The Hoppy Vine - Musical Bingo and  AtEase Cooks
DESCRIPTION:Welcome to The Hoppy Vine!  Open since 2021 in the Oro Valley Market Place\, we serve a variety of craft beers\, wines\, and non-alcoholic beverages.  We are kid and dog-friendly and love to share our space with family and friends.  Our dream is to create an environment where everyone can stop by and enjoy a refreshment of their liking. \nAtease Cooks Food Truck 5:30 to 8:00 \nMusical Trivia 6:30 to 9:00
URL:https://iloveov.com/oro-valley-event/the-hoppy-vine-musical-bingo-and-atease-cooks/2025-02-11/
LOCATION:The Hoppy Vine\, 12125 N Oracle Rd\, #137\, Oro Valley\, Arizona\, 85737
CATEGORIES:Live Music
END:VEVENT
BEGIN:VEVENT
DTSTART;TZID=America/Phoenix:20250207T173000
DTEND;TZID=America/Phoenix:20250207T200000
DTSTAMP:20260422T163248
CREATED:20250201T181248Z
LAST-MODIFIED:20250201T181259Z
UID:10002076-1738949400-1738958400@iloveov.com
SUMMARY:The Hoppy Vine - Sean Lewis and Muncheez Food Truck
DESCRIPTION:Welcome to The Hoppy Vine!  Open since 2021 in the Oro Valley Market Place\, we serve a variety of craft beers\, wines\, and non-alcoholic beverages.  We are kid and dog-friendly and love to share our space with family and friends.  Our dream is to create an environment where everyone can stop by and enjoy a refreshment of their liking. \nMuncheez Food Truck 5:30 to 8:00 \nSeah Lewis 6:00 to 8:00
URL:https://iloveov.com/oro-valley-event/the-hoppy-vine-sean-lewis-and-muncheez-food-truck/
LOCATION:The Hoppy Vine\, 12125 N Oracle Rd\, #137\, Oro Valley\, Arizona\, 85737
CATEGORIES:Live Music
END:VEVENT
BEGIN:VEVENT
DTSTART;TZID=America/Phoenix:20250205T080000
DTEND;TZID=America/Phoenix:20250205T170000
DTSTAMP:20260422T163248
CREATED:20250130T232932Z
LAST-MODIFIED:20250130T233336Z
UID:10002067-1738742400-1738774800@iloveov.com
SUMMARY:The Hoppy Vine - Wine Not Wednesday
DESCRIPTION:Welcome to The Hoppy Vine!  Open since 2021 in the Oro Valley Market Place\, we serve a variety of craft beers\, wines\, and non-alcoholic beverages.  We are kid and dog-friendly and love to share our space with family and friends.  Our dream is to create an environment where everyone can stop by and enjoy a refreshment of their liking. \nAll-day Wine Specials.  15% off all bottles of wine\,  $2 off during Happy Hour\, Charcuterie Board and Wine specials
URL:https://iloveov.com/oro-valley-event/the-hoppy-vine-wine-not-wednesday-3/2025-02-05/
LOCATION:The Hoppy Vine\, 12125 N Oracle Rd\, #137\, Oro Valley\, Arizona\, 85737
END:VEVENT
END:VCALENDAR