BEGIN:VCALENDAR
VERSION:2.0
PRODID:-//ILoveOV.com - ECPv6.11.1//NONSGML v1.0//EN
CALSCALE:GREGORIAN
METHOD:PUBLISH
X-ORIGINAL-URL:https://iloveov.com
X-WR-CALDESC:Events for ILoveOV.com
REFRESH-INTERVAL;VALUE=DURATION:PT1H
X-Robots-Tag:noindex
X-PUBLISHED-TTL:PT1H
BEGIN:VTIMEZONE
TZID:America/Phoenix
BEGIN:STANDARD
TZOFFSETFROM:-0700
TZOFFSETTO:-0700
TZNAME:MST
DTSTART:20240101T000000
END:STANDARD
END:VTIMEZONE
BEGIN:VEVENT
DTSTART;TZID=America/Phoenix:20241119T080000
DTEND;TZID=America/Phoenix:20241119T090000
DTSTAMP:20260422T120810
CREATED:20241112T174423Z
LAST-MODIFIED:20241112T174424Z
UID:10001866-1732003200-1732006800@iloveov.com
SUMMARY:Retail Theft Round Table
DESCRIPTION:Help Combat Retail Theft: Community Strategy Session \nJoin local business owners to develop practical solutions for preventing and addressing retail theft in our area. Your experience and input will help shape effective protection strategies for our business community.
URL:https://iloveov.com/oro-valley-event/retail-theft-round-table-3/
LOCATION:Town of Oro Valley Council Chambers\, Oro Valley Town Hall\, 11000 N La Cañada Drive\, Oro Valley\, AZ\, 85737\, United States
CATEGORIES:OV Chamber of Commerce
END:VEVENT
BEGIN:VEVENT
DTSTART;TZID=America/Phoenix:20241114T170000
DTEND;TZID=America/Phoenix:20241114T190000
DTSTAMP:20260422T120810
CREATED:20241111T215557Z
LAST-MODIFIED:20241111T215850Z
UID:10001859-1731603600-1731610800@iloveov.com
SUMMARY:OV Chamber Evening Mixer with Integrative Touch
DESCRIPTION:Join the Oro Valley Chamber of Commerce for our November Evening Mixer! Network with local professionals and community leaders while enjoying a relaxed atmosphere. Don’t miss this opportunity to make valuable business connections!
URL:https://iloveov.com/oro-valley-event/ov-chamber-evening-mixer-with-integrative-touch/
LOCATION:Integravtive Touch\, 7493 N Oracle Rd\, Suite 103\, Oro Valley\, Arizona\, 85704
CATEGORIES:OV Chamber of Commerce
END:VEVENT
BEGIN:VEVENT
DTSTART;TZID=America/Phoenix:20241113T170000
DTEND;TZID=America/Phoenix:20241113T180000
DTSTAMP:20260422T120810
CREATED:20241030T210143Z
LAST-MODIFIED:20241030T210236Z
UID:10001833-1731517200-1731520800@iloveov.com
SUMMARY:Gen Z Commitee Meeting
DESCRIPTION:Join the Oro Valley Chamber of Commerce for the next Gen Z Committee meeting! Are you Gen Z and want to make friends and business connections that are your age? Please join us for a fun hour of connection after work. Everyone (under 30) is welcome to attend!
URL:https://iloveov.com/oro-valley-event/gen-z-commitee-meeting/
LOCATION:Oro Valley Country Club\, 1300 W. Greenock Drive\, Oro Valley\, Arizona\, 85737
CATEGORIES:OV Chamber of Commerce
END:VEVENT
BEGIN:VEVENT
DTSTART;TZID=America/Phoenix:20241112T170000
DTEND;TZID=America/Phoenix:20241112T190000
DTSTAMP:20260422T120810
CREATED:20241111T214847Z
LAST-MODIFIED:20241111T214847Z
UID:10001858-1731430800-1731438000@iloveov.com
SUMMARY:15 Year Anniversary Ribbon Cutting for My Gym Tucson and Sweet Repeats Children's Boutique
DESCRIPTION:Join the Oro Valley Chamber of Commerce as Chamber members My Gym Children’s Fitness Center and Sweet Repeats Children’s Resale Boutique celebrate their 15-year anniversaries with a joint ribbon cutting and open house celebration!
URL:https://iloveov.com/oro-valley-event/15-year-anniversary-ribbon-cutting-for-my-gym-tucson-and-sweet-repeats-childrens-boutique/
LOCATION:My Gym\, 7942 N Oracle Rd.\, Oro Valley\, Arizona\, 85704
END:VEVENT
BEGIN:VEVENT
DTSTART;TZID=America/Phoenix:20241112T080000
DTEND;TZID=America/Phoenix:20241112T170000
DTSTAMP:20260422T120810
CREATED:20241112T174922Z
LAST-MODIFIED:20241112T174922Z
UID:10001867-1731398400-1731430800@iloveov.com
SUMMARY:Perk Before Work with Acacia IT
DESCRIPTION:Start your Friday right! Network with fellow Oro Valley Chamber of Commerce members at our Morning Mixer before your workday begins. Coffee\, connections\, and conversation await!
URL:https://iloveov.com/oro-valley-event/perk-before-work-with-acacia-it/
LOCATION:Oro Valley Country Club\, 1300 W. Greenock Drive\, Oro Valley\, Arizona\, 85737
CATEGORIES:OV Chamber of Commerce
END:VEVENT
BEGIN:VEVENT
DTSTART;TZID=America/Phoenix:20241031T090000
DTEND;TZID=America/Phoenix:20241031T230000
DTSTAMP:20260422T120810
CREATED:20241029T221434Z
LAST-MODIFIED:20241029T221435Z
UID:10001828-1730365200-1730415600@iloveov.com
SUMMARY:State of the Town Oro Valley Address\, Luncheon & Expo
DESCRIPTION:oin us for the landmark celebration of Oro Valley’s 50th Anniversary at our premier business gathering—the State of the Town! This Halloween\, be part of Southern Arizona’s largest municipal business event\, where vision meets opportunity.\nNetwork with over 700 business leaders and government officials while exploring an expansive expo featuring 70+ local businesses. Don’t miss the mayor’s keynote address highlighting our community’s achievements and unveiling exciting plans for Oro Valley’s future.\nThis golden anniversary celebration represents a half-century of growth\, innovation\, and community success. Be part of this historic moment as we honor our past and shape our future together.\nEvent Highlights: \n70+ Business Exhibition Booths\nNetworking with Regional Leaders\nMayor’s State of the Town Address\n50th Anniversary Commemorative Program \nReserve your spot for this milestone event in Oro Valley’s history!
URL:https://iloveov.com/oro-valley-event/state-of-the-town-oro-valley-address-luncheon-expo/
LOCATION:El Conquistador Tucson\, A Hilton Resort\, 10000 N Oracle Rd\, Oro Valley\, AZ\, 85737\, United States
CATEGORIES:Community Events,OV Chamber of Commerce
END:VEVENT
BEGIN:VEVENT
DTSTART;TZID=America/Phoenix:20241025T083000
DTEND;TZID=America/Phoenix:20241025T093000
DTSTAMP:20260422T120810
CREATED:20241015T213734Z
LAST-MODIFIED:20241015T213845Z
UID:10001801-1729845000-1729848600@iloveov.com
SUMMARY:Ground Breaking for Pain Institute of Southern Arizona
DESCRIPTION:Join the Oro Valley Chamber of Commerce at the ground breaking for Pain Institute of Southern Arizona.
URL:https://iloveov.com/oro-valley-event/ground-breaking-for-pain-institute-of-southern-arizona/
CATEGORIES:OV Chamber of Commerce
END:VEVENT
BEGIN:VEVENT
DTSTART;TZID=America/Phoenix:20241024T170000
DTEND;TZID=America/Phoenix:20241024T210000
DTSTAMP:20260422T120810
CREATED:20241009T185546Z
LAST-MODIFIED:20241009T185609Z
UID:10001783-1729789200-1729803600@iloveov.com
SUMMARY:Grand Opening and Ribbon Cutting for Bloom Salon's new location
DESCRIPTION:Please join the Oro Valley Chamber of Commerce for the ribbon cutting and grand opening of Bloom Salon’s new location! We’re thrilled to welcome and celebrate this new member of the Chamber. There will be food\, prizes\, and music\, so don’t miss out!
URL:https://iloveov.com/oro-valley-event/grand-opening-and-ribbon-cutting-for-bloom-salons-new-location/
LOCATION:Plaza Colonial\, 2870 E Skyline Dr.
END:VEVENT
BEGIN:VEVENT
DTSTART;TZID=America/Phoenix:20241020T120000
DTEND;TZID=America/Phoenix:20241020T150000
DTSTAMP:20260422T120810
CREATED:20241015T212055Z
LAST-MODIFIED:20241015T212107Z
UID:10001799-1729425600-1729436400@iloveov.com
SUMMARY:Blue Diamond Beauty Bar Ribbon Cutting and Grand Opening
DESCRIPTION:Join the OV Chamber of Commerce for the grand opening of Blue Diamond Beauty Bar! Meet the team\, view the building and enter into the raffle for prizes.
URL:https://iloveov.com/oro-valley-event/blue-diamond-beauty-bar-ribbon-cutting-and-grand-opening/
LOCATION:Blue Diamond beauty bar\, 2295 W. Magee Road\, Suite 106\, Oro Valley\, AZ\, 85737\, United States
CATEGORIES:OV Chamber of Commerce
END:VEVENT
BEGIN:VEVENT
DTSTART;TZID=America/Phoenix:20241015T080000
DTEND;TZID=America/Phoenix:20241015T170000
DTSTAMP:20260422T120810
CREATED:20241015T212616Z
LAST-MODIFIED:20241015T213436Z
UID:10001800-1728979200-1729011600@iloveov.com
SUMMARY:Grand Re-Opening and Ribbon Cutting for Desert Springs Gracious Retirement Living
DESCRIPTION:Join the OV Chamber of Commerce for the grand re-opening of Desert Springs Gracious Retirement Living! We’ll cut the ribbon at 2:15.
URL:https://iloveov.com/oro-valley-event/grand-re-opening-and-ribbon-cutting-for-desert-springs-gracious-retirement-living/
CATEGORIES:OV Chamber of Commerce
END:VEVENT
BEGIN:VEVENT
DTSTART;TZID=America/Phoenix:20241013T114500
DTEND;TZID=America/Phoenix:20241013T123000
DTSTAMP:20260422T120810
CREATED:20241009T185134Z
LAST-MODIFIED:20241009T185154Z
UID:10001782-1728819900-1728822600@iloveov.com
SUMMARY:Grand Opening and Ribbon Cutting for Elite Theater Academy
DESCRIPTION:Join the Oro Valley Chamber of Commerce to cut the ribbon and celebrate the grand opening of Elite Theater Academy! We’ll set the ribbon flying at 11:45 a.m.
URL:https://iloveov.com/oro-valley-event/grand-opening-and-ribbon-cutting-for-elite-theater-academy/
LOCATION:Elite Theater Academy\, 12142 N. Rancho Vistoso Blvd\, Oro Valley\, AZ\, 85737\, United States
CATEGORIES:OV Chamber of Commerce
END:VEVENT
BEGIN:VEVENT
DTSTART;TZID=America/Phoenix:20241011T080000
DTEND;TZID=America/Phoenix:20241011T100000
DTSTAMP:20260422T120810
CREATED:20241009T184131Z
LAST-MODIFIED:20241009T184132Z
UID:10001780-1728633600-1728640800@iloveov.com
SUMMARY:Perk Before Work with Kinghorn Law | Financial
DESCRIPTION:Join the OV Chamber for a morning mixer before you head into the office and get the chance to learn from and grow with other community members. There’s no better way to start your Friday than with Al Gusto coffee\, Beyond Bread Pastries\, and the amazing folks at Kinghorn Law.
URL:https://iloveov.com/oro-valley-event/perk-before-work-with-kinghorn-law-financial/
LOCATION:Kinghorn Law\, 3573 E. Sunrise Dr.\, Suite 209\, Tucson\, Arizona\, 85718
CATEGORIES:OV Chamber of Commerce
END:VEVENT
BEGIN:VEVENT
DTSTART;TZID=America/Phoenix:20241009T080000
DTEND;TZID=America/Phoenix:20241009T170000
DTSTAMP:20260422T120810
CREATED:20241009T184605Z
LAST-MODIFIED:20241009T184617Z
UID:10001781-1728460800-1728493200@iloveov.com
SUMMARY:Grand Opening and Ribbon Cutting for Lux Lab Aesthetics
DESCRIPTION:Join the OV Chamber of Commerce to cut the ribbon on Lux Lab Aesthetics\, a new med spa in Oro Valley. There will be refreshments\, treats\, and giveaways offered at this ribbon cutting.
URL:https://iloveov.com/oro-valley-event/grand-opening-and-ribbon-cutting-for-lux-lab-aesthetics/
LOCATION:Lux Lab Aesthetics\, 7790 N. Oracle Road\, 100\, Oro Valley\, AZ\, United States
CATEGORIES:OV Chamber of Commerce
END:VEVENT
BEGIN:VEVENT
DTSTART;TZID=America/Phoenix:20240925T130000
DTEND;TZID=America/Phoenix:20240925T140000
DTSTAMP:20260422T120810
CREATED:20240909T215123Z
LAST-MODIFIED:20240909T215123Z
UID:10001746-1727269200-1727272800@iloveov.com
SUMMARY:OV Chamber of Commerce - Wisdom Wednesdar
DESCRIPTION:Join the Oro Valley Chamber of Commerce for an afternoon of inspiration and learning. WebMo will lead a Social Media Marketing workshop for us\, so don’t miss out!
URL:https://iloveov.com/oro-valley-event/ov-chamber-of-commerce-wisdom-wednesdar/
CATEGORIES:OV Chamber of Commerce
END:VEVENT
BEGIN:VEVENT
DTSTART;TZID=America/Phoenix:20240918T170000
DTEND;TZID=America/Phoenix:20240918T180000
DTSTAMP:20260422T120810
CREATED:20240909T214400Z
LAST-MODIFIED:20240909T214401Z
UID:10001744-1726678800-1726682400@iloveov.com
SUMMARY:Gen Z Committe Meeting
DESCRIPTION:Gen Z Networking and Retirement Planning Event \nOro Valley Chamber of Commerce and Schulz Financial Group invite you to our September Gen Z Committee meeting! \nFeatured Speaker: Laurel Campbell on retirement planning \nAre you under 30 and looking to expand your social and professional network? Join us for an engaging hour of connection after work. This event is perfect for Gen Z individuals seeking to make friends and business contacts in their age group. \nAll Gen Z attendees are welcome!
URL:https://iloveov.com/oro-valley-event/gen-z-committe-meeting/
LOCATION:Schultz Financial Group\, 6849 N. Oracle Rd\, 175\, Oro Valley\, AZ\, 85704\, United States
CATEGORIES:OV Chamber of Commerce
END:VEVENT
BEGIN:VEVENT
DTSTART;TZID=America/Phoenix:20240917T170000
DTEND;TZID=America/Phoenix:20240917T183000
DTSTAMP:20260422T120810
CREATED:20240909T213754Z
LAST-MODIFIED:20240909T213804Z
UID:10001743-1726592400-1726597800@iloveov.com
SUMMARY:OV Chamber of Commerce Ribbon Cutting Northwest Healthcare Urgent Care
DESCRIPTION:Join the Oro Valley Chamber of Commerce for a ribbon cutting and open house at Northwest Healthcare’s new Urgent Care in Oro Valley. The ribbon will be cut at 5:10\, and tours will commence afterward.
URL:https://iloveov.com/oro-valley-event/ov-chamber-of-commerce-ribbon-cutting-northwest-healthcare-urgent-care/
LOCATION:Northwest Healthcare Urgent Care\, 10568 N. Oracle Road\, 110\, Oro Valley\, AZ\, 85737\, United States
CATEGORIES:OV Chamber of Commerce
END:VEVENT
BEGIN:VEVENT
DTSTART;TZID=America/Phoenix:20240914T080000
DTEND;TZID=America/Phoenix:20240914T083000
DTSTAMP:20260422T120810
CREATED:20240910T152913Z
LAST-MODIFIED:20240910T153233Z
UID:10001747-1726300800-1726302600@iloveov.com
SUMMARY:Grand Opening and Ribbon Cutting for Pet Supplies Plus
DESCRIPTION:Join the Oro Valley Chamber of Commerce member Pet Supplies Plus for its Grand Opening and Ribbon Cutting! We will meet at Pet Supplies Plus to cut the ribbon at 8 a.m.\, and there will be deals throughout the day at the store. \nSee Grand Opening specials for Pet Supplies Plus. \nPet Supplies Plus Grand Opening Flyer
URL:https://iloveov.com/oro-valley-event/grand-opening-and-ribbon-cutting-for-pet-supplies-plus/
LOCATION:Pet Supplies Plus\, 10540 N La Canada Dr.\, Oro Valley\, Arizona
CATEGORIES:OV Chamber of Commerce
END:VEVENT
BEGIN:VEVENT
DTSTART;TZID=America/Phoenix:20240912T170000
DTEND;TZID=America/Phoenix:20240912T190000
DTSTAMP:20260422T120810
CREATED:20240827T201032Z
LAST-MODIFIED:20240904T181655Z
UID:10001689-1726160400-1726167600@iloveov.com
SUMMARY:OV Chamber - Evening Mixer with Simpleview
DESCRIPTION:Join the Oro Valley Chamber of Commerce for their September evening mixer! Connect with fellow professionals\, entrepreneurs\, and community leaders in a relaxed and welcoming atmosphere. Our evening mixers are designed to provide the perfect backdrop for meaningful conversations. Come unwind\, mingle\, and build lasting connections at our upcoming evening mixer – the premier networking event you won’t want to miss!
URL:https://iloveov.com/oro-valley-event/evening-mixer-with-simpleview/
LOCATION:Simpleview\, 8950 N. Oracle Road\, Oro Valley\, 85704
CATEGORIES:OV Chamber of Commerce
END:VEVENT
BEGIN:VEVENT
DTSTART;TZID=America/Phoenix:20240909T080000
DTEND;TZID=America/Phoenix:20240909T170000
DTSTAMP:20260422T120810
CREATED:20240909T214803Z
LAST-MODIFIED:20240909T214803Z
UID:10001745-1725868800-1725901200@iloveov.com
SUMMARY:OV Chamber of Commerce - New Member Orientation
DESCRIPTION:Join the Oro Valley Chamber of Commerce for New Member Orientation\, our quarterly Chamber gathering and refresher hosted by Gold member El Conquistador Tucson\, a Hilton Resort. It’s free! We limit attendance to 25. Come learn about the Chamber\, refresh your membership\, meet some people\, and enjoy complimentary coffee and breakfast bites courtesy of El Conquistador Tucson. \nContact the Chamber for reservations.
URL:https://iloveov.com/oro-valley-event/ov-chamber-of-commerce-new-member-orientation/
CATEGORIES:OV Chamber of Commerce
END:VEVENT
BEGIN:VEVENT
DTSTART;TZID=America/Phoenix:20240829T170000
DTEND;TZID=America/Phoenix:20240829T190000
DTSTAMP:20260422T120810
CREATED:20240827T200130Z
LAST-MODIFIED:20240827T200131Z
UID:10001688-1724950800-1724958000@iloveov.com
SUMMARY:Evening Mixer with Splendido at Rancho Vistoso
DESCRIPTION:Join us for our August evening mixer! Splendido will be raffling off dinner or brunch for two at their newly renovated Alonzo’s restaurant and a bottle of wine. On the menu for the evening is a variety of tasty appetizers like shrimp cocktail\, charcuterie\, turkey pinwheels\, and a variety of desserts. Each attendee will receive one drink ticket. \nComplimentary valet parking is provided\, please take advantage of it as parking is limited. \nThere will also be a cash bar\, no cards\, please!
URL:https://iloveov.com/oro-valley-event/evening-mixer-with-splendido-at-rancho-vistoso/
LOCATION:Splendido Rancho Vistoso\, 13500 N. Rancho Vistoso Blvd.\, Oro Valley\, AZ\, 85755\, United States
CATEGORIES:OV Chamber of Commerce
END:VEVENT
BEGIN:VEVENT
DTSTART;TZID=America/Phoenix:20240813T073000
DTEND;TZID=America/Phoenix:20240813T103000
DTSTAMP:20260422T120810
CREATED:20240703T215726Z
LAST-MODIFIED:20240703T221652Z
UID:10001610-1723534200-1723545000@iloveov.com
SUMMARY:Annual Meeting and Awards Breakfast
DESCRIPTION:Oro Valley Chamber of Commerce Annual Meeting and Awards Breakfast \nDate: Tuesday\, August 13th \nSchedule: 7:30 AM – Nonprofit Fair opens 9:00 AM – Program begins \nEvent Details: \n\nBuffet breakfast available (closes at 9:00 AM)\nCommunity nonprofit showcase\nLimited space available\n\nLocation: [To be added – not provided in original text] \nTicket Information: \n\nEarly bird pricing is available until July 29th\nPrices increase by $10 after July 29th\nTicket sales close on Friday\, August 9th\n\nImportant Notes: \n\nArrive early to allow time for parking and visiting the Nonprofit Fair\nThe buffet closes when the program begins at 9:00 AM\n\nTo Purchase Tickets: [Add link or contact information] \nThe Oro Valley Chamber of Commerce invites you to join this celebration of local business and community achievements. Don’t miss this opportunity to network and support local nonprofits while enjoying a delicious breakfast.
URL:https://iloveov.com/oro-valley-event/annual-meeting-and-awards-breakfast/
LOCATION:El Conquistador Tucson\, A Hilton Resort\, 10000 N Oracle Rd\, Oro Valley\, AZ\, 85737\, United States
CATEGORIES:OV Chamber of Commerce
END:VEVENT
BEGIN:VEVENT
DTSTART;TZID=America/Phoenix:20240802T080000
DTEND;TZID=America/Phoenix:20240802T100000
DTSTAMP:20260422T120810
CREATED:20240703T215004Z
LAST-MODIFIED:20240703T215026Z
UID:10001609-1722585600-1722592800@iloveov.com
SUMMARY:Perk Before Work with Tucson Federal Credit
DESCRIPTION:Join the Oro Valley Chamber of Commerce for a morning mixer before you head into the office and get the chance to learn from and grow with other community members. There’s no better way to start your Friday!
URL:https://iloveov.com/oro-valley-event/perk-before-work-with-tucson-federal-credit/
LOCATION:Tucson Federal Credit Union\, 7216 N Oracle Rd\, Tucson\, Arizona\, 85704-6303
END:VEVENT
BEGIN:VEVENT
DTSTART;TZID=America/Phoenix:20240724T170000
DTEND;TZID=America/Phoenix:20240724T180000
DTSTAMP:20260422T120810
CREATED:20240703T214519Z
LAST-MODIFIED:20240703T214606Z
UID:10001608-1721840400-1721844000@iloveov.com
SUMMARY:Gen Z Committee Meeting
DESCRIPTION:Please join us for the July Gen Z Committee meeting! Are you Gen Z and wanting to make friends and business connections that are your age? Please join us for a fun hour of connection after work. Everyone (under 30) is welcome to attend!
URL:https://iloveov.com/oro-valley-event/gen-z-committee-meeting/
LOCATION:One AZ Credit Union\, 10718 N Oracle Rd.\, Oro Valley\, AZ\, 85735\, United States
END:VEVENT
BEGIN:VEVENT
DTSTART;TZID=America/Phoenix:20240711T170000
DTEND;TZID=America/Phoenix:20240711T190000
DTSTAMP:20260422T120810
CREATED:20240624T235441Z
LAST-MODIFIED:20240624T235442Z
UID:10001591-1720717200-1720724400@iloveov.com
SUMMARY:OV Chamber Evening Mixer with Stacks Book Club
DESCRIPTION:Join the Oro Valley Chamber of Commerce for thier July evening mixer! Our evening mixers are designed to provide the perfect backdrop for meaningful conversations and the opportunity to discover new opportunities. Don’t miss out on your chance to win exciting door prizes\, adding an extra element of fun to an already fantastic evening. Come unwind\, mingle\, and build lasting connections at our upcoming evening mixer – the premier networking event you won’t want to miss! The Oro Valley Chamber of Commerce looks forward to hosting you at this vibrant gathering of local professionals and business leaders.
URL:https://iloveov.com/oro-valley-event/ov-chamber-evening-mixer-with-stacks-book-club/
LOCATION:Stacks Book Club\, 1880 E Tangerine Rd Suite 140\, Oro Valley\, AZ\, 85737\, United States
CATEGORIES:OV Chamber of Commerce
END:VEVENT
BEGIN:VEVENT
DTSTART;TZID=America/Phoenix:20240626T130000
DTEND;TZID=America/Phoenix:20240626T140000
DTSTAMP:20260422T120810
CREATED:20240601T194707Z
LAST-MODIFIED:20240601T195814Z
UID:10001540-1719406800-1719410400@iloveov.com
SUMMARY:Wisdom Wednesday with Oro Valley Audiology
DESCRIPTION:Dive into a world of knowledge and growth at the Oro Valley Chamber of Commerce’s Wisdom Wednesdays! Judy Huch will lead a workshop on protecting your hearing. We’ll see you there!
URL:https://iloveov.com/oro-valley-event/wisdom-wednesday-with-oro-valley-audiology/
LOCATION:Oro Valley Chamber of Commerce\, 1822 E. Innovation Park Drive\, Oro Valley\, 85755\, United States
CATEGORIES:OV Chamber of Commerce
END:VEVENT
BEGIN:VEVENT
DTSTART;TZID=America/Phoenix:20240620T080000
DTEND;TZID=America/Phoenix:20240620T100000
DTSTAMP:20260422T120810
CREATED:20240601T194421Z
LAST-MODIFIED:20240601T194421Z
UID:10001539-1718870400-1718877600@iloveov.com
SUMMARY:Mayor Steve Engle Memorial Scholarship Breakfast
DESCRIPTION:Please join us on Thursday\, June 20\, at the Westward Look Wyndham Grand Resort and Spa for an Awards Breakfast to recognize outstanding young scholarship recipients and their families. The breakfast buffet begins at 8 a.m.\, and the program starts promptly at 8:30 a.m. Please arrive plenty of time to park\, go through the buffet line\, and be seated for the program to begin at 8:30 a.m.
URL:https://iloveov.com/oro-valley-event/mayor-steve-engle-memorial-scholarship-breakfast-2/
LOCATION:Westward Look Wyndam Resort & Spa\, 245 E. Ina\, Tucson\, AZ\, 85704\, United States
CATEGORIES:OV Chamber of Commerce
END:VEVENT
BEGIN:VEVENT
DTSTART;TZID=America/Phoenix:20240606T170000
DTEND;TZID=America/Phoenix:20240606T190000
DTSTAMP:20260422T120810
CREATED:20240529T210633Z
LAST-MODIFIED:20240529T210634Z
UID:10001534-1717693200-1717700400@iloveov.com
SUMMARY:Evening Mixer with Oro Valley Hospital
DESCRIPTION:The Oro Valley Chamber of Commerce is hosting a mixer in June at the Oro Valley Hospital! Connect with fellow professionals\, entrepreneurs\, and community leaders in a relaxed and welcoming atmosphere. Enjoy delicious bites and refreshing beverages as you network. Our evening mixers provide the perfect setting for meaningful conversations and discovering new opportunities. Don’t miss your chance to win exciting door prizes\, adding an extra element of fun to an already fantastic evening. Come unwind\, mingle\, and build lasting connections at our upcoming evening mixer – the premier networking event you won’t want to miss!
URL:https://iloveov.com/oro-valley-event/evening-mixer-with-oro-valley-hospital/
LOCATION:Oro Valley Hospital\, 1551 E. Tangerine Road\, Oro Valley\, AZ\, 85737\, United States
CATEGORIES:OV Chamber of Commerce
END:VEVENT
BEGIN:VEVENT
DTSTART;TZID=America/Phoenix:20240529T173000
DTEND;TZID=America/Phoenix:20240529T173000
DTSTAMP:20260422T120810
CREATED:20240426T211136Z
LAST-MODIFIED:20240426T211137Z
UID:10001431-1717003800-1717003800@iloveov.com
SUMMARY:Gen Z Committee
DESCRIPTION:The Oro Valley Chamber is launching the Gen Z Committee\, a fresh networking opportunity tailored for members typically aged 30 or under. Events Director Makenna Markley\, herself a proud Gen Z representative\, is orchestrating the inaugural gathering\, which will be hosted at Chamber member Stacks Book Club on the west side of Oro Valley Marketplace on Wednesday\, May 29\, at 5:30 p.m. \nAttendance is free\, and delectable treats will be available for purchase. “This networking group is crafted specifically for Gen Z\, encompassing individuals aged 12-29\, although we’re simplifying it to under 30!” Makenna highlighted. \nReflecting on the challenges posed by the COVID-19 pandemic\, Makenna remarked\, “Our generation has entered the workforce amidst unprecedented circumstances\, lacking some of the socialization opportunities that previous generations enjoyed. This space is our chance to convene\, share experiences\, and offer support. I’m genuinely thrilled to foster new connections and friendships through this initiative!” \nFor inquiries\, reach out to Makenna at makenna@orovalleychamber.com.
URL:https://iloveov.com/oro-valley-event/gen-z-committee/
LOCATION:Stacks Book Club\, 1880 E Tangerine Rd Suite 140\, Oro Valley\, AZ\, 85737\, United States
CATEGORIES:OV Chamber of Commerce
END:VEVENT
BEGIN:VEVENT
DTSTART;TZID=America/Phoenix:20240523T170000
DTEND;TZID=America/Phoenix:20240523T190000
DTSTAMP:20260422T120810
CREATED:20240426T214524Z
LAST-MODIFIED:20240426T214608Z
UID:10001435-1716483600-1716490800@iloveov.com
SUMMARY:Evening Mixer with The Post Workspaces
DESCRIPTION:Come and be a part of our captivating May evening mixer! Engage with peers\, entrepreneurs\, and local influencers in a laid-back and friendly setting. Indulge in delicious treats and cool beverages while forging new connections. Our mixers are crafted to facilitate meaningful discussions and unveil fresh prospects. Be sure not to skip the chance to win thrilling door prizes\, elevating the excitement of the evening. Join the Oro Valley Chamber of Commerce to relax\, socialize\, and foster enduring relationships at our upcoming evening mixer – the ultimate networking affair you simply can’t afford to overlook!
URL:https://iloveov.com/oro-valley-event/evening-mixer-with-the-post-workspaces-2/
LOCATION:The Post Workspaces\, 7400 N.Oracle Road\, Oro Valley\, AZ\, 85737\, United States
CATEGORIES:OV Chamber of Commerce
END:VEVENT
BEGIN:VEVENT
DTSTART;TZID=America/Phoenix:20240515T130000
DTEND;TZID=America/Phoenix:20240515T140000
DTSTAMP:20260422T120810
CREATED:20240426T214049Z
LAST-MODIFIED:20240426T214049Z
UID:10001434-1715778000-1715781600@iloveov.com
SUMMARY:Wisdom Wednesday with the University of Arizona
DESCRIPTION:Immerse yourself in a world of knowledge and personal growth at our Wisdom Wednesdays! Members of the Oro Valley Chamber of Commerce bring insights from experts across various fields\, all aimed at helping you grow personally and professionally. From business strategies to personal development\, join us for an afternoon of inspiration and learning. Make a commitment to your growth\, because every Wisdom Wednesday is a step closer to a wiser\, more empowered you!
URL:https://iloveov.com/oro-valley-event/wisdom-wednesday-with-the-university-of-arizona/
LOCATION:Oro Valley Chamber of Commerce\, 1822 E. Innovation Park Drive\, Oro Valley\, 85755\, United States
CATEGORIES:OV Chamber of Commerce
END:VEVENT
END:VCALENDAR