BEGIN:VCALENDAR
VERSION:2.0
PRODID:-//ILoveOV.com - ECPv6.11.1//NONSGML v1.0//EN
CALSCALE:GREGORIAN
METHOD:PUBLISH
X-ORIGINAL-URL:https://iloveov.com
X-WR-CALDESC:Events for ILoveOV.com
REFRESH-INTERVAL;VALUE=DURATION:PT1H
X-Robots-Tag:noindex
X-PUBLISHED-TTL:PT1H
BEGIN:VTIMEZONE
TZID:America/Phoenix
BEGIN:STANDARD
TZOFFSETFROM:-0700
TZOFFSETTO:-0700
TZNAME:MST
DTSTART:20240101T000000
END:STANDARD
END:VTIMEZONE
BEGIN:VEVENT
DTSTART;TZID=America/Phoenix:20240914T120000
DTEND;TZID=America/Phoenix:20240914T150000
DTSTAMP:20260422T014322
CREATED:20240830T154247Z
LAST-MODIFIED:20240830T154656Z
UID:10001702-1726315200-1726326000@iloveov.com
SUMMARY:Joe Merrell\, The Art of Dying Well
DESCRIPTION:New gallery exhibition by Joe Merrell\, The Art of Dying Well.  Joe Merrell was born and raised in the Pacific Northwest. He studied philosophy and English literature at the Evergreen State College in Olympia\, Washington and earned an MFA at CalArts in Valencia\, California. Currently based in Los Angeles\, he makes art in various mediums – video\, print\, sculpture\, scent\, installation – for exhibition in galleries\, festivals\, museums in North America\, Europe\, and most recently New Zealand. The Art of Dying Well features a range of work exploring themes of perception\, the supernatural\, life and death. This includes a 3d-printed wall hanging\, sculpture\, edition prints\, video\, as well as two artist-made perfumes available for purchase in limited quantities. This show in the Oro Valley is Merrell’s first in Arizona. \nPlease join us for the opening reception!
URL:https://iloveov.com/oro-valley-event/joe-merrell-the-art-of-dying-well/
LOCATION:Artists and Makers Studio\, 11061 N. Oracle Road\, Studio 150\, Oro Valley\, AZ\, 85737\, United States
CATEGORIES:Artists&MakersStudios
END:VEVENT
END:VCALENDAR